BEGIN:VCALENDAR
VERSION:2.0
PRODID:-//City of Mountain Lake - ECPv5.14.0.1//NONSGML v1.0//EN
CALSCALE:GREGORIAN
METHOD:PUBLISH
X-WR-CALNAME:City of Mountain Lake
X-ORIGINAL-URL:https://mountainlakemn.com
X-WR-CALDESC:Events for City of Mountain Lake
REFRESH-INTERVAL;VALUE=DURATION:PT1H
X-Robots-Tag:noindex
X-PUBLISHED-TTL:PT1H
BEGIN:VTIMEZONE
TZID:America/Chicago
BEGIN:DAYLIGHT
TZOFFSETFROM:-0600
TZOFFSETTO:-0500
TZNAME:CDT
DTSTART:20260308T080000
END:DAYLIGHT
BEGIN:STANDARD
TZOFFSETFROM:-0500
TZOFFSETTO:-0600
TZNAME:CST
DTSTART:20261101T070000
END:STANDARD
BEGIN:DAYLIGHT
TZOFFSETFROM:-0600
TZOFFSETTO:-0500
TZNAME:CDT
DTSTART:20270314T080000
END:DAYLIGHT
BEGIN:STANDARD
TZOFFSETFROM:-0500
TZOFFSETTO:-0600
TZNAME:CST
DTSTART:20271107T070000
END:STANDARD
END:VTIMEZONE
BEGIN:VEVENT
DTSTART;TZID=America/Chicago:20261019T120000
DTEND;TZID=America/Chicago:20261019T130000
DTSTAMP:20260419T092721
CREATED:20220202T205527Z
LAST-MODIFIED:20220202T205527Z
UID:4794-1792411200-1792414800@mountainlakemn.com
SUMMARY:EDA Board Meeting
DESCRIPTION:The seven member authority carries out economic\, housing and industrial development and redevelopment within the City of Mountain Lake.
URL:https://mountainlakemn.com/event/eda-board-meeting-2025-12-15-2026-03-16/2026-10-19/
LOCATION:City Hall Council Chambers\, 930 Third Avenue\, Mountain Lake\, MN\, 56159
CATEGORIES:Meeting
END:VEVENT
BEGIN:VEVENT
DTSTART;TZID=America/Chicago:20261019T120000
DTEND;TZID=America/Chicago:20261019T130000
DTSTAMP:20260419T092721
CREATED:20220202T205527Z
LAST-MODIFIED:20260127T174204Z
UID:4580-1792411200-1792414800@mountainlakemn.com
SUMMARY:EDA Board Meeting
DESCRIPTION:The seven member authority carries out economic\, housing and industrial development and redevelopment within the City of Mountain Lake.
URL:https://mountainlakemn.com/event/eda-board-meeting-2025-12-15-2026-03-16/2026-10-19/
LOCATION:City Hall Council Chambers\, 930 Third Avenue\, Mountain Lake\, MN\, 56159
CATEGORIES:Meeting
END:VEVENT
BEGIN:VEVENT
DTSTART;TZID=America/Chicago:20261019T174500
DTEND;TZID=America/Chicago:20261019T210000
DTSTAMP:20260419T092721
CREATED:20220202T004521Z
LAST-MODIFIED:20220202T004521Z
UID:4848-1792431900-1792443600@mountainlakemn.com
SUMMARY:City Council Meeting
DESCRIPTION:Composed of a mayor and four council members. Council members serve for year terms; the mayor\, a two year term.
URL:https://mountainlakemn.com/event/city-council-meeting-2025-12-01/2026-10-19/
LOCATION:City Hall Council Chambers\, 930 Third Avenue\, Mountain Lake\, MN\, 56159
CATEGORIES:Meeting
END:VEVENT
BEGIN:VEVENT
DTSTART;TZID=America/Chicago:20261019T174500
DTEND;TZID=America/Chicago:20261019T210000
DTSTAMP:20260419T092721
CREATED:20220202T004521Z
LAST-MODIFIED:20260127T174020Z
UID:4650-1792431900-1792443600@mountainlakemn.com
SUMMARY:City Council Meeting
DESCRIPTION:Composed of a mayor and four council members. Council members serve for year terms; the mayor\, a two year term.
URL:https://mountainlakemn.com/event/city-council-meeting-2025-12-01/2026-10-19/
LOCATION:City Hall Council Chambers\, 930 Third Avenue\, Mountain Lake\, MN\, 56159
CATEGORIES:Meeting
END:VEVENT
BEGIN:VEVENT
DTSTART;TZID=America/Chicago:20261022T070000
DTEND;TZID=America/Chicago:20261022T080000
DTSTAMP:20260419T092721
CREATED:20220202T204046Z
LAST-MODIFIED:20220202T204046Z
UID:4702-1792652400-1792656000@mountainlakemn.com
SUMMARY:Utilities Commission Meeting
DESCRIPTION:The five member commission has charge of the administration\, maintenance and control of the water\, sewer and electrical utilities.
URL:https://mountainlakemn.com/event/utilities-commission-meeting/2026-10-22/
LOCATION:City Hall Council Chambers\, 930 Third Avenue\, Mountain Lake\, MN\, 56159
CATEGORIES:Meeting
END:VEVENT
BEGIN:VEVENT
DTSTART;TZID=America/Chicago:20261102T174500
DTEND;TZID=America/Chicago:20261102T210000
DTSTAMP:20260419T092721
CREATED:20220202T004521Z
LAST-MODIFIED:20260127T174020Z
UID:4519-1793641500-1793653200@mountainlakemn.com
SUMMARY:City Council Meeting
DESCRIPTION:Composed of a mayor and four council members. Council members serve for year terms; the mayor\, a two year term.
URL:https://mountainlakemn.com/event/city-council-meeting-2025-12-01/2026-11-02/
LOCATION:City Hall Council Chambers\, 930 Third Avenue\, Mountain Lake\, MN\, 56159
CATEGORIES:Meeting
END:VEVENT
BEGIN:VEVENT
DTSTART;TZID=America/Chicago:20261102T174500
DTEND;TZID=America/Chicago:20261102T210000
DTSTAMP:20260419T092721
CREATED:20220202T004521Z
LAST-MODIFIED:20220202T004521Z
UID:4827-1793641500-1793653200@mountainlakemn.com
SUMMARY:City Council Meeting
DESCRIPTION:Composed of a mayor and four council members. Council members serve for year terms; the mayor\, a two year term.
URL:https://mountainlakemn.com/event/city-council-meeting-2025-12-01/2026-11-02/
LOCATION:City Hall Council Chambers\, 930 Third Avenue\, Mountain Lake\, MN\, 56159
CATEGORIES:Meeting
END:VEVENT
BEGIN:VEVENT
DTSTART;TZID=America/Chicago:20261112T070000
DTEND;TZID=America/Chicago:20261112T080000
DTSTAMP:20260419T092721
CREATED:20220202T204046Z
LAST-MODIFIED:20220202T204046Z
UID:4703-1794466800-1794470400@mountainlakemn.com
SUMMARY:Utilities Commission Meeting
DESCRIPTION:The five member commission has charge of the administration\, maintenance and control of the water\, sewer and electrical utilities.
URL:https://mountainlakemn.com/event/utilities-commission-meeting/2026-11-12/
LOCATION:City Hall Council Chambers\, 930 Third Avenue\, Mountain Lake\, MN\, 56159
CATEGORIES:Meeting
END:VEVENT
BEGIN:VEVENT
DTSTART;TZID=America/Chicago:20261116T120000
DTEND;TZID=America/Chicago:20261116T130000
DTSTAMP:20260419T092721
CREATED:20220202T205527Z
LAST-MODIFIED:20220202T205527Z
UID:4795-1794830400-1794834000@mountainlakemn.com
SUMMARY:EDA Board Meeting
DESCRIPTION:The seven member authority carries out economic\, housing and industrial development and redevelopment within the City of Mountain Lake.
URL:https://mountainlakemn.com/event/eda-board-meeting-2025-12-15-2026-03-16/2026-11-16/
LOCATION:City Hall Council Chambers\, 930 Third Avenue\, Mountain Lake\, MN\, 56159
CATEGORIES:Meeting
END:VEVENT
BEGIN:VEVENT
DTSTART;TZID=America/Chicago:20261116T120000
DTEND;TZID=America/Chicago:20261116T130000
DTSTAMP:20260419T092721
CREATED:20220202T205527Z
LAST-MODIFIED:20260127T174204Z
UID:4581-1794830400-1794834000@mountainlakemn.com
SUMMARY:EDA Board Meeting
DESCRIPTION:The seven member authority carries out economic\, housing and industrial development and redevelopment within the City of Mountain Lake.
URL:https://mountainlakemn.com/event/eda-board-meeting-2025-12-15-2026-03-16/2026-11-16/
LOCATION:City Hall Council Chambers\, 930 Third Avenue\, Mountain Lake\, MN\, 56159
CATEGORIES:Meeting
END:VEVENT
BEGIN:VEVENT
DTSTART;TZID=America/Chicago:20261116T174500
DTEND;TZID=America/Chicago:20261116T210000
DTSTAMP:20260419T092721
CREATED:20220202T004521Z
LAST-MODIFIED:20260127T174020Z
UID:4651-1794851100-1794862800@mountainlakemn.com
SUMMARY:City Council Meeting
DESCRIPTION:Composed of a mayor and four council members. Council members serve for year terms; the mayor\, a two year term.
URL:https://mountainlakemn.com/event/city-council-meeting-2025-12-01/2026-11-16/
LOCATION:City Hall Council Chambers\, 930 Third Avenue\, Mountain Lake\, MN\, 56159
CATEGORIES:Meeting
END:VEVENT
BEGIN:VEVENT
DTSTART;TZID=America/Chicago:20261116T174500
DTEND;TZID=America/Chicago:20261116T210000
DTSTAMP:20260419T092721
CREATED:20220202T004521Z
LAST-MODIFIED:20220202T004521Z
UID:4849-1794851100-1794862800@mountainlakemn.com
SUMMARY:City Council Meeting
DESCRIPTION:Composed of a mayor and four council members. Council members serve for year terms; the mayor\, a two year term.
URL:https://mountainlakemn.com/event/city-council-meeting-2025-12-01/2026-11-16/
LOCATION:City Hall Council Chambers\, 930 Third Avenue\, Mountain Lake\, MN\, 56159
CATEGORIES:Meeting
END:VEVENT
BEGIN:VEVENT
DTSTART;TZID=America/Chicago:20261125T070000
DTEND;TZID=America/Chicago:20261125T080000
DTSTAMP:20260419T092721
CREATED:20220202T204046Z
LAST-MODIFIED:20260127T173130Z
UID:4642-1795590000-1795593600@mountainlakemn.com
SUMMARY:Utilities Commission Meeting
DESCRIPTION:The five member commission has charge of the administration\, maintenance and control of the water\, sewer and electrical utilities.
URL:https://mountainlakemn.com/event/utilities-commission-meeting/2026-11-25/
LOCATION:City Hall Council Chambers\, 930 Third Avenue\, Mountain Lake\, MN\, 56159
CATEGORIES:Meeting
END:VEVENT
BEGIN:VEVENT
DTSTART;TZID=America/Chicago:20261207T174500
DTEND;TZID=America/Chicago:20261207T210000
DTSTAMP:20260419T092721
CREATED:20220202T004521Z
LAST-MODIFIED:20260127T174021Z
UID:4520-1796665500-1796677200@mountainlakemn.com
SUMMARY:City Council Meeting
DESCRIPTION:Composed of a mayor and four council members. Council members serve for year terms; the mayor\, a two year term.
URL:https://mountainlakemn.com/event/city-council-meeting-2025-12-01/2026-12-07/
LOCATION:City Hall Council Chambers\, 930 Third Avenue\, Mountain Lake\, MN\, 56159
CATEGORIES:Meeting
END:VEVENT
BEGIN:VEVENT
DTSTART;TZID=America/Chicago:20261207T174500
DTEND;TZID=America/Chicago:20261207T210000
DTSTAMP:20260419T092721
CREATED:20220202T004521Z
LAST-MODIFIED:20220202T004521Z
UID:4828-1796665500-1796677200@mountainlakemn.com
SUMMARY:City Council Meeting
DESCRIPTION:Composed of a mayor and four council members. Council members serve for year terms; the mayor\, a two year term.
URL:https://mountainlakemn.com/event/city-council-meeting-2025-12-01/2026-12-07/
LOCATION:City Hall Council Chambers\, 930 Third Avenue\, Mountain Lake\, MN\, 56159
CATEGORIES:Meeting
END:VEVENT
BEGIN:VEVENT
DTSTART;TZID=America/Chicago:20261210T070000
DTEND;TZID=America/Chicago:20261210T080000
DTSTAMP:20260419T092721
CREATED:20220202T204046Z
LAST-MODIFIED:20220202T204046Z
UID:4704-1796886000-1796889600@mountainlakemn.com
SUMMARY:Utilities Commission Meeting
DESCRIPTION:The five member commission has charge of the administration\, maintenance and control of the water\, sewer and electrical utilities.
URL:https://mountainlakemn.com/event/utilities-commission-meeting/2026-12-10/
LOCATION:City Hall Council Chambers\, 930 Third Avenue\, Mountain Lake\, MN\, 56159
CATEGORIES:Meeting
END:VEVENT
BEGIN:VEVENT
DTSTART;TZID=America/Chicago:20261221T120000
DTEND;TZID=America/Chicago:20261221T130000
DTSTAMP:20260419T092721
CREATED:20220202T205527Z
LAST-MODIFIED:20220202T205527Z
UID:4796-1797854400-1797858000@mountainlakemn.com
SUMMARY:EDA Board Meeting
DESCRIPTION:The seven member authority carries out economic\, housing and industrial development and redevelopment within the City of Mountain Lake.
URL:https://mountainlakemn.com/event/eda-board-meeting-2025-12-15-2026-03-16/2026-12-21/
LOCATION:City Hall Council Chambers\, 930 Third Avenue\, Mountain Lake\, MN\, 56159
CATEGORIES:Meeting
END:VEVENT
BEGIN:VEVENT
DTSTART;TZID=America/Chicago:20261221T120000
DTEND;TZID=America/Chicago:20261221T130000
DTSTAMP:20260419T092721
CREATED:20220202T205527Z
LAST-MODIFIED:20260127T174204Z
UID:4582-1797854400-1797858000@mountainlakemn.com
SUMMARY:EDA Board Meeting
DESCRIPTION:The seven member authority carries out economic\, housing and industrial development and redevelopment within the City of Mountain Lake.
URL:https://mountainlakemn.com/event/eda-board-meeting-2025-12-15-2026-03-16/2026-12-21/
LOCATION:City Hall Council Chambers\, 930 Third Avenue\, Mountain Lake\, MN\, 56159
CATEGORIES:Meeting
END:VEVENT
BEGIN:VEVENT
DTSTART;TZID=America/Chicago:20261221T174500
DTEND;TZID=America/Chicago:20261221T210000
DTSTAMP:20260419T092721
CREATED:20220202T004521Z
LAST-MODIFIED:20220202T004521Z
UID:4850-1797875100-1797886800@mountainlakemn.com
SUMMARY:City Council Meeting
DESCRIPTION:Composed of a mayor and four council members. Council members serve for year terms; the mayor\, a two year term.
URL:https://mountainlakemn.com/event/city-council-meeting-2025-12-01/2026-12-21/
LOCATION:City Hall Council Chambers\, 930 Third Avenue\, Mountain Lake\, MN\, 56159
CATEGORIES:Meeting
END:VEVENT
BEGIN:VEVENT
DTSTART;TZID=America/Chicago:20261221T174500
DTEND;TZID=America/Chicago:20261221T210000
DTSTAMP:20260419T092721
CREATED:20220202T004521Z
LAST-MODIFIED:20260127T174022Z
UID:4652-1797875100-1797886800@mountainlakemn.com
SUMMARY:City Council Meeting
DESCRIPTION:Composed of a mayor and four council members. Council members serve for year terms; the mayor\, a two year term.
URL:https://mountainlakemn.com/event/city-council-meeting-2025-12-01/2026-12-21/
LOCATION:City Hall Council Chambers\, 930 Third Avenue\, Mountain Lake\, MN\, 56159
CATEGORIES:Meeting
END:VEVENT
BEGIN:VEVENT
DTSTART;TZID=America/Chicago:20261224T070000
DTEND;TZID=America/Chicago:20261224T080000
DTSTAMP:20260419T092721
CREATED:20220202T204046Z
LAST-MODIFIED:20220202T204046Z
UID:4705-1798095600-1798099200@mountainlakemn.com
SUMMARY:Utilities Commission Meeting
DESCRIPTION:The five member commission has charge of the administration\, maintenance and control of the water\, sewer and electrical utilities.
URL:https://mountainlakemn.com/event/utilities-commission-meeting/2026-12-24/
LOCATION:City Hall Council Chambers\, 930 Third Avenue\, Mountain Lake\, MN\, 56159
CATEGORIES:Meeting
END:VEVENT
BEGIN:VEVENT
DTSTART;TZID=America/Chicago:20270104T174500
DTEND;TZID=America/Chicago:20270104T210000
DTSTAMP:20260419T092721
CREATED:20220202T004521Z
LAST-MODIFIED:20220202T004521Z
UID:4829-1799084700-1799096400@mountainlakemn.com
SUMMARY:City Council Meeting
DESCRIPTION:Composed of a mayor and four council members. Council members serve for year terms; the mayor\, a two year term.
URL:https://mountainlakemn.com/event/city-council-meeting-2025-12-01/2027-01-04/
LOCATION:City Hall Council Chambers\, 930 Third Avenue\, Mountain Lake\, MN\, 56159
CATEGORIES:Meeting
END:VEVENT
BEGIN:VEVENT
DTSTART;TZID=America/Chicago:20270104T174500
DTEND;TZID=America/Chicago:20270104T210000
DTSTAMP:20260419T092721
CREATED:20220202T004521Z
LAST-MODIFIED:20260127T174022Z
UID:4521-1799084700-1799096400@mountainlakemn.com
SUMMARY:City Council Meeting
DESCRIPTION:Composed of a mayor and four council members. Council members serve for year terms; the mayor\, a two year term.
URL:https://mountainlakemn.com/event/city-council-meeting-2025-12-01/2027-01-04/
LOCATION:City Hall Council Chambers\, 930 Third Avenue\, Mountain Lake\, MN\, 56159
CATEGORIES:Meeting
END:VEVENT
BEGIN:VEVENT
DTSTART;TZID=America/Chicago:20270114T070000
DTEND;TZID=America/Chicago:20270114T080000
DTSTAMP:20260419T092721
CREATED:20220202T204046Z
LAST-MODIFIED:20220202T204046Z
UID:4706-1799910000-1799913600@mountainlakemn.com
SUMMARY:Utilities Commission Meeting
DESCRIPTION:The five member commission has charge of the administration\, maintenance and control of the water\, sewer and electrical utilities.
URL:https://mountainlakemn.com/event/utilities-commission-meeting/2027-01-14/
LOCATION:City Hall Council Chambers\, 930 Third Avenue\, Mountain Lake\, MN\, 56159
CATEGORIES:Meeting
END:VEVENT
BEGIN:VEVENT
DTSTART;TZID=America/Chicago:20270119T120000
DTEND;TZID=America/Chicago:20270119T130000
DTSTAMP:20260419T092721
CREATED:20220202T205527Z
LAST-MODIFIED:20260127T174204Z
UID:4583-1800360000-1800363600@mountainlakemn.com
SUMMARY:EDA Board Meeting
DESCRIPTION:The seven member authority carries out economic\, housing and industrial development and redevelopment within the City of Mountain Lake.
URL:https://mountainlakemn.com/event/eda-board-meeting-2025-12-15-2026-03-16/2027-01-19/
LOCATION:City Hall Council Chambers\, 930 Third Avenue\, Mountain Lake\, MN\, 56159
CATEGORIES:Meeting
END:VEVENT
BEGIN:VEVENT
DTSTART;TZID=America/Chicago:20270119T120000
DTEND;TZID=America/Chicago:20270119T130000
DTSTAMP:20260419T092721
CREATED:20220202T205527Z
LAST-MODIFIED:20220202T205527Z
UID:4807-1800360000-1800363600@mountainlakemn.com
SUMMARY:EDA Board Meeting
DESCRIPTION:The seven member authority carries out economic\, housing and industrial development and redevelopment within the City of Mountain Lake.
URL:https://mountainlakemn.com/event/eda-board-meeting-2025-12-15-2026-03-16/2027-01-19/
LOCATION:City Hall Council Chambers\, 930 Third Avenue\, Mountain Lake\, MN\, 56159
CATEGORIES:Meeting
END:VEVENT
BEGIN:VEVENT
DTSTART;TZID=America/Chicago:20270128T070000
DTEND;TZID=America/Chicago:20270128T080000
DTSTAMP:20260419T092721
CREATED:20220202T204046Z
LAST-MODIFIED:20220202T204046Z
UID:4707-1801119600-1801123200@mountainlakemn.com
SUMMARY:Utilities Commission Meeting
DESCRIPTION:The five member commission has charge of the administration\, maintenance and control of the water\, sewer and electrical utilities.
URL:https://mountainlakemn.com/event/utilities-commission-meeting/2027-01-28/
LOCATION:City Hall Council Chambers\, 930 Third Avenue\, Mountain Lake\, MN\, 56159
CATEGORIES:Meeting
END:VEVENT
BEGIN:VEVENT
DTSTART;TZID=America/Chicago:20270201T174500
DTEND;TZID=America/Chicago:20270201T210000
DTSTAMP:20260419T092721
CREATED:20220202T004521Z
LAST-MODIFIED:20220202T004521Z
UID:4830-1801503900-1801515600@mountainlakemn.com
SUMMARY:City Council Meeting
DESCRIPTION:Composed of a mayor and four council members. Council members serve for year terms; the mayor\, a two year term.
URL:https://mountainlakemn.com/event/city-council-meeting-2025-12-01/2027-02-01/
LOCATION:City Hall Council Chambers\, 930 Third Avenue\, Mountain Lake\, MN\, 56159
CATEGORIES:Meeting
END:VEVENT
BEGIN:VEVENT
DTSTART;TZID=America/Chicago:20270201T174500
DTEND;TZID=America/Chicago:20270201T210000
DTSTAMP:20260419T092721
CREATED:20220202T004521Z
LAST-MODIFIED:20260127T174022Z
UID:4522-1801503900-1801515600@mountainlakemn.com
SUMMARY:City Council Meeting
DESCRIPTION:Composed of a mayor and four council members. Council members serve for year terms; the mayor\, a two year term.
URL:https://mountainlakemn.com/event/city-council-meeting-2025-12-01/2027-02-01/
LOCATION:City Hall Council Chambers\, 930 Third Avenue\, Mountain Lake\, MN\, 56159
CATEGORIES:Meeting
END:VEVENT
BEGIN:VEVENT
DTSTART;TZID=America/Chicago:20270211T070000
DTEND;TZID=America/Chicago:20270211T080000
DTSTAMP:20260419T092721
CREATED:20220202T204046Z
LAST-MODIFIED:20220202T204046Z
UID:4708-1802329200-1802332800@mountainlakemn.com
SUMMARY:Utilities Commission Meeting
DESCRIPTION:The five member commission has charge of the administration\, maintenance and control of the water\, sewer and electrical utilities.
URL:https://mountainlakemn.com/event/utilities-commission-meeting/2027-02-11/
LOCATION:City Hall Council Chambers\, 930 Third Avenue\, Mountain Lake\, MN\, 56159
CATEGORIES:Meeting
END:VEVENT
END:VCALENDAR