BEGIN:VCALENDAR
VERSION:2.0
PRODID:-//City of Mountain Lake - ECPv5.14.0.1//NONSGML v1.0//EN
CALSCALE:GREGORIAN
METHOD:PUBLISH
X-WR-CALNAME:City of Mountain Lake
X-ORIGINAL-URL:https://mountainlakemn.com
X-WR-CALDESC:Events for City of Mountain Lake
REFRESH-INTERVAL;VALUE=DURATION:PT1H
X-Robots-Tag:noindex
X-PUBLISHED-TTL:PT1H
BEGIN:VTIMEZONE
TZID:America/Chicago
BEGIN:DAYLIGHT
TZOFFSETFROM:-0600
TZOFFSETTO:-0500
TZNAME:CDT
DTSTART:20270314T080000
END:DAYLIGHT
BEGIN:STANDARD
TZOFFSETFROM:-0500
TZOFFSETTO:-0600
TZNAME:CST
DTSTART:20271107T070000
END:STANDARD
END:VTIMEZONE
BEGIN:VEVENT
DTSTART;TZID=America/Chicago:20270607T174500
DTEND;TZID=America/Chicago:20270607T210000
DTSTAMP:20260419T165752
CREATED:20220202T004521Z
LAST-MODIFIED:20220202T004521Z
UID:4834-1812390300-1812402000@mountainlakemn.com
SUMMARY:City Council Meeting
DESCRIPTION:Composed of a mayor and four council members. Council members serve for year terms; the mayor\, a two year term.
URL:https://mountainlakemn.com/event/city-council-meeting-2025-12-01/2027-06-07/
LOCATION:City Hall Council Chambers\, 930 Third Avenue\, Mountain Lake\, MN\, 56159
CATEGORIES:Meeting
END:VEVENT
BEGIN:VEVENT
DTSTART;TZID=America/Chicago:20270610T070000
DTEND;TZID=America/Chicago:20270610T080000
DTSTAMP:20260419T165752
CREATED:20220202T204046Z
LAST-MODIFIED:20220202T204046Z
UID:4716-1812610800-1812614400@mountainlakemn.com
SUMMARY:Utilities Commission Meeting
DESCRIPTION:The five member commission has charge of the administration\, maintenance and control of the water\, sewer and electrical utilities.
URL:https://mountainlakemn.com/event/utilities-commission-meeting/2027-06-10/
LOCATION:City Hall Council Chambers\, 930 Third Avenue\, Mountain Lake\, MN\, 56159
CATEGORIES:Meeting
END:VEVENT
BEGIN:VEVENT
DTSTART;TZID=America/Chicago:20270621T120000
DTEND;TZID=America/Chicago:20270621T130000
DTSTAMP:20260419T165752
CREATED:20220202T205527Z
LAST-MODIFIED:20260127T174204Z
UID:4588-1813579200-1813582800@mountainlakemn.com
SUMMARY:EDA Board Meeting
DESCRIPTION:The seven member authority carries out economic\, housing and industrial development and redevelopment within the City of Mountain Lake.
URL:https://mountainlakemn.com/event/eda-board-meeting-2025-12-15-2026-03-16/2027-06-21/
LOCATION:City Hall Council Chambers\, 930 Third Avenue\, Mountain Lake\, MN\, 56159
CATEGORIES:Meeting
END:VEVENT
BEGIN:VEVENT
DTSTART;TZID=America/Chicago:20270621T120000
DTEND;TZID=America/Chicago:20270621T130000
DTSTAMP:20260419T165752
CREATED:20220202T205527Z
LAST-MODIFIED:20220202T205527Z
UID:4800-1813579200-1813582800@mountainlakemn.com
SUMMARY:EDA Board Meeting
DESCRIPTION:The seven member authority carries out economic\, housing and industrial development and redevelopment within the City of Mountain Lake.
URL:https://mountainlakemn.com/event/eda-board-meeting-2025-12-15-2026-03-16/2027-06-21/
LOCATION:City Hall Council Chambers\, 930 Third Avenue\, Mountain Lake\, MN\, 56159
CATEGORIES:Meeting
END:VEVENT
BEGIN:VEVENT
DTSTART;TZID=America/Chicago:20270621T174500
DTEND;TZID=America/Chicago:20270621T210000
DTSTAMP:20260419T165752
CREATED:20220202T004521Z
LAST-MODIFIED:20220202T004521Z
UID:4855-1813599900-1813611600@mountainlakemn.com
SUMMARY:City Council Meeting
DESCRIPTION:Composed of a mayor and four council members. Council members serve for year terms; the mayor\, a two year term.
URL:https://mountainlakemn.com/event/city-council-meeting-2025-12-01/2027-06-21/
LOCATION:City Hall Council Chambers\, 930 Third Avenue\, Mountain Lake\, MN\, 56159
CATEGORIES:Meeting
END:VEVENT
BEGIN:VEVENT
DTSTART;TZID=America/Chicago:20270621T174500
DTEND;TZID=America/Chicago:20270621T210000
DTSTAMP:20260419T165752
CREATED:20220202T004521Z
LAST-MODIFIED:20260127T174025Z
UID:4657-1813599900-1813611600@mountainlakemn.com
SUMMARY:City Council Meeting
DESCRIPTION:Composed of a mayor and four council members. Council members serve for year terms; the mayor\, a two year term.
URL:https://mountainlakemn.com/event/city-council-meeting-2025-12-01/2027-06-21/
LOCATION:City Hall Council Chambers\, 930 Third Avenue\, Mountain Lake\, MN\, 56159
CATEGORIES:Meeting
END:VEVENT
BEGIN:VEVENT
DTSTART;TZID=America/Chicago:20270624T070000
DTEND;TZID=America/Chicago:20270624T080000
DTSTAMP:20260419T165752
CREATED:20220202T204046Z
LAST-MODIFIED:20220202T204046Z
UID:4717-1813820400-1813824000@mountainlakemn.com
SUMMARY:Utilities Commission Meeting
DESCRIPTION:The five member commission has charge of the administration\, maintenance and control of the water\, sewer and electrical utilities.
URL:https://mountainlakemn.com/event/utilities-commission-meeting/2027-06-24/
LOCATION:City Hall Council Chambers\, 930 Third Avenue\, Mountain Lake\, MN\, 56159
CATEGORIES:Meeting
END:VEVENT
BEGIN:VEVENT
DTSTART;TZID=America/Chicago:20270705T174500
DTEND;TZID=America/Chicago:20270705T210000
DTSTAMP:20260419T165752
CREATED:20220202T004521Z
LAST-MODIFIED:20260127T174026Z
UID:4527-1814809500-1814821200@mountainlakemn.com
SUMMARY:City Council Meeting
DESCRIPTION:Composed of a mayor and four council members. Council members serve for year terms; the mayor\, a two year term.
URL:https://mountainlakemn.com/event/city-council-meeting-2025-12-01/2027-07-05/
LOCATION:City Hall Council Chambers\, 930 Third Avenue\, Mountain Lake\, MN\, 56159
CATEGORIES:Meeting
END:VEVENT
BEGIN:VEVENT
DTSTART;TZID=America/Chicago:20270705T174500
DTEND;TZID=America/Chicago:20270705T210000
DTSTAMP:20260419T165752
CREATED:20220202T004521Z
LAST-MODIFIED:20220202T004521Z
UID:4835-1814809500-1814821200@mountainlakemn.com
SUMMARY:City Council Meeting
DESCRIPTION:Composed of a mayor and four council members. Council members serve for year terms; the mayor\, a two year term.
URL:https://mountainlakemn.com/event/city-council-meeting-2025-12-01/2027-07-05/
LOCATION:City Hall Council Chambers\, 930 Third Avenue\, Mountain Lake\, MN\, 56159
CATEGORIES:Meeting
END:VEVENT
BEGIN:VEVENT
DTSTART;TZID=America/Chicago:20270708T070000
DTEND;TZID=America/Chicago:20270708T080000
DTSTAMP:20260419T165752
CREATED:20220202T204046Z
LAST-MODIFIED:20220202T204046Z
UID:4718-1815030000-1815033600@mountainlakemn.com
SUMMARY:Utilities Commission Meeting
DESCRIPTION:The five member commission has charge of the administration\, maintenance and control of the water\, sewer and electrical utilities.
URL:https://mountainlakemn.com/event/utilities-commission-meeting/2027-07-08/
LOCATION:City Hall Council Chambers\, 930 Third Avenue\, Mountain Lake\, MN\, 56159
CATEGORIES:Meeting
END:VEVENT
BEGIN:VEVENT
DTSTART;TZID=America/Chicago:20270719T120000
DTEND;TZID=America/Chicago:20270719T130000
DTSTAMP:20260419T165752
CREATED:20220202T205527Z
LAST-MODIFIED:20220202T205527Z
UID:4801-1815998400-1816002000@mountainlakemn.com
SUMMARY:EDA Board Meeting
DESCRIPTION:The seven member authority carries out economic\, housing and industrial development and redevelopment within the City of Mountain Lake.
URL:https://mountainlakemn.com/event/eda-board-meeting-2025-12-15-2026-03-16/2027-07-19/
LOCATION:City Hall Council Chambers\, 930 Third Avenue\, Mountain Lake\, MN\, 56159
CATEGORIES:Meeting
END:VEVENT
BEGIN:VEVENT
DTSTART;TZID=America/Chicago:20270719T120000
DTEND;TZID=America/Chicago:20270719T130000
DTSTAMP:20260419T165752
CREATED:20220202T205527Z
LAST-MODIFIED:20260127T174204Z
UID:4589-1815998400-1816002000@mountainlakemn.com
SUMMARY:EDA Board Meeting
DESCRIPTION:The seven member authority carries out economic\, housing and industrial development and redevelopment within the City of Mountain Lake.
URL:https://mountainlakemn.com/event/eda-board-meeting-2025-12-15-2026-03-16/2027-07-19/
LOCATION:City Hall Council Chambers\, 930 Third Avenue\, Mountain Lake\, MN\, 56159
CATEGORIES:Meeting
END:VEVENT
BEGIN:VEVENT
DTSTART;TZID=America/Chicago:20270719T174500
DTEND;TZID=America/Chicago:20270719T210000
DTSTAMP:20260419T165752
CREATED:20220202T004521Z
LAST-MODIFIED:20220202T004521Z
UID:4856-1816019100-1816030800@mountainlakemn.com
SUMMARY:City Council Meeting
DESCRIPTION:Composed of a mayor and four council members. Council members serve for year terms; the mayor\, a two year term.
URL:https://mountainlakemn.com/event/city-council-meeting-2025-12-01/2027-07-19/
LOCATION:City Hall Council Chambers\, 930 Third Avenue\, Mountain Lake\, MN\, 56159
CATEGORIES:Meeting
END:VEVENT
BEGIN:VEVENT
DTSTART;TZID=America/Chicago:20270719T174500
DTEND;TZID=America/Chicago:20270719T210000
DTSTAMP:20260419T165752
CREATED:20220202T004521Z
LAST-MODIFIED:20260127T174026Z
UID:4658-1816019100-1816030800@mountainlakemn.com
SUMMARY:City Council Meeting
DESCRIPTION:Composed of a mayor and four council members. Council members serve for year terms; the mayor\, a two year term.
URL:https://mountainlakemn.com/event/city-council-meeting-2025-12-01/2027-07-19/
LOCATION:City Hall Council Chambers\, 930 Third Avenue\, Mountain Lake\, MN\, 56159
CATEGORIES:Meeting
END:VEVENT
BEGIN:VEVENT
DTSTART;TZID=America/Chicago:20270722T070000
DTEND;TZID=America/Chicago:20270722T080000
DTSTAMP:20260419T165752
CREATED:20220202T204046Z
LAST-MODIFIED:20220202T204046Z
UID:4719-1816239600-1816243200@mountainlakemn.com
SUMMARY:Utilities Commission Meeting
DESCRIPTION:The five member commission has charge of the administration\, maintenance and control of the water\, sewer and electrical utilities.
URL:https://mountainlakemn.com/event/utilities-commission-meeting/2027-07-22/
LOCATION:City Hall Council Chambers\, 930 Third Avenue\, Mountain Lake\, MN\, 56159
CATEGORIES:Meeting
END:VEVENT
BEGIN:VEVENT
DTSTART;TZID=America/Chicago:20270802T174500
DTEND;TZID=America/Chicago:20270802T210000
DTSTAMP:20260419T165752
CREATED:20220202T004521Z
LAST-MODIFIED:20260127T174026Z
UID:4528-1817228700-1817240400@mountainlakemn.com
SUMMARY:City Council Meeting
DESCRIPTION:Composed of a mayor and four council members. Council members serve for year terms; the mayor\, a two year term.
URL:https://mountainlakemn.com/event/city-council-meeting-2025-12-01/2027-08-02/
LOCATION:City Hall Council Chambers\, 930 Third Avenue\, Mountain Lake\, MN\, 56159
CATEGORIES:Meeting
END:VEVENT
BEGIN:VEVENT
DTSTART;TZID=America/Chicago:20270802T174500
DTEND;TZID=America/Chicago:20270802T210000
DTSTAMP:20260419T165752
CREATED:20220202T004521Z
LAST-MODIFIED:20220202T004521Z
UID:4836-1817228700-1817240400@mountainlakemn.com
SUMMARY:City Council Meeting
DESCRIPTION:Composed of a mayor and four council members. Council members serve for year terms; the mayor\, a two year term.
URL:https://mountainlakemn.com/event/city-council-meeting-2025-12-01/2027-08-02/
LOCATION:City Hall Council Chambers\, 930 Third Avenue\, Mountain Lake\, MN\, 56159
CATEGORIES:Meeting
END:VEVENT
BEGIN:VEVENT
DTSTART;TZID=America/Chicago:20270812T070000
DTEND;TZID=America/Chicago:20270812T080000
DTSTAMP:20260419T165752
CREATED:20220202T204046Z
LAST-MODIFIED:20220202T204046Z
UID:4720-1818054000-1818057600@mountainlakemn.com
SUMMARY:Utilities Commission Meeting
DESCRIPTION:The five member commission has charge of the administration\, maintenance and control of the water\, sewer and electrical utilities.
URL:https://mountainlakemn.com/event/utilities-commission-meeting/2027-08-12/
LOCATION:City Hall Council Chambers\, 930 Third Avenue\, Mountain Lake\, MN\, 56159
CATEGORIES:Meeting
END:VEVENT
BEGIN:VEVENT
DTSTART;TZID=America/Chicago:20270816T120000
DTEND;TZID=America/Chicago:20270816T130000
DTSTAMP:20260419T165752
CREATED:20220202T205527Z
LAST-MODIFIED:20220202T205527Z
UID:4802-1818417600-1818421200@mountainlakemn.com
SUMMARY:EDA Board Meeting
DESCRIPTION:The seven member authority carries out economic\, housing and industrial development and redevelopment within the City of Mountain Lake.
URL:https://mountainlakemn.com/event/eda-board-meeting-2025-12-15-2026-03-16/2027-08-16/
LOCATION:City Hall Council Chambers\, 930 Third Avenue\, Mountain Lake\, MN\, 56159
CATEGORIES:Meeting
END:VEVENT
BEGIN:VEVENT
DTSTART;TZID=America/Chicago:20270816T120000
DTEND;TZID=America/Chicago:20270816T130000
DTSTAMP:20260419T165752
CREATED:20220202T205527Z
LAST-MODIFIED:20260127T174204Z
UID:4590-1818417600-1818421200@mountainlakemn.com
SUMMARY:EDA Board Meeting
DESCRIPTION:The seven member authority carries out economic\, housing and industrial development and redevelopment within the City of Mountain Lake.
URL:https://mountainlakemn.com/event/eda-board-meeting-2025-12-15-2026-03-16/2027-08-16/
LOCATION:City Hall Council Chambers\, 930 Third Avenue\, Mountain Lake\, MN\, 56159
CATEGORIES:Meeting
END:VEVENT
BEGIN:VEVENT
DTSTART;TZID=America/Chicago:20270816T174500
DTEND;TZID=America/Chicago:20270816T210000
DTSTAMP:20260419T165752
CREATED:20220202T004521Z
LAST-MODIFIED:20260127T174026Z
UID:4659-1818438300-1818450000@mountainlakemn.com
SUMMARY:City Council Meeting
DESCRIPTION:Composed of a mayor and four council members. Council members serve for year terms; the mayor\, a two year term.
URL:https://mountainlakemn.com/event/city-council-meeting-2025-12-01/2027-08-16/
LOCATION:City Hall Council Chambers\, 930 Third Avenue\, Mountain Lake\, MN\, 56159
CATEGORIES:Meeting
END:VEVENT
BEGIN:VEVENT
DTSTART;TZID=America/Chicago:20270816T174500
DTEND;TZID=America/Chicago:20270816T210000
DTSTAMP:20260419T165752
CREATED:20220202T004521Z
LAST-MODIFIED:20220202T004521Z
UID:4857-1818438300-1818450000@mountainlakemn.com
SUMMARY:City Council Meeting
DESCRIPTION:Composed of a mayor and four council members. Council members serve for year terms; the mayor\, a two year term.
URL:https://mountainlakemn.com/event/city-council-meeting-2025-12-01/2027-08-16/
LOCATION:City Hall Council Chambers\, 930 Third Avenue\, Mountain Lake\, MN\, 56159
CATEGORIES:Meeting
END:VEVENT
BEGIN:VEVENT
DTSTART;TZID=America/Chicago:20270826T070000
DTEND;TZID=America/Chicago:20270826T080000
DTSTAMP:20260419T165752
CREATED:20220202T204046Z
LAST-MODIFIED:20220202T204046Z
UID:4721-1819263600-1819267200@mountainlakemn.com
SUMMARY:Utilities Commission Meeting
DESCRIPTION:The five member commission has charge of the administration\, maintenance and control of the water\, sewer and electrical utilities.
URL:https://mountainlakemn.com/event/utilities-commission-meeting/2027-08-26/
LOCATION:City Hall Council Chambers\, 930 Third Avenue\, Mountain Lake\, MN\, 56159
CATEGORIES:Meeting
END:VEVENT
BEGIN:VEVENT
DTSTART;TZID=America/Chicago:20270906T174500
DTEND;TZID=America/Chicago:20270906T210000
DTSTAMP:20260419T165752
CREATED:20220202T004521Z
LAST-MODIFIED:20260127T174026Z
UID:4529-1820252700-1820264400@mountainlakemn.com
SUMMARY:City Council Meeting
DESCRIPTION:Composed of a mayor and four council members. Council members serve for year terms; the mayor\, a two year term.
URL:https://mountainlakemn.com/event/city-council-meeting-2025-12-01/2027-09-06/
LOCATION:City Hall Council Chambers\, 930 Third Avenue\, Mountain Lake\, MN\, 56159
CATEGORIES:Meeting
END:VEVENT
BEGIN:VEVENT
DTSTART;TZID=America/Chicago:20270906T174500
DTEND;TZID=America/Chicago:20270906T210000
DTSTAMP:20260419T165752
CREATED:20220202T004521Z
LAST-MODIFIED:20220202T004521Z
UID:4837-1820252700-1820264400@mountainlakemn.com
SUMMARY:City Council Meeting
DESCRIPTION:Composed of a mayor and four council members. Council members serve for year terms; the mayor\, a two year term.
URL:https://mountainlakemn.com/event/city-council-meeting-2025-12-01/2027-09-06/
LOCATION:City Hall Council Chambers\, 930 Third Avenue\, Mountain Lake\, MN\, 56159
CATEGORIES:Meeting
END:VEVENT
BEGIN:VEVENT
DTSTART;TZID=America/Chicago:20270909T070000
DTEND;TZID=America/Chicago:20270909T080000
DTSTAMP:20260419T165752
CREATED:20220202T204046Z
LAST-MODIFIED:20220202T204046Z
UID:4722-1820473200-1820476800@mountainlakemn.com
SUMMARY:Utilities Commission Meeting
DESCRIPTION:The five member commission has charge of the administration\, maintenance and control of the water\, sewer and electrical utilities.
URL:https://mountainlakemn.com/event/utilities-commission-meeting/2027-09-09/
LOCATION:City Hall Council Chambers\, 930 Third Avenue\, Mountain Lake\, MN\, 56159
CATEGORIES:Meeting
END:VEVENT
BEGIN:VEVENT
DTSTART;TZID=America/Chicago:20270920T120000
DTEND;TZID=America/Chicago:20270920T130000
DTSTAMP:20260419T165752
CREATED:20220202T205527Z
LAST-MODIFIED:20220202T205527Z
UID:4803-1821441600-1821445200@mountainlakemn.com
SUMMARY:EDA Board Meeting
DESCRIPTION:The seven member authority carries out economic\, housing and industrial development and redevelopment within the City of Mountain Lake.
URL:https://mountainlakemn.com/event/eda-board-meeting-2025-12-15-2026-03-16/2027-09-20/
LOCATION:City Hall Council Chambers\, 930 Third Avenue\, Mountain Lake\, MN\, 56159
CATEGORIES:Meeting
END:VEVENT
BEGIN:VEVENT
DTSTART;TZID=America/Chicago:20270920T120000
DTEND;TZID=America/Chicago:20270920T130000
DTSTAMP:20260419T165752
CREATED:20220202T205527Z
LAST-MODIFIED:20260127T174204Z
UID:4591-1821441600-1821445200@mountainlakemn.com
SUMMARY:EDA Board Meeting
DESCRIPTION:The seven member authority carries out economic\, housing and industrial development and redevelopment within the City of Mountain Lake.
URL:https://mountainlakemn.com/event/eda-board-meeting-2025-12-15-2026-03-16/2027-09-20/
LOCATION:City Hall Council Chambers\, 930 Third Avenue\, Mountain Lake\, MN\, 56159
CATEGORIES:Meeting
END:VEVENT
BEGIN:VEVENT
DTSTART;TZID=America/Chicago:20270920T174500
DTEND;TZID=America/Chicago:20270920T210000
DTSTAMP:20260419T165752
CREATED:20220202T004521Z
LAST-MODIFIED:20260127T174026Z
UID:4660-1821462300-1821474000@mountainlakemn.com
SUMMARY:City Council Meeting
DESCRIPTION:Composed of a mayor and four council members. Council members serve for year terms; the mayor\, a two year term.
URL:https://mountainlakemn.com/event/city-council-meeting-2025-12-01/2027-09-20/
LOCATION:City Hall Council Chambers\, 930 Third Avenue\, Mountain Lake\, MN\, 56159
CATEGORIES:Meeting
END:VEVENT
BEGIN:VEVENT
DTSTART;TZID=America/Chicago:20270920T174500
DTEND;TZID=America/Chicago:20270920T210000
DTSTAMP:20260419T165752
CREATED:20220202T004521Z
LAST-MODIFIED:20220202T004521Z
UID:4858-1821462300-1821474000@mountainlakemn.com
SUMMARY:City Council Meeting
DESCRIPTION:Composed of a mayor and four council members. Council members serve for year terms; the mayor\, a two year term.
URL:https://mountainlakemn.com/event/city-council-meeting-2025-12-01/2027-09-20/
LOCATION:City Hall Council Chambers\, 930 Third Avenue\, Mountain Lake\, MN\, 56159
CATEGORIES:Meeting
END:VEVENT
END:VCALENDAR