BEGIN:VCALENDAR
VERSION:2.0
PRODID:-//City of Mountain Lake - ECPv5.14.0.1//NONSGML v1.0//EN
CALSCALE:GREGORIAN
METHOD:PUBLISH
X-WR-CALNAME:City of Mountain Lake
X-ORIGINAL-URL:https://mountainlakemn.com
X-WR-CALDESC:Events for City of Mountain Lake
REFRESH-INTERVAL;VALUE=DURATION:PT1H
X-Robots-Tag:noindex
X-PUBLISHED-TTL:PT1H
BEGIN:VTIMEZONE
TZID:America/Chicago
BEGIN:DAYLIGHT
TZOFFSETFROM:-0600
TZOFFSETTO:-0500
TZNAME:CDT
DTSTART:20270314T080000
END:DAYLIGHT
BEGIN:STANDARD
TZOFFSETFROM:-0500
TZOFFSETTO:-0600
TZNAME:CST
DTSTART:20271107T070000
END:STANDARD
END:VTIMEZONE
BEGIN:VEVENT
DTSTART;TZID=America/Chicago:20270927T190000
DTEND;TZID=America/Chicago:20270927T200000
DTSTAMP:20260419T151816
CREATED:20220202T204519Z
LAST-MODIFIED:20220202T204519Z
UID:4782-1822071600-1822075200@mountainlakemn.com
SUMMARY:Police Commission Meeting
DESCRIPTION:The five member commission monitors\, reviews. and makes recommendations to the City Council regarding police department operations and functions.
URL:https://mountainlakemn.com/event/police-commission-meeting/2027-09-27/
LOCATION:City Hall Conference Room\, 930 Third Avenue\, Mountain Lake\, MN\, 56159
CATEGORIES:Meeting
END:VEVENT
BEGIN:VEVENT
DTSTART;TZID=America/Chicago:20270927T190000
DTEND;TZID=America/Chicago:20270927T200000
DTSTAMP:20260419T151816
CREATED:20220202T204519Z
LAST-MODIFIED:20220202T204519Z
UID:4818-1822071600-1822075200@mountainlakemn.com
SUMMARY:Police Commission Meeting
DESCRIPTION:The five member commission monitors\, reviews. and makes recommendations to the City Council regarding police department operations and functions.
URL:https://mountainlakemn.com/event/police-commission-meeting/2027-09-27/
LOCATION:City Hall Conference Room\, 930 Third Avenue\, Mountain Lake\, MN\, 56159
CATEGORIES:Meeting
END:VEVENT
BEGIN:VEVENT
DTSTART;TZID=America/Chicago:20271011T183000
DTEND;TZID=America/Chicago:20271011T193000
DTSTAMP:20260419T151816
CREATED:20220202T193747Z
LAST-MODIFIED:20220202T193747Z
UID:4553-1823279400-1823283000@mountainlakemn.com
SUMMARY:Lake Commission Meeting
DESCRIPTION:The seven member commission works to stabilize\, improve\, maintenance and preserve the lake.
URL:https://mountainlakemn.com/event/lake-commission-meeting-2025-12-08/2027-10-11/
LOCATION:City Hall Conference Room\, 930 Third Avenue\, Mountain Lake\, MN\, 56159
CATEGORIES:Meeting
END:VEVENT
BEGIN:VEVENT
DTSTART;TZID=America/Chicago:20271011T183000
DTEND;TZID=America/Chicago:20271011T193000
DTSTAMP:20260419T151816
CREATED:20220202T193747Z
LAST-MODIFIED:20220202T193747Z
UID:4904-1823279400-1823283000@mountainlakemn.com
SUMMARY:Lake Commission Meeting
DESCRIPTION:The seven member commission works to stabilize\, improve\, maintenance and preserve the lake.
URL:https://mountainlakemn.com/event/lake-commission-meeting-2025-12-08/2027-10-11/
LOCATION:City Hall Conference Room\, 930 Third Avenue\, Mountain Lake\, MN\, 56159
CATEGORIES:Meeting
END:VEVENT
BEGIN:VEVENT
DTSTART;TZID=America/Chicago:20271020T190000
DTEND;TZID=America/Chicago:20271020T200000
DTSTAMP:20260419T151816
CREATED:20220202T191111Z
LAST-MODIFIED:20220202T191111Z
UID:4927-1824058800-1824062400@mountainlakemn.com
SUMMARY:Active Living Meeting
DESCRIPTION:
URL:https://mountainlakemn.com/event/active-living-meeting-2025-12-17/2027-10-20/
LOCATION:City Hall Conference Room\, 930 Third Avenue\, Mountain Lake\, MN\, 56159
CATEGORIES:Meeting
END:VEVENT
BEGIN:VEVENT
DTSTART;TZID=America/Chicago:20271020T190000
DTEND;TZID=America/Chicago:20271020T200000
DTSTAMP:20260419T151816
CREATED:20220202T191111Z
LAST-MODIFIED:20260127T171620Z
UID:4617-1824058800-1824062400@mountainlakemn.com
SUMMARY:Active Living Meeting
DESCRIPTION:
URL:https://mountainlakemn.com/event/active-living-meeting-2025-12-17/2027-10-20/
LOCATION:City Hall Conference Room\, 930 Third Avenue\, Mountain Lake\, MN\, 56159
CATEGORIES:Meeting
END:VEVENT
BEGIN:VEVENT
DTSTART;TZID=America/Chicago:20271108T183000
DTEND;TZID=America/Chicago:20271108T193000
DTSTAMP:20260419T151816
CREATED:20220202T193747Z
LAST-MODIFIED:20220202T193747Z
UID:4554-1825698600-1825702200@mountainlakemn.com
SUMMARY:Lake Commission Meeting
DESCRIPTION:The seven member commission works to stabilize\, improve\, maintenance and preserve the lake.
URL:https://mountainlakemn.com/event/lake-commission-meeting-2025-12-08/2027-11-08/
LOCATION:City Hall Conference Room\, 930 Third Avenue\, Mountain Lake\, MN\, 56159
CATEGORIES:Meeting
END:VEVENT
BEGIN:VEVENT
DTSTART;TZID=America/Chicago:20271108T183000
DTEND;TZID=America/Chicago:20271108T193000
DTSTAMP:20260419T151816
CREATED:20220202T193747Z
LAST-MODIFIED:20220202T193747Z
UID:4905-1825698600-1825702200@mountainlakemn.com
SUMMARY:Lake Commission Meeting
DESCRIPTION:The seven member commission works to stabilize\, improve\, maintenance and preserve the lake.
URL:https://mountainlakemn.com/event/lake-commission-meeting-2025-12-08/2027-11-08/
LOCATION:City Hall Conference Room\, 930 Third Avenue\, Mountain Lake\, MN\, 56159
CATEGORIES:Meeting
END:VEVENT
BEGIN:VEVENT
DTSTART;TZID=America/Chicago:20271117T190000
DTEND;TZID=America/Chicago:20271117T200000
DTSTAMP:20260419T151816
CREATED:20220202T191111Z
LAST-MODIFIED:20220202T191111Z
UID:4928-1826478000-1826481600@mountainlakemn.com
SUMMARY:Active Living Meeting
DESCRIPTION:
URL:https://mountainlakemn.com/event/active-living-meeting-2025-12-17/2027-11-17/
LOCATION:City Hall Conference Room\, 930 Third Avenue\, Mountain Lake\, MN\, 56159
CATEGORIES:Meeting
END:VEVENT
BEGIN:VEVENT
DTSTART;TZID=America/Chicago:20271117T190000
DTEND;TZID=America/Chicago:20271117T200000
DTSTAMP:20260419T151816
CREATED:20220202T191111Z
LAST-MODIFIED:20260127T171620Z
UID:4618-1826478000-1826481600@mountainlakemn.com
SUMMARY:Active Living Meeting
DESCRIPTION:
URL:https://mountainlakemn.com/event/active-living-meeting-2025-12-17/2027-11-17/
LOCATION:City Hall Conference Room\, 930 Third Avenue\, Mountain Lake\, MN\, 56159
CATEGORIES:Meeting
END:VEVENT
BEGIN:VEVENT
DTSTART;TZID=America/Chicago:20271122T190000
DTEND;TZID=America/Chicago:20271122T200000
DTSTAMP:20260419T151816
CREATED:20220202T204519Z
LAST-MODIFIED:20220202T204519Z
UID:4783-1826910000-1826913600@mountainlakemn.com
SUMMARY:Police Commission Meeting
DESCRIPTION:The five member commission monitors\, reviews. and makes recommendations to the City Council regarding police department operations and functions.
URL:https://mountainlakemn.com/event/police-commission-meeting/2027-11-22/
LOCATION:City Hall Conference Room\, 930 Third Avenue\, Mountain Lake\, MN\, 56159
CATEGORIES:Meeting
END:VEVENT
BEGIN:VEVENT
DTSTART;TZID=America/Chicago:20271122T190000
DTEND;TZID=America/Chicago:20271122T200000
DTSTAMP:20260419T151816
CREATED:20220202T204519Z
LAST-MODIFIED:20220202T204519Z
UID:4819-1826910000-1826913600@mountainlakemn.com
SUMMARY:Police Commission Meeting
DESCRIPTION:The five member commission monitors\, reviews. and makes recommendations to the City Council regarding police department operations and functions.
URL:https://mountainlakemn.com/event/police-commission-meeting/2027-11-22/
LOCATION:City Hall Conference Room\, 930 Third Avenue\, Mountain Lake\, MN\, 56159
CATEGORIES:Meeting
END:VEVENT
BEGIN:VEVENT
DTSTART;TZID=America/Chicago:20271213T183000
DTEND;TZID=America/Chicago:20271213T193000
DTSTAMP:20260419T151816
CREATED:20220202T193747Z
LAST-MODIFIED:20220202T193747Z
UID:4555-1828722600-1828726200@mountainlakemn.com
SUMMARY:Lake Commission Meeting
DESCRIPTION:The seven member commission works to stabilize\, improve\, maintenance and preserve the lake.
URL:https://mountainlakemn.com/event/lake-commission-meeting-2025-12-08/2027-12-13/
LOCATION:City Hall Conference Room\, 930 Third Avenue\, Mountain Lake\, MN\, 56159
CATEGORIES:Meeting
END:VEVENT
BEGIN:VEVENT
DTSTART;TZID=America/Chicago:20271213T183000
DTEND;TZID=America/Chicago:20271213T193000
DTSTAMP:20260419T151816
CREATED:20220202T193747Z
LAST-MODIFIED:20220202T193747Z
UID:4906-1828722600-1828726200@mountainlakemn.com
SUMMARY:Lake Commission Meeting
DESCRIPTION:The seven member commission works to stabilize\, improve\, maintenance and preserve the lake.
URL:https://mountainlakemn.com/event/lake-commission-meeting-2025-12-08/2027-12-13/
LOCATION:City Hall Conference Room\, 930 Third Avenue\, Mountain Lake\, MN\, 56159
CATEGORIES:Meeting
END:VEVENT
BEGIN:VEVENT
DTSTART;TZID=America/Chicago:20271215T190000
DTEND;TZID=America/Chicago:20271215T200000
DTSTAMP:20260419T151816
CREATED:20220202T191111Z
LAST-MODIFIED:20220202T191111Z
UID:4929-1828897200-1828900800@mountainlakemn.com
SUMMARY:Active Living Meeting
DESCRIPTION:
URL:https://mountainlakemn.com/event/active-living-meeting-2025-12-17/2027-12-15/
LOCATION:City Hall Conference Room\, 930 Third Avenue\, Mountain Lake\, MN\, 56159
CATEGORIES:Meeting
END:VEVENT
BEGIN:VEVENT
DTSTART;TZID=America/Chicago:20271215T190000
DTEND;TZID=America/Chicago:20271215T200000
DTSTAMP:20260419T151816
CREATED:20220202T191111Z
LAST-MODIFIED:20260127T171620Z
UID:4619-1828897200-1828900800@mountainlakemn.com
SUMMARY:Active Living Meeting
DESCRIPTION:
URL:https://mountainlakemn.com/event/active-living-meeting-2025-12-17/2027-12-15/
LOCATION:City Hall Conference Room\, 930 Third Avenue\, Mountain Lake\, MN\, 56159
CATEGORIES:Meeting
END:VEVENT
END:VCALENDAR