BEGIN:VCALENDAR
VERSION:2.0
PRODID:-//City of Mountain Lake - ECPv5.14.0.1//NONSGML v1.0//EN
CALSCALE:GREGORIAN
METHOD:PUBLISH
X-WR-CALNAME:City of Mountain Lake
X-ORIGINAL-URL:https://mountainlakemn.com
X-WR-CALDESC:Events for City of Mountain Lake
REFRESH-INTERVAL;VALUE=DURATION:PT1H
X-Robots-Tag:noindex
X-PUBLISHED-TTL:PT1H
BEGIN:VTIMEZONE
TZID:America/Chicago
BEGIN:DAYLIGHT
TZOFFSETFROM:-0600
TZOFFSETTO:-0500
TZNAME:CDT
DTSTART:20270314T080000
END:DAYLIGHT
BEGIN:STANDARD
TZOFFSETFROM:-0500
TZOFFSETTO:-0600
TZNAME:CST
DTSTART:20271107T070000
END:STANDARD
END:VTIMEZONE
BEGIN:VEVENT
DTSTART;TZID=America/Chicago:20270510T183000
DTEND;TZID=America/Chicago:20270510T193000
DTSTAMP:20260419T122125
CREATED:20220202T193747Z
LAST-MODIFIED:20220202T193747Z
UID:4548-1809973800-1809977400@mountainlakemn.com
SUMMARY:Lake Commission Meeting
DESCRIPTION:The seven member commission works to stabilize\, improve\, maintenance and preserve the lake.
URL:https://mountainlakemn.com/event/lake-commission-meeting-2025-12-08/2027-05-10/
LOCATION:City Hall Conference Room\, 930 Third Avenue\, Mountain Lake\, MN\, 56159
CATEGORIES:Meeting
END:VEVENT
BEGIN:VEVENT
DTSTART;TZID=America/Chicago:20270510T183000
DTEND;TZID=America/Chicago:20270510T193000
DTSTAMP:20260419T122125
CREATED:20220202T193747Z
LAST-MODIFIED:20220202T193747Z
UID:4899-1809973800-1809977400@mountainlakemn.com
SUMMARY:Lake Commission Meeting
DESCRIPTION:The seven member commission works to stabilize\, improve\, maintenance and preserve the lake.
URL:https://mountainlakemn.com/event/lake-commission-meeting-2025-12-08/2027-05-10/
LOCATION:City Hall Conference Room\, 930 Third Avenue\, Mountain Lake\, MN\, 56159
CATEGORIES:Meeting
END:VEVENT
BEGIN:VEVENT
DTSTART;TZID=America/Chicago:20270519T190000
DTEND;TZID=America/Chicago:20270519T200000
DTSTAMP:20260419T122125
CREATED:20220202T191111Z
LAST-MODIFIED:20220202T191111Z
UID:4922-1810753200-1810756800@mountainlakemn.com
SUMMARY:Active Living Meeting
DESCRIPTION:
URL:https://mountainlakemn.com/event/active-living-meeting-2025-12-17/2027-05-19/
LOCATION:City Hall Conference Room\, 930 Third Avenue\, Mountain Lake\, MN\, 56159
CATEGORIES:Meeting
END:VEVENT
BEGIN:VEVENT
DTSTART;TZID=America/Chicago:20270519T190000
DTEND;TZID=America/Chicago:20270519T200000
DTSTAMP:20260419T122125
CREATED:20220202T191111Z
LAST-MODIFIED:20260127T171617Z
UID:4612-1810753200-1810756800@mountainlakemn.com
SUMMARY:Active Living Meeting
DESCRIPTION:
URL:https://mountainlakemn.com/event/active-living-meeting-2025-12-17/2027-05-19/
LOCATION:City Hall Conference Room\, 930 Third Avenue\, Mountain Lake\, MN\, 56159
CATEGORIES:Meeting
END:VEVENT
BEGIN:VEVENT
DTSTART;TZID=America/Chicago:20270524T190000
DTEND;TZID=America/Chicago:20270524T200000
DTSTAMP:20260419T122125
CREATED:20220202T204519Z
LAST-MODIFIED:20220202T204519Z
UID:4780-1811185200-1811188800@mountainlakemn.com
SUMMARY:Police Commission Meeting
DESCRIPTION:The five member commission monitors\, reviews. and makes recommendations to the City Council regarding police department operations and functions.
URL:https://mountainlakemn.com/event/police-commission-meeting/2027-05-24/
LOCATION:City Hall Conference Room\, 930 Third Avenue\, Mountain Lake\, MN\, 56159
CATEGORIES:Meeting
END:VEVENT
BEGIN:VEVENT
DTSTART;TZID=America/Chicago:20270524T190000
DTEND;TZID=America/Chicago:20270524T200000
DTSTAMP:20260419T122125
CREATED:20220202T204519Z
LAST-MODIFIED:20220202T204519Z
UID:4816-1811185200-1811188800@mountainlakemn.com
SUMMARY:Police Commission Meeting
DESCRIPTION:The five member commission monitors\, reviews. and makes recommendations to the City Council regarding police department operations and functions.
URL:https://mountainlakemn.com/event/police-commission-meeting/2027-05-24/
LOCATION:City Hall Conference Room\, 930 Third Avenue\, Mountain Lake\, MN\, 56159
CATEGORIES:Meeting
END:VEVENT
BEGIN:VEVENT
DTSTART;TZID=America/Chicago:20270614T183000
DTEND;TZID=America/Chicago:20270614T193000
DTSTAMP:20260419T122125
CREATED:20220202T193747Z
LAST-MODIFIED:20220202T193747Z
UID:4549-1812997800-1813001400@mountainlakemn.com
SUMMARY:Lake Commission Meeting
DESCRIPTION:The seven member commission works to stabilize\, improve\, maintenance and preserve the lake.
URL:https://mountainlakemn.com/event/lake-commission-meeting-2025-12-08/2027-06-14/
LOCATION:City Hall Conference Room\, 930 Third Avenue\, Mountain Lake\, MN\, 56159
CATEGORIES:Meeting
END:VEVENT
BEGIN:VEVENT
DTSTART;TZID=America/Chicago:20270614T183000
DTEND;TZID=America/Chicago:20270614T193000
DTSTAMP:20260419T122125
CREATED:20220202T193747Z
LAST-MODIFIED:20220202T193747Z
UID:4900-1812997800-1813001400@mountainlakemn.com
SUMMARY:Lake Commission Meeting
DESCRIPTION:The seven member commission works to stabilize\, improve\, maintenance and preserve the lake.
URL:https://mountainlakemn.com/event/lake-commission-meeting-2025-12-08/2027-06-14/
LOCATION:City Hall Conference Room\, 930 Third Avenue\, Mountain Lake\, MN\, 56159
CATEGORIES:Meeting
END:VEVENT
BEGIN:VEVENT
DTSTART;TZID=America/Chicago:20270616T190000
DTEND;TZID=America/Chicago:20270616T200000
DTSTAMP:20260419T122125
CREATED:20220202T191111Z
LAST-MODIFIED:20220202T191111Z
UID:4923-1813172400-1813176000@mountainlakemn.com
SUMMARY:Active Living Meeting
DESCRIPTION:
URL:https://mountainlakemn.com/event/active-living-meeting-2025-12-17/2027-06-16/
LOCATION:City Hall Conference Room\, 930 Third Avenue\, Mountain Lake\, MN\, 56159
CATEGORIES:Meeting
END:VEVENT
BEGIN:VEVENT
DTSTART;TZID=America/Chicago:20270616T190000
DTEND;TZID=America/Chicago:20270616T200000
DTSTAMP:20260419T122125
CREATED:20220202T191111Z
LAST-MODIFIED:20260127T171617Z
UID:4613-1813172400-1813176000@mountainlakemn.com
SUMMARY:Active Living Meeting
DESCRIPTION:
URL:https://mountainlakemn.com/event/active-living-meeting-2025-12-17/2027-06-16/
LOCATION:City Hall Conference Room\, 930 Third Avenue\, Mountain Lake\, MN\, 56159
CATEGORIES:Meeting
END:VEVENT
BEGIN:VEVENT
DTSTART;TZID=America/Chicago:20270712T183000
DTEND;TZID=America/Chicago:20270712T193000
DTSTAMP:20260419T122125
CREATED:20220202T193747Z
LAST-MODIFIED:20220202T193747Z
UID:4550-1815417000-1815420600@mountainlakemn.com
SUMMARY:Lake Commission Meeting
DESCRIPTION:The seven member commission works to stabilize\, improve\, maintenance and preserve the lake.
URL:https://mountainlakemn.com/event/lake-commission-meeting-2025-12-08/2027-07-12/
LOCATION:City Hall Conference Room\, 930 Third Avenue\, Mountain Lake\, MN\, 56159
CATEGORIES:Meeting
END:VEVENT
BEGIN:VEVENT
DTSTART;TZID=America/Chicago:20270712T183000
DTEND;TZID=America/Chicago:20270712T193000
DTSTAMP:20260419T122125
CREATED:20220202T193747Z
LAST-MODIFIED:20220202T193747Z
UID:4901-1815417000-1815420600@mountainlakemn.com
SUMMARY:Lake Commission Meeting
DESCRIPTION:The seven member commission works to stabilize\, improve\, maintenance and preserve the lake.
URL:https://mountainlakemn.com/event/lake-commission-meeting-2025-12-08/2027-07-12/
LOCATION:City Hall Conference Room\, 930 Third Avenue\, Mountain Lake\, MN\, 56159
CATEGORIES:Meeting
END:VEVENT
BEGIN:VEVENT
DTSTART;TZID=America/Chicago:20270721T190000
DTEND;TZID=America/Chicago:20270721T200000
DTSTAMP:20260419T122125
CREATED:20220202T191111Z
LAST-MODIFIED:20220202T191111Z
UID:4924-1816196400-1816200000@mountainlakemn.com
SUMMARY:Active Living Meeting
DESCRIPTION:
URL:https://mountainlakemn.com/event/active-living-meeting-2025-12-17/2027-07-21/
LOCATION:City Hall Conference Room\, 930 Third Avenue\, Mountain Lake\, MN\, 56159
CATEGORIES:Meeting
END:VEVENT
BEGIN:VEVENT
DTSTART;TZID=America/Chicago:20270721T190000
DTEND;TZID=America/Chicago:20270721T200000
DTSTAMP:20260419T122125
CREATED:20220202T191111Z
LAST-MODIFIED:20260127T171617Z
UID:4614-1816196400-1816200000@mountainlakemn.com
SUMMARY:Active Living Meeting
DESCRIPTION:
URL:https://mountainlakemn.com/event/active-living-meeting-2025-12-17/2027-07-21/
LOCATION:City Hall Conference Room\, 930 Third Avenue\, Mountain Lake\, MN\, 56159
CATEGORIES:Meeting
END:VEVENT
BEGIN:VEVENT
DTSTART;TZID=America/Chicago:20270726T190000
DTEND;TZID=America/Chicago:20270726T200000
DTSTAMP:20260419T122125
CREATED:20220202T204519Z
LAST-MODIFIED:20220202T204519Z
UID:4781-1816628400-1816632000@mountainlakemn.com
SUMMARY:Police Commission Meeting
DESCRIPTION:The five member commission monitors\, reviews. and makes recommendations to the City Council regarding police department operations and functions.
URL:https://mountainlakemn.com/event/police-commission-meeting/2027-07-26/
LOCATION:City Hall Conference Room\, 930 Third Avenue\, Mountain Lake\, MN\, 56159
CATEGORIES:Meeting
END:VEVENT
BEGIN:VEVENT
DTSTART;TZID=America/Chicago:20270726T190000
DTEND;TZID=America/Chicago:20270726T200000
DTSTAMP:20260419T122125
CREATED:20220202T204519Z
LAST-MODIFIED:20220202T204519Z
UID:4817-1816628400-1816632000@mountainlakemn.com
SUMMARY:Police Commission Meeting
DESCRIPTION:The five member commission monitors\, reviews. and makes recommendations to the City Council regarding police department operations and functions.
URL:https://mountainlakemn.com/event/police-commission-meeting/2027-07-26/
LOCATION:City Hall Conference Room\, 930 Third Avenue\, Mountain Lake\, MN\, 56159
CATEGORIES:Meeting
END:VEVENT
BEGIN:VEVENT
DTSTART;TZID=America/Chicago:20270809T183000
DTEND;TZID=America/Chicago:20270809T193000
DTSTAMP:20260419T122125
CREATED:20220202T193747Z
LAST-MODIFIED:20220202T193747Z
UID:4902-1817836200-1817839800@mountainlakemn.com
SUMMARY:Lake Commission Meeting
DESCRIPTION:The seven member commission works to stabilize\, improve\, maintenance and preserve the lake.
URL:https://mountainlakemn.com/event/lake-commission-meeting-2025-12-08/2027-08-09/
LOCATION:City Hall Conference Room\, 930 Third Avenue\, Mountain Lake\, MN\, 56159
CATEGORIES:Meeting
END:VEVENT
BEGIN:VEVENT
DTSTART;TZID=America/Chicago:20270809T183000
DTEND;TZID=America/Chicago:20270809T193000
DTSTAMP:20260419T122125
CREATED:20220202T193747Z
LAST-MODIFIED:20220202T193747Z
UID:4551-1817836200-1817839800@mountainlakemn.com
SUMMARY:Lake Commission Meeting
DESCRIPTION:The seven member commission works to stabilize\, improve\, maintenance and preserve the lake.
URL:https://mountainlakemn.com/event/lake-commission-meeting-2025-12-08/2027-08-09/
LOCATION:City Hall Conference Room\, 930 Third Avenue\, Mountain Lake\, MN\, 56159
CATEGORIES:Meeting
END:VEVENT
BEGIN:VEVENT
DTSTART;TZID=America/Chicago:20270818T190000
DTEND;TZID=America/Chicago:20270818T200000
DTSTAMP:20260419T122125
CREATED:20220202T191111Z
LAST-MODIFIED:20260127T171618Z
UID:4615-1818615600-1818619200@mountainlakemn.com
SUMMARY:Active Living Meeting
DESCRIPTION:
URL:https://mountainlakemn.com/event/active-living-meeting-2025-12-17/2027-08-18/
LOCATION:City Hall Conference Room\, 930 Third Avenue\, Mountain Lake\, MN\, 56159
CATEGORIES:Meeting
END:VEVENT
BEGIN:VEVENT
DTSTART;TZID=America/Chicago:20270818T190000
DTEND;TZID=America/Chicago:20270818T200000
DTSTAMP:20260419T122125
CREATED:20220202T191111Z
LAST-MODIFIED:20220202T191111Z
UID:4925-1818615600-1818619200@mountainlakemn.com
SUMMARY:Active Living Meeting
DESCRIPTION:
URL:https://mountainlakemn.com/event/active-living-meeting-2025-12-17/2027-08-18/
LOCATION:City Hall Conference Room\, 930 Third Avenue\, Mountain Lake\, MN\, 56159
CATEGORIES:Meeting
END:VEVENT
BEGIN:VEVENT
DTSTART;TZID=America/Chicago:20270913T183000
DTEND;TZID=America/Chicago:20270913T193000
DTSTAMP:20260419T122125
CREATED:20220202T193747Z
LAST-MODIFIED:20220202T193747Z
UID:4903-1820860200-1820863800@mountainlakemn.com
SUMMARY:Lake Commission Meeting
DESCRIPTION:The seven member commission works to stabilize\, improve\, maintenance and preserve the lake.
URL:https://mountainlakemn.com/event/lake-commission-meeting-2025-12-08/2027-09-13/
LOCATION:City Hall Conference Room\, 930 Third Avenue\, Mountain Lake\, MN\, 56159
CATEGORIES:Meeting
END:VEVENT
BEGIN:VEVENT
DTSTART;TZID=America/Chicago:20270913T183000
DTEND;TZID=America/Chicago:20270913T193000
DTSTAMP:20260419T122125
CREATED:20220202T193747Z
LAST-MODIFIED:20220202T193747Z
UID:4552-1820860200-1820863800@mountainlakemn.com
SUMMARY:Lake Commission Meeting
DESCRIPTION:The seven member commission works to stabilize\, improve\, maintenance and preserve the lake.
URL:https://mountainlakemn.com/event/lake-commission-meeting-2025-12-08/2027-09-13/
LOCATION:City Hall Conference Room\, 930 Third Avenue\, Mountain Lake\, MN\, 56159
CATEGORIES:Meeting
END:VEVENT
BEGIN:VEVENT
DTSTART;TZID=America/Chicago:20270915T190000
DTEND;TZID=America/Chicago:20270915T200000
DTSTAMP:20260419T122125
CREATED:20220202T191111Z
LAST-MODIFIED:20260127T171619Z
UID:4616-1821034800-1821038400@mountainlakemn.com
SUMMARY:Active Living Meeting
DESCRIPTION:
URL:https://mountainlakemn.com/event/active-living-meeting-2025-12-17/2027-09-15/
LOCATION:City Hall Conference Room\, 930 Third Avenue\, Mountain Lake\, MN\, 56159
CATEGORIES:Meeting
END:VEVENT
BEGIN:VEVENT
DTSTART;TZID=America/Chicago:20270915T190000
DTEND;TZID=America/Chicago:20270915T200000
DTSTAMP:20260419T122125
CREATED:20220202T191111Z
LAST-MODIFIED:20220202T191111Z
UID:4926-1821034800-1821038400@mountainlakemn.com
SUMMARY:Active Living Meeting
DESCRIPTION:
URL:https://mountainlakemn.com/event/active-living-meeting-2025-12-17/2027-09-15/
LOCATION:City Hall Conference Room\, 930 Third Avenue\, Mountain Lake\, MN\, 56159
CATEGORIES:Meeting
END:VEVENT
BEGIN:VEVENT
DTSTART;TZID=America/Chicago:20270927T190000
DTEND;TZID=America/Chicago:20270927T200000
DTSTAMP:20260419T122125
CREATED:20220202T204519Z
LAST-MODIFIED:20220202T204519Z
UID:4818-1822071600-1822075200@mountainlakemn.com
SUMMARY:Police Commission Meeting
DESCRIPTION:The five member commission monitors\, reviews. and makes recommendations to the City Council regarding police department operations and functions.
URL:https://mountainlakemn.com/event/police-commission-meeting/2027-09-27/
LOCATION:City Hall Conference Room\, 930 Third Avenue\, Mountain Lake\, MN\, 56159
CATEGORIES:Meeting
END:VEVENT
BEGIN:VEVENT
DTSTART;TZID=America/Chicago:20270927T190000
DTEND;TZID=America/Chicago:20270927T200000
DTSTAMP:20260419T122125
CREATED:20220202T204519Z
LAST-MODIFIED:20220202T204519Z
UID:4782-1822071600-1822075200@mountainlakemn.com
SUMMARY:Police Commission Meeting
DESCRIPTION:The five member commission monitors\, reviews. and makes recommendations to the City Council regarding police department operations and functions.
URL:https://mountainlakemn.com/event/police-commission-meeting/2027-09-27/
LOCATION:City Hall Conference Room\, 930 Third Avenue\, Mountain Lake\, MN\, 56159
CATEGORIES:Meeting
END:VEVENT
BEGIN:VEVENT
DTSTART;TZID=America/Chicago:20271011T183000
DTEND;TZID=America/Chicago:20271011T193000
DTSTAMP:20260419T122125
CREATED:20220202T193747Z
LAST-MODIFIED:20220202T193747Z
UID:4904-1823279400-1823283000@mountainlakemn.com
SUMMARY:Lake Commission Meeting
DESCRIPTION:The seven member commission works to stabilize\, improve\, maintenance and preserve the lake.
URL:https://mountainlakemn.com/event/lake-commission-meeting-2025-12-08/2027-10-11/
LOCATION:City Hall Conference Room\, 930 Third Avenue\, Mountain Lake\, MN\, 56159
CATEGORIES:Meeting
END:VEVENT
BEGIN:VEVENT
DTSTART;TZID=America/Chicago:20271011T183000
DTEND;TZID=America/Chicago:20271011T193000
DTSTAMP:20260419T122125
CREATED:20220202T193747Z
LAST-MODIFIED:20220202T193747Z
UID:4553-1823279400-1823283000@mountainlakemn.com
SUMMARY:Lake Commission Meeting
DESCRIPTION:The seven member commission works to stabilize\, improve\, maintenance and preserve the lake.
URL:https://mountainlakemn.com/event/lake-commission-meeting-2025-12-08/2027-10-11/
LOCATION:City Hall Conference Room\, 930 Third Avenue\, Mountain Lake\, MN\, 56159
CATEGORIES:Meeting
END:VEVENT
BEGIN:VEVENT
DTSTART;TZID=America/Chicago:20271020T190000
DTEND;TZID=America/Chicago:20271020T200000
DTSTAMP:20260419T122125
CREATED:20220202T191111Z
LAST-MODIFIED:20260127T171620Z
UID:4617-1824058800-1824062400@mountainlakemn.com
SUMMARY:Active Living Meeting
DESCRIPTION:
URL:https://mountainlakemn.com/event/active-living-meeting-2025-12-17/2027-10-20/
LOCATION:City Hall Conference Room\, 930 Third Avenue\, Mountain Lake\, MN\, 56159
CATEGORIES:Meeting
END:VEVENT
BEGIN:VEVENT
DTSTART;TZID=America/Chicago:20271020T190000
DTEND;TZID=America/Chicago:20271020T200000
DTSTAMP:20260419T122125
CREATED:20220202T191111Z
LAST-MODIFIED:20220202T191111Z
UID:4927-1824058800-1824062400@mountainlakemn.com
SUMMARY:Active Living Meeting
DESCRIPTION:
URL:https://mountainlakemn.com/event/active-living-meeting-2025-12-17/2027-10-20/
LOCATION:City Hall Conference Room\, 930 Third Avenue\, Mountain Lake\, MN\, 56159
CATEGORIES:Meeting
END:VEVENT
END:VCALENDAR