BEGIN:VCALENDAR
VERSION:2.0
PRODID:-//City of Mountain Lake - ECPv5.14.0.1//NONSGML v1.0//EN
CALSCALE:GREGORIAN
METHOD:PUBLISH
X-WR-CALNAME:City of Mountain Lake
X-ORIGINAL-URL:https://mountainlakemn.com
X-WR-CALDESC:Events for City of Mountain Lake
REFRESH-INTERVAL;VALUE=DURATION:PT1H
X-Robots-Tag:noindex
X-PUBLISHED-TTL:PT1H
BEGIN:VTIMEZONE
TZID:America/Chicago
BEGIN:DAYLIGHT
TZOFFSETFROM:-0600
TZOFFSETTO:-0500
TZNAME:CDT
DTSTART:20260308T080000
END:DAYLIGHT
BEGIN:STANDARD
TZOFFSETFROM:-0500
TZOFFSETTO:-0600
TZNAME:CST
DTSTART:20261101T070000
END:STANDARD
BEGIN:DAYLIGHT
TZOFFSETFROM:-0600
TZOFFSETTO:-0500
TZNAME:CDT
DTSTART:20270314T080000
END:DAYLIGHT
BEGIN:STANDARD
TZOFFSETFROM:-0500
TZOFFSETTO:-0600
TZNAME:CST
DTSTART:20271107T070000
END:STANDARD
END:VTIMEZONE
BEGIN:VEVENT
DTSTART;TZID=America/Chicago:20261214T183000
DTEND;TZID=America/Chicago:20261214T193000
DTSTAMP:20260419T093053
CREATED:20220202T193747Z
LAST-MODIFIED:20220202T193747Z
UID:4894-1797273000-1797276600@mountainlakemn.com
SUMMARY:Lake Commission Meeting
DESCRIPTION:The seven member commission works to stabilize\, improve\, maintenance and preserve the lake.
URL:https://mountainlakemn.com/event/lake-commission-meeting-2025-12-08/2026-12-14/
LOCATION:City Hall Conference Room\, 930 Third Avenue\, Mountain Lake\, MN\, 56159
CATEGORIES:Meeting
END:VEVENT
BEGIN:VEVENT
DTSTART;TZID=America/Chicago:20261214T183000
DTEND;TZID=America/Chicago:20261214T193000
DTSTAMP:20260419T093053
CREATED:20220202T193747Z
LAST-MODIFIED:20220202T193747Z
UID:4543-1797273000-1797276600@mountainlakemn.com
SUMMARY:Lake Commission Meeting
DESCRIPTION:The seven member commission works to stabilize\, improve\, maintenance and preserve the lake.
URL:https://mountainlakemn.com/event/lake-commission-meeting-2025-12-08/2026-12-14/
LOCATION:City Hall Conference Room\, 930 Third Avenue\, Mountain Lake\, MN\, 56159
CATEGORIES:Meeting
END:VEVENT
BEGIN:VEVENT
DTSTART;TZID=America/Chicago:20261216T190000
DTEND;TZID=America/Chicago:20261216T200000
DTSTAMP:20260419T093053
CREATED:20220202T191111Z
LAST-MODIFIED:20260127T171617Z
UID:4607-1797447600-1797451200@mountainlakemn.com
SUMMARY:Active Living Meeting
DESCRIPTION:
URL:https://mountainlakemn.com/event/active-living-meeting-2025-12-17/2026-12-16/
LOCATION:City Hall Conference Room\, 930 Third Avenue\, Mountain Lake\, MN\, 56159
CATEGORIES:Meeting
END:VEVENT
BEGIN:VEVENT
DTSTART;TZID=America/Chicago:20261216T190000
DTEND;TZID=America/Chicago:20261216T200000
DTSTAMP:20260419T093053
CREATED:20220202T191111Z
LAST-MODIFIED:20220202T191111Z
UID:4917-1797447600-1797451200@mountainlakemn.com
SUMMARY:Active Living Meeting
DESCRIPTION:
URL:https://mountainlakemn.com/event/active-living-meeting-2025-12-17/2026-12-16/
LOCATION:City Hall Conference Room\, 930 Third Avenue\, Mountain Lake\, MN\, 56159
CATEGORIES:Meeting
END:VEVENT
BEGIN:VEVENT
DTSTART;TZID=America/Chicago:20270111T183000
DTEND;TZID=America/Chicago:20270111T193000
DTSTAMP:20260419T093053
CREATED:20220202T193747Z
LAST-MODIFIED:20220202T193747Z
UID:4895-1799692200-1799695800@mountainlakemn.com
SUMMARY:Lake Commission Meeting
DESCRIPTION:The seven member commission works to stabilize\, improve\, maintenance and preserve the lake.
URL:https://mountainlakemn.com/event/lake-commission-meeting-2025-12-08/2027-01-11/
LOCATION:City Hall Conference Room\, 930 Third Avenue\, Mountain Lake\, MN\, 56159
CATEGORIES:Meeting
END:VEVENT
BEGIN:VEVENT
DTSTART;TZID=America/Chicago:20270111T183000
DTEND;TZID=America/Chicago:20270111T193000
DTSTAMP:20260419T093053
CREATED:20220202T193747Z
LAST-MODIFIED:20220202T193747Z
UID:4544-1799692200-1799695800@mountainlakemn.com
SUMMARY:Lake Commission Meeting
DESCRIPTION:The seven member commission works to stabilize\, improve\, maintenance and preserve the lake.
URL:https://mountainlakemn.com/event/lake-commission-meeting-2025-12-08/2027-01-11/
LOCATION:City Hall Conference Room\, 930 Third Avenue\, Mountain Lake\, MN\, 56159
CATEGORIES:Meeting
END:VEVENT
BEGIN:VEVENT
DTSTART;TZID=America/Chicago:20270120T190000
DTEND;TZID=America/Chicago:20270120T200000
DTSTAMP:20260419T093053
CREATED:20220202T191111Z
LAST-MODIFIED:20260127T171617Z
UID:4608-1800471600-1800475200@mountainlakemn.com
SUMMARY:Active Living Meeting
DESCRIPTION:
URL:https://mountainlakemn.com/event/active-living-meeting-2025-12-17/2027-01-20/
LOCATION:City Hall Conference Room\, 930 Third Avenue\, Mountain Lake\, MN\, 56159
CATEGORIES:Meeting
END:VEVENT
BEGIN:VEVENT
DTSTART;TZID=America/Chicago:20270120T190000
DTEND;TZID=America/Chicago:20270120T200000
DTSTAMP:20260419T093053
CREATED:20220202T191111Z
LAST-MODIFIED:20220202T191111Z
UID:4918-1800471600-1800475200@mountainlakemn.com
SUMMARY:Active Living Meeting
DESCRIPTION:
URL:https://mountainlakemn.com/event/active-living-meeting-2025-12-17/2027-01-20/
LOCATION:City Hall Conference Room\, 930 Third Avenue\, Mountain Lake\, MN\, 56159
CATEGORIES:Meeting
END:VEVENT
BEGIN:VEVENT
DTSTART;TZID=America/Chicago:20270125T190000
DTEND;TZID=America/Chicago:20270125T200000
DTSTAMP:20260419T093053
CREATED:20220202T204519Z
LAST-MODIFIED:20220202T204519Z
UID:4814-1800903600-1800907200@mountainlakemn.com
SUMMARY:Police Commission Meeting
DESCRIPTION:The five member commission monitors\, reviews. and makes recommendations to the City Council regarding police department operations and functions.
URL:https://mountainlakemn.com/event/police-commission-meeting/2027-01-25/
LOCATION:City Hall Conference Room\, 930 Third Avenue\, Mountain Lake\, MN\, 56159
CATEGORIES:Meeting
END:VEVENT
BEGIN:VEVENT
DTSTART;TZID=America/Chicago:20270125T190000
DTEND;TZID=America/Chicago:20270125T200000
DTSTAMP:20260419T093053
CREATED:20220202T204519Z
LAST-MODIFIED:20220202T204519Z
UID:4778-1800903600-1800907200@mountainlakemn.com
SUMMARY:Police Commission Meeting
DESCRIPTION:The five member commission monitors\, reviews. and makes recommendations to the City Council regarding police department operations and functions.
URL:https://mountainlakemn.com/event/police-commission-meeting/2027-01-25/
LOCATION:City Hall Conference Room\, 930 Third Avenue\, Mountain Lake\, MN\, 56159
CATEGORIES:Meeting
END:VEVENT
BEGIN:VEVENT
DTSTART;TZID=America/Chicago:20270208T183000
DTEND;TZID=America/Chicago:20270208T193000
DTSTAMP:20260419T093053
CREATED:20220202T193747Z
LAST-MODIFIED:20220202T193747Z
UID:4896-1802111400-1802115000@mountainlakemn.com
SUMMARY:Lake Commission Meeting
DESCRIPTION:The seven member commission works to stabilize\, improve\, maintenance and preserve the lake.
URL:https://mountainlakemn.com/event/lake-commission-meeting-2025-12-08/2027-02-08/
LOCATION:City Hall Conference Room\, 930 Third Avenue\, Mountain Lake\, MN\, 56159
CATEGORIES:Meeting
END:VEVENT
BEGIN:VEVENT
DTSTART;TZID=America/Chicago:20270208T183000
DTEND;TZID=America/Chicago:20270208T193000
DTSTAMP:20260419T093053
CREATED:20220202T193747Z
LAST-MODIFIED:20220202T193747Z
UID:4545-1802111400-1802115000@mountainlakemn.com
SUMMARY:Lake Commission Meeting
DESCRIPTION:The seven member commission works to stabilize\, improve\, maintenance and preserve the lake.
URL:https://mountainlakemn.com/event/lake-commission-meeting-2025-12-08/2027-02-08/
LOCATION:City Hall Conference Room\, 930 Third Avenue\, Mountain Lake\, MN\, 56159
CATEGORIES:Meeting
END:VEVENT
BEGIN:VEVENT
DTSTART;TZID=America/Chicago:20270217T190000
DTEND;TZID=America/Chicago:20270217T200000
DTSTAMP:20260419T093053
CREATED:20220202T191111Z
LAST-MODIFIED:20260127T171617Z
UID:4609-1802890800-1802894400@mountainlakemn.com
SUMMARY:Active Living Meeting
DESCRIPTION:
URL:https://mountainlakemn.com/event/active-living-meeting-2025-12-17/2027-02-17/
LOCATION:City Hall Conference Room\, 930 Third Avenue\, Mountain Lake\, MN\, 56159
CATEGORIES:Meeting
END:VEVENT
BEGIN:VEVENT
DTSTART;TZID=America/Chicago:20270217T190000
DTEND;TZID=America/Chicago:20270217T200000
DTSTAMP:20260419T093053
CREATED:20220202T191111Z
LAST-MODIFIED:20220202T191111Z
UID:4919-1802890800-1802894400@mountainlakemn.com
SUMMARY:Active Living Meeting
DESCRIPTION:
URL:https://mountainlakemn.com/event/active-living-meeting-2025-12-17/2027-02-17/
LOCATION:City Hall Conference Room\, 930 Third Avenue\, Mountain Lake\, MN\, 56159
CATEGORIES:Meeting
END:VEVENT
BEGIN:VEVENT
DTSTART;TZID=America/Chicago:20270308T183000
DTEND;TZID=America/Chicago:20270308T193000
DTSTAMP:20260419T093053
CREATED:20220202T193747Z
LAST-MODIFIED:20220202T193747Z
UID:4897-1804530600-1804534200@mountainlakemn.com
SUMMARY:Lake Commission Meeting
DESCRIPTION:The seven member commission works to stabilize\, improve\, maintenance and preserve the lake.
URL:https://mountainlakemn.com/event/lake-commission-meeting-2025-12-08/2027-03-08/
LOCATION:City Hall Conference Room\, 930 Third Avenue\, Mountain Lake\, MN\, 56159
CATEGORIES:Meeting
END:VEVENT
BEGIN:VEVENT
DTSTART;TZID=America/Chicago:20270308T183000
DTEND;TZID=America/Chicago:20270308T193000
DTSTAMP:20260419T093053
CREATED:20220202T193747Z
LAST-MODIFIED:20220202T193747Z
UID:4546-1804530600-1804534200@mountainlakemn.com
SUMMARY:Lake Commission Meeting
DESCRIPTION:The seven member commission works to stabilize\, improve\, maintenance and preserve the lake.
URL:https://mountainlakemn.com/event/lake-commission-meeting-2025-12-08/2027-03-08/
LOCATION:City Hall Conference Room\, 930 Third Avenue\, Mountain Lake\, MN\, 56159
CATEGORIES:Meeting
END:VEVENT
BEGIN:VEVENT
DTSTART;TZID=America/Chicago:20270317T190000
DTEND;TZID=America/Chicago:20270317T200000
DTSTAMP:20260419T093053
CREATED:20220202T191111Z
LAST-MODIFIED:20220202T191111Z
UID:4920-1805310000-1805313600@mountainlakemn.com
SUMMARY:Active Living Meeting
DESCRIPTION:
URL:https://mountainlakemn.com/event/active-living-meeting-2025-12-17/2027-03-17/
LOCATION:City Hall Conference Room\, 930 Third Avenue\, Mountain Lake\, MN\, 56159
CATEGORIES:Meeting
END:VEVENT
BEGIN:VEVENT
DTSTART;TZID=America/Chicago:20270317T190000
DTEND;TZID=America/Chicago:20270317T200000
DTSTAMP:20260419T093053
CREATED:20220202T191111Z
LAST-MODIFIED:20260127T171617Z
UID:4610-1805310000-1805313600@mountainlakemn.com
SUMMARY:Active Living Meeting
DESCRIPTION:
URL:https://mountainlakemn.com/event/active-living-meeting-2025-12-17/2027-03-17/
LOCATION:City Hall Conference Room\, 930 Third Avenue\, Mountain Lake\, MN\, 56159
CATEGORIES:Meeting
END:VEVENT
BEGIN:VEVENT
DTSTART;TZID=America/Chicago:20270322T190000
DTEND;TZID=America/Chicago:20270322T200000
DTSTAMP:20260419T093053
CREATED:20220202T204519Z
LAST-MODIFIED:20220202T204519Z
UID:4815-1805742000-1805745600@mountainlakemn.com
SUMMARY:Police Commission Meeting
DESCRIPTION:The five member commission monitors\, reviews. and makes recommendations to the City Council regarding police department operations and functions.
URL:https://mountainlakemn.com/event/police-commission-meeting/2027-03-22/
LOCATION:City Hall Conference Room\, 930 Third Avenue\, Mountain Lake\, MN\, 56159
CATEGORIES:Meeting
END:VEVENT
BEGIN:VEVENT
DTSTART;TZID=America/Chicago:20270322T190000
DTEND;TZID=America/Chicago:20270322T200000
DTSTAMP:20260419T093053
CREATED:20220202T204519Z
LAST-MODIFIED:20220202T204519Z
UID:4779-1805742000-1805745600@mountainlakemn.com
SUMMARY:Police Commission Meeting
DESCRIPTION:The five member commission monitors\, reviews. and makes recommendations to the City Council regarding police department operations and functions.
URL:https://mountainlakemn.com/event/police-commission-meeting/2027-03-22/
LOCATION:City Hall Conference Room\, 930 Third Avenue\, Mountain Lake\, MN\, 56159
CATEGORIES:Meeting
END:VEVENT
BEGIN:VEVENT
DTSTART;TZID=America/Chicago:20270412T183000
DTEND;TZID=America/Chicago:20270412T193000
DTSTAMP:20260419T093053
CREATED:20220202T193747Z
LAST-MODIFIED:20220202T193747Z
UID:4547-1807554600-1807558200@mountainlakemn.com
SUMMARY:Lake Commission Meeting
DESCRIPTION:The seven member commission works to stabilize\, improve\, maintenance and preserve the lake.
URL:https://mountainlakemn.com/event/lake-commission-meeting-2025-12-08/2027-04-12/
LOCATION:City Hall Conference Room\, 930 Third Avenue\, Mountain Lake\, MN\, 56159
CATEGORIES:Meeting
END:VEVENT
BEGIN:VEVENT
DTSTART;TZID=America/Chicago:20270412T183000
DTEND;TZID=America/Chicago:20270412T193000
DTSTAMP:20260419T093053
CREATED:20220202T193747Z
LAST-MODIFIED:20220202T193747Z
UID:4898-1807554600-1807558200@mountainlakemn.com
SUMMARY:Lake Commission Meeting
DESCRIPTION:The seven member commission works to stabilize\, improve\, maintenance and preserve the lake.
URL:https://mountainlakemn.com/event/lake-commission-meeting-2025-12-08/2027-04-12/
LOCATION:City Hall Conference Room\, 930 Third Avenue\, Mountain Lake\, MN\, 56159
CATEGORIES:Meeting
END:VEVENT
BEGIN:VEVENT
DTSTART;TZID=America/Chicago:20270421T190000
DTEND;TZID=America/Chicago:20270421T200000
DTSTAMP:20260419T093053
CREATED:20220202T191111Z
LAST-MODIFIED:20220202T191111Z
UID:4921-1808334000-1808337600@mountainlakemn.com
SUMMARY:Active Living Meeting
DESCRIPTION:
URL:https://mountainlakemn.com/event/active-living-meeting-2025-12-17/2027-04-21/
LOCATION:City Hall Conference Room\, 930 Third Avenue\, Mountain Lake\, MN\, 56159
CATEGORIES:Meeting
END:VEVENT
BEGIN:VEVENT
DTSTART;TZID=America/Chicago:20270421T190000
DTEND;TZID=America/Chicago:20270421T200000
DTSTAMP:20260419T093053
CREATED:20220202T191111Z
LAST-MODIFIED:20260127T171617Z
UID:4611-1808334000-1808337600@mountainlakemn.com
SUMMARY:Active Living Meeting
DESCRIPTION:
URL:https://mountainlakemn.com/event/active-living-meeting-2025-12-17/2027-04-21/
LOCATION:City Hall Conference Room\, 930 Third Avenue\, Mountain Lake\, MN\, 56159
CATEGORIES:Meeting
END:VEVENT
BEGIN:VEVENT
DTSTART;TZID=America/Chicago:20270510T183000
DTEND;TZID=America/Chicago:20270510T193000
DTSTAMP:20260419T093053
CREATED:20220202T193747Z
LAST-MODIFIED:20220202T193747Z
UID:4548-1809973800-1809977400@mountainlakemn.com
SUMMARY:Lake Commission Meeting
DESCRIPTION:The seven member commission works to stabilize\, improve\, maintenance and preserve the lake.
URL:https://mountainlakemn.com/event/lake-commission-meeting-2025-12-08/2027-05-10/
LOCATION:City Hall Conference Room\, 930 Third Avenue\, Mountain Lake\, MN\, 56159
CATEGORIES:Meeting
END:VEVENT
BEGIN:VEVENT
DTSTART;TZID=America/Chicago:20270510T183000
DTEND;TZID=America/Chicago:20270510T193000
DTSTAMP:20260419T093053
CREATED:20220202T193747Z
LAST-MODIFIED:20220202T193747Z
UID:4899-1809973800-1809977400@mountainlakemn.com
SUMMARY:Lake Commission Meeting
DESCRIPTION:The seven member commission works to stabilize\, improve\, maintenance and preserve the lake.
URL:https://mountainlakemn.com/event/lake-commission-meeting-2025-12-08/2027-05-10/
LOCATION:City Hall Conference Room\, 930 Third Avenue\, Mountain Lake\, MN\, 56159
CATEGORIES:Meeting
END:VEVENT
BEGIN:VEVENT
DTSTART;TZID=America/Chicago:20270519T190000
DTEND;TZID=America/Chicago:20270519T200000
DTSTAMP:20260419T093053
CREATED:20220202T191111Z
LAST-MODIFIED:20220202T191111Z
UID:4922-1810753200-1810756800@mountainlakemn.com
SUMMARY:Active Living Meeting
DESCRIPTION:
URL:https://mountainlakemn.com/event/active-living-meeting-2025-12-17/2027-05-19/
LOCATION:City Hall Conference Room\, 930 Third Avenue\, Mountain Lake\, MN\, 56159
CATEGORIES:Meeting
END:VEVENT
BEGIN:VEVENT
DTSTART;TZID=America/Chicago:20270519T190000
DTEND;TZID=America/Chicago:20270519T200000
DTSTAMP:20260419T093053
CREATED:20220202T191111Z
LAST-MODIFIED:20260127T171617Z
UID:4612-1810753200-1810756800@mountainlakemn.com
SUMMARY:Active Living Meeting
DESCRIPTION:
URL:https://mountainlakemn.com/event/active-living-meeting-2025-12-17/2027-05-19/
LOCATION:City Hall Conference Room\, 930 Third Avenue\, Mountain Lake\, MN\, 56159
CATEGORIES:Meeting
END:VEVENT
BEGIN:VEVENT
DTSTART;TZID=America/Chicago:20270524T190000
DTEND;TZID=America/Chicago:20270524T200000
DTSTAMP:20260419T093053
CREATED:20220202T204519Z
LAST-MODIFIED:20220202T204519Z
UID:4780-1811185200-1811188800@mountainlakemn.com
SUMMARY:Police Commission Meeting
DESCRIPTION:The five member commission monitors\, reviews. and makes recommendations to the City Council regarding police department operations and functions.
URL:https://mountainlakemn.com/event/police-commission-meeting/2027-05-24/
LOCATION:City Hall Conference Room\, 930 Third Avenue\, Mountain Lake\, MN\, 56159
CATEGORIES:Meeting
END:VEVENT
BEGIN:VEVENT
DTSTART;TZID=America/Chicago:20270524T190000
DTEND;TZID=America/Chicago:20270524T200000
DTSTAMP:20260419T093053
CREATED:20220202T204519Z
LAST-MODIFIED:20220202T204519Z
UID:4816-1811185200-1811188800@mountainlakemn.com
SUMMARY:Police Commission Meeting
DESCRIPTION:The five member commission monitors\, reviews. and makes recommendations to the City Council regarding police department operations and functions.
URL:https://mountainlakemn.com/event/police-commission-meeting/2027-05-24/
LOCATION:City Hall Conference Room\, 930 Third Avenue\, Mountain Lake\, MN\, 56159
CATEGORIES:Meeting
END:VEVENT
END:VCALENDAR