BEGIN:VCALENDAR
VERSION:2.0
PRODID:-//City of Mountain Lake - ECPv5.14.0.1//NONSGML v1.0//EN
CALSCALE:GREGORIAN
METHOD:PUBLISH
X-WR-CALNAME:City of Mountain Lake
X-ORIGINAL-URL:https://mountainlakemn.com
X-WR-CALDESC:Events for City of Mountain Lake
REFRESH-INTERVAL;VALUE=DURATION:PT1H
X-Robots-Tag:noindex
X-PUBLISHED-TTL:PT1H
BEGIN:VTIMEZONE
TZID:America/Chicago
BEGIN:DAYLIGHT
TZOFFSETFROM:-0600
TZOFFSETTO:-0500
TZNAME:CDT
DTSTART:20240310T080000
END:DAYLIGHT
BEGIN:STANDARD
TZOFFSETFROM:-0500
TZOFFSETTO:-0600
TZNAME:CST
DTSTART:20241103T070000
END:STANDARD
END:VTIMEZONE
BEGIN:VEVENT
DTSTART;TZID=America/Chicago:20241218T190000
DTEND;TZID=America/Chicago:20241218T200000
DTSTAMP:20260421T003435
CREATED:20220202T191111Z
LAST-MODIFIED:20220202T191111Z
UID:3770-1734548400-1734552000@mountainlakemn.com
SUMMARY:Active Living Meeting
DESCRIPTION:
URL:https://mountainlakemn.com/event/active-living-meeting/2024-12-18/
LOCATION:City Hall Conference Room\, 930 Third Avenue\, Mountain Lake\, MN\, 56159
CATEGORIES:Meeting
END:VEVENT
BEGIN:VEVENT
DTSTART;TZID=America/Chicago:20241217T174500
DTEND;TZID=America/Chicago:20241217T210000
DTSTAMP:20260421T003435
CREATED:20220202T004521Z
LAST-MODIFIED:20231226T151611Z
UID:3633-1734457500-1734469200@mountainlakemn.com
SUMMARY:City Council Meeting
DESCRIPTION:Composed of a mayor and four council members. Council members serve for year terms; the mayor\, a two year term.
URL:https://mountainlakemn.com/event/city-council-meeting/2024-12-17/
LOCATION:City Hall Council Chambers\, 930 Third Avenue\, Mountain Lake\, MN\, 56159
CATEGORIES:Meeting
END:VEVENT
BEGIN:VEVENT
DTSTART;TZID=America/Chicago:20241209T183000
DTEND;TZID=America/Chicago:20241209T193000
DTSTAMP:20260421T003435
CREATED:20220202T193747Z
LAST-MODIFIED:20220202T193747Z
UID:3698-1733769000-1733772600@mountainlakemn.com
SUMMARY:Lake Commission Meeting
DESCRIPTION:The seven member commission works to stabilize\, improve\, maintenance and preserve the lake.
URL:https://mountainlakemn.com/event/lake-commission-meeting/2024-12-09/
LOCATION:City Hall Conference Room\, 930 Third Avenue\, Mountain Lake\, MN\, 56159
CATEGORIES:Meeting
END:VEVENT
BEGIN:VEVENT
DTSTART;TZID=America/Chicago:20241209T120000
DTEND;TZID=America/Chicago:20241209T130000
DTSTAMP:20260421T003435
CREATED:20220202T205527Z
LAST-MODIFIED:20220202T205527Z
UID:3737-1733745600-1733749200@mountainlakemn.com
SUMMARY:EDA Board Meeting
DESCRIPTION:The seven member authority carries out economic\, housing and industrial development and redevelopment within the City of Mountain Lake.
URL:https://mountainlakemn.com/event/eda-board-meeting/2024-12-09/
LOCATION:City Hall Council Chambers\, 930 Third Avenue\, Mountain Lake\, MN\, 56159
CATEGORIES:Meeting
END:VEVENT
BEGIN:VEVENT
DTSTART;TZID=America/Chicago:20241203T174500
DTEND;TZID=America/Chicago:20241203T210000
DTSTAMP:20260421T003435
CREATED:20220202T004521Z
LAST-MODIFIED:20231226T151611Z
UID:3632-1733247900-1733259600@mountainlakemn.com
SUMMARY:City Council Meeting
DESCRIPTION:Composed of a mayor and four council members. Council members serve for year terms; the mayor\, a two year term.
URL:https://mountainlakemn.com/event/city-council-meeting/2024-12-03/
LOCATION:City Hall Council Chambers\, 930 Third Avenue\, Mountain Lake\, MN\, 56159
CATEGORIES:Meeting
END:VEVENT
BEGIN:VEVENT
DTSTART;TZID=America/Chicago:20241120T190000
DTEND;TZID=America/Chicago:20241120T200000
DTSTAMP:20260421T003435
CREATED:20220202T191111Z
LAST-MODIFIED:20220202T191111Z
UID:3769-1732129200-1732132800@mountainlakemn.com
SUMMARY:Active Living Meeting
DESCRIPTION:
URL:https://mountainlakemn.com/event/active-living-meeting/2024-11-20/
LOCATION:City Hall Conference Room\, 930 Third Avenue\, Mountain Lake\, MN\, 56159
CATEGORIES:Meeting
END:VEVENT
BEGIN:VEVENT
DTSTART;TZID=America/Chicago:20241118T174500
DTEND;TZID=America/Chicago:20241118T210000
DTSTAMP:20260421T003435
CREATED:20220202T004521Z
LAST-MODIFIED:20231226T151611Z
UID:3590-1731951900-1731963600@mountainlakemn.com
SUMMARY:City Council Meeting
DESCRIPTION:Composed of a mayor and four council members. Council members serve for year terms; the mayor\, a two year term.
URL:https://mountainlakemn.com/event/city-council-meeting/2024-11-18/
LOCATION:City Hall Council Chambers\, 930 Third Avenue\, Mountain Lake\, MN\, 56159
CATEGORIES:Meeting
END:VEVENT
BEGIN:VEVENT
DTSTART;TZID=America/Chicago:20241118T120000
DTEND;TZID=America/Chicago:20241118T130000
DTSTAMP:20260421T003435
CREATED:20220202T205527Z
LAST-MODIFIED:20231226T155708Z
UID:3722-1731931200-1731934800@mountainlakemn.com
SUMMARY:EDA Board Meeting
DESCRIPTION:The seven member authority carries out economic\, housing and industrial development and redevelopment within the City of Mountain Lake.
URL:https://mountainlakemn.com/event/eda-board-meeting/2024-11-18/
LOCATION:City Hall Council Chambers\, 930 Third Avenue\, Mountain Lake\, MN\, 56159
CATEGORIES:Meeting
END:VEVENT
BEGIN:VEVENT
DTSTART;TZID=America/Chicago:20241111T183000
DTEND;TZID=America/Chicago:20241111T193000
DTSTAMP:20260421T003435
CREATED:20220202T193747Z
LAST-MODIFIED:20220202T193747Z
UID:3697-1731349800-1731353400@mountainlakemn.com
SUMMARY:Lake Commission Meeting
DESCRIPTION:The seven member commission works to stabilize\, improve\, maintenance and preserve the lake.
URL:https://mountainlakemn.com/event/lake-commission-meeting/2024-11-11/
LOCATION:City Hall Conference Room\, 930 Third Avenue\, Mountain Lake\, MN\, 56159
CATEGORIES:Meeting
END:VEVENT
BEGIN:VEVENT
DTSTART;TZID=America/Chicago:20241104T174500
DTEND;TZID=America/Chicago:20241104T210000
DTSTAMP:20260421T003435
CREATED:20220202T004521Z
LAST-MODIFIED:20231226T151611Z
UID:3547-1730742300-1730754000@mountainlakemn.com
SUMMARY:City Council Meeting
DESCRIPTION:Composed of a mayor and four council members. Council members serve for year terms; the mayor\, a two year term.
URL:https://mountainlakemn.com/event/city-council-meeting/2024-11-04/
LOCATION:City Hall Council Chambers\, 930 Third Avenue\, Mountain Lake\, MN\, 56159
CATEGORIES:Meeting
END:VEVENT
BEGIN:VEVENT
DTSTART;TZID=America/Chicago:20241021T174500
DTEND;TZID=America/Chicago:20241021T210000
DTSTAMP:20260421T003435
CREATED:20220202T004521Z
LAST-MODIFIED:20231226T151611Z
UID:3589-1729532700-1729544400@mountainlakemn.com
SUMMARY:City Council Meeting
DESCRIPTION:Composed of a mayor and four council members. Council members serve for year terms; the mayor\, a two year term.
URL:https://mountainlakemn.com/event/city-council-meeting/2024-10-21/
LOCATION:City Hall Council Chambers\, 930 Third Avenue\, Mountain Lake\, MN\, 56159
CATEGORIES:Meeting
END:VEVENT
BEGIN:VEVENT
DTSTART;TZID=America/Chicago:20241021T120000
DTEND;TZID=America/Chicago:20241021T130000
DTSTAMP:20260421T003435
CREATED:20220202T205527Z
LAST-MODIFIED:20231226T155707Z
UID:3721-1729512000-1729515600@mountainlakemn.com
SUMMARY:EDA Board Meeting
DESCRIPTION:The seven member authority carries out economic\, housing and industrial development and redevelopment within the City of Mountain Lake.
URL:https://mountainlakemn.com/event/eda-board-meeting/2024-10-21/
LOCATION:City Hall Council Chambers\, 930 Third Avenue\, Mountain Lake\, MN\, 56159
CATEGORIES:Meeting
END:VEVENT
BEGIN:VEVENT
DTSTART;TZID=America/Chicago:20241016T190000
DTEND;TZID=America/Chicago:20241016T200000
DTSTAMP:20260421T003435
CREATED:20220202T191111Z
LAST-MODIFIED:20220202T191111Z
UID:3768-1729105200-1729108800@mountainlakemn.com
SUMMARY:Active Living Meeting
DESCRIPTION:
URL:https://mountainlakemn.com/event/active-living-meeting/2024-10-16/
LOCATION:City Hall Conference Room\, 930 Third Avenue\, Mountain Lake\, MN\, 56159
CATEGORIES:Meeting
END:VEVENT
BEGIN:VEVENT
DTSTART;TZID=America/Chicago:20241015T193000
DTEND;TZID=America/Chicago:20241015T203000
DTSTAMP:20260421T003435
CREATED:20220202T192031Z
LAST-MODIFIED:20220202T192031Z
UID:3787-1729020600-1729024200@mountainlakemn.com
SUMMARY:Tree Commission Meeting
DESCRIPTION:The five member commission works to diversify the species\, ages and sizes of trees planted on city boulevards\, parks and other public property\, and assists the Mt. Lake Electric Department in the removal and replacement of trees that due to their location are a hazard to the department’s distribution system.
URL:https://mountainlakemn.com/event/tree-commission-meeting/2024-10-15/
LOCATION:City Hall Conference Room\, 930 Third Avenue\, Mountain Lake\, MN\, 56159
CATEGORIES:Meeting
END:VEVENT
BEGIN:VEVENT
DTSTART;TZID=America/Chicago:20241015T183000
DTEND;TZID=America/Chicago:20241015T193000
DTSTAMP:20260421T003435
CREATED:20220202T193747Z
LAST-MODIFIED:20220202T193747Z
UID:3696-1729017000-1729020600@mountainlakemn.com
SUMMARY:Lake Commission Meeting
DESCRIPTION:The seven member commission works to stabilize\, improve\, maintenance and preserve the lake.
URL:https://mountainlakemn.com/event/lake-commission-meeting/2024-10-15/
LOCATION:City Hall Conference Room\, 930 Third Avenue\, Mountain Lake\, MN\, 56159
CATEGORIES:Meeting
END:VEVENT
BEGIN:VEVENT
DTSTART;TZID=America/Chicago:20241007T174500
DTEND;TZID=America/Chicago:20241007T210000
DTSTAMP:20260421T003435
CREATED:20220202T004521Z
LAST-MODIFIED:20231226T151611Z
UID:3546-1728323100-1728334800@mountainlakemn.com
SUMMARY:City Council Meeting
DESCRIPTION:Composed of a mayor and four council members. Council members serve for year terms; the mayor\, a two year term.
URL:https://mountainlakemn.com/event/city-council-meeting/2024-10-07/
LOCATION:City Hall Council Chambers\, 930 Third Avenue\, Mountain Lake\, MN\, 56159
CATEGORIES:Meeting
END:VEVENT
BEGIN:VEVENT
DTSTART;TZID=America/Chicago:20240918T190000
DTEND;TZID=America/Chicago:20240918T200000
DTSTAMP:20260421T003435
CREATED:20220202T191111Z
LAST-MODIFIED:20220202T191111Z
UID:3767-1726686000-1726689600@mountainlakemn.com
SUMMARY:Active Living Meeting
DESCRIPTION:
URL:https://mountainlakemn.com/event/active-living-meeting/2024-09-18/
LOCATION:City Hall Conference Room\, 930 Third Avenue\, Mountain Lake\, MN\, 56159
CATEGORIES:Meeting
END:VEVENT
BEGIN:VEVENT
DTSTART;TZID=America/Chicago:20240916T174500
DTEND;TZID=America/Chicago:20240916T210000
DTSTAMP:20260421T003435
CREATED:20220202T004521Z
LAST-MODIFIED:20231226T151611Z
UID:3588-1726508700-1726520400@mountainlakemn.com
SUMMARY:City Council Meeting
DESCRIPTION:Composed of a mayor and four council members. Council members serve for year terms; the mayor\, a two year term.
URL:https://mountainlakemn.com/event/city-council-meeting/2024-09-16/
LOCATION:City Hall Council Chambers\, 930 Third Avenue\, Mountain Lake\, MN\, 56159
CATEGORIES:Meeting
END:VEVENT
BEGIN:VEVENT
DTSTART;TZID=America/Chicago:20240916T120000
DTEND;TZID=America/Chicago:20240916T130000
DTSTAMP:20260421T003435
CREATED:20220202T205527Z
LAST-MODIFIED:20231226T155707Z
UID:3720-1726488000-1726491600@mountainlakemn.com
SUMMARY:EDA Board Meeting
DESCRIPTION:The seven member authority carries out economic\, housing and industrial development and redevelopment within the City of Mountain Lake.
URL:https://mountainlakemn.com/event/eda-board-meeting/2024-09-16/
LOCATION:City Hall Council Chambers\, 930 Third Avenue\, Mountain Lake\, MN\, 56159
CATEGORIES:Meeting
END:VEVENT
BEGIN:VEVENT
DTSTART;TZID=America/Chicago:20240909T183000
DTEND;TZID=America/Chicago:20240909T193000
DTSTAMP:20260421T003435
CREATED:20220202T193747Z
LAST-MODIFIED:20220202T193747Z
UID:3695-1725906600-1725910200@mountainlakemn.com
SUMMARY:Lake Commission Meeting
DESCRIPTION:The seven member commission works to stabilize\, improve\, maintenance and preserve the lake.
URL:https://mountainlakemn.com/event/lake-commission-meeting/2024-09-09/
LOCATION:City Hall Conference Room\, 930 Third Avenue\, Mountain Lake\, MN\, 56159
CATEGORIES:Meeting
END:VEVENT
BEGIN:VEVENT
DTSTART;TZID=America/Chicago:20240903T174500
DTEND;TZID=America/Chicago:20240903T210000
DTSTAMP:20260421T003435
CREATED:20220202T004521Z
LAST-MODIFIED:20231226T151610Z
UID:3631-1725385500-1725397200@mountainlakemn.com
SUMMARY:City Council Meeting
DESCRIPTION:Composed of a mayor and four council members. Council members serve for year terms; the mayor\, a two year term.
URL:https://mountainlakemn.com/event/city-council-meeting/2024-09-03/
LOCATION:City Hall Council Chambers\, 930 Third Avenue\, Mountain Lake\, MN\, 56159
CATEGORIES:Meeting
END:VEVENT
BEGIN:VEVENT
DTSTART;TZID=America/Chicago:20240821T190000
DTEND;TZID=America/Chicago:20240821T200000
DTSTAMP:20260421T003435
CREATED:20220202T191111Z
LAST-MODIFIED:20220202T191111Z
UID:3766-1724266800-1724270400@mountainlakemn.com
SUMMARY:Active Living Meeting
DESCRIPTION:
URL:https://mountainlakemn.com/event/active-living-meeting/2024-08-21/
LOCATION:City Hall Conference Room\, 930 Third Avenue\, Mountain Lake\, MN\, 56159
CATEGORIES:Meeting
END:VEVENT
BEGIN:VEVENT
DTSTART;TZID=America/Chicago:20240819T174500
DTEND;TZID=America/Chicago:20240819T210000
DTSTAMP:20260421T003435
CREATED:20220202T004521Z
LAST-MODIFIED:20231226T151610Z
UID:3587-1724089500-1724101200@mountainlakemn.com
SUMMARY:City Council Meeting
DESCRIPTION:Composed of a mayor and four council members. Council members serve for year terms; the mayor\, a two year term.
URL:https://mountainlakemn.com/event/city-council-meeting/2024-08-19/
LOCATION:City Hall Council Chambers\, 930 Third Avenue\, Mountain Lake\, MN\, 56159
CATEGORIES:Meeting
END:VEVENT
BEGIN:VEVENT
DTSTART;TZID=America/Chicago:20240819T120000
DTEND;TZID=America/Chicago:20240819T130000
DTSTAMP:20260421T003435
CREATED:20220202T205527Z
LAST-MODIFIED:20231226T155707Z
UID:3719-1724068800-1724072400@mountainlakemn.com
SUMMARY:EDA Board Meeting
DESCRIPTION:The seven member authority carries out economic\, housing and industrial development and redevelopment within the City of Mountain Lake.
URL:https://mountainlakemn.com/event/eda-board-meeting/2024-08-19/
LOCATION:City Hall Council Chambers\, 930 Third Avenue\, Mountain Lake\, MN\, 56159
CATEGORIES:Meeting
END:VEVENT
BEGIN:VEVENT
DTSTART;TZID=America/Chicago:20240812T183000
DTEND;TZID=America/Chicago:20240812T193000
DTSTAMP:20260421T003435
CREATED:20220202T193747Z
LAST-MODIFIED:20220202T193747Z
UID:3694-1723487400-1723491000@mountainlakemn.com
SUMMARY:Lake Commission Meeting
DESCRIPTION:The seven member commission works to stabilize\, improve\, maintenance and preserve the lake.
URL:https://mountainlakemn.com/event/lake-commission-meeting/2024-08-12/
LOCATION:City Hall Conference Room\, 930 Third Avenue\, Mountain Lake\, MN\, 56159
CATEGORIES:Meeting
END:VEVENT
BEGIN:VEVENT
DTSTART;TZID=America/Chicago:20240805T174500
DTEND;TZID=America/Chicago:20240805T210000
DTSTAMP:20260421T003435
CREATED:20220202T004521Z
LAST-MODIFIED:20231226T151609Z
UID:3544-1722879900-1722891600@mountainlakemn.com
SUMMARY:City Council Meeting
DESCRIPTION:Composed of a mayor and four council members. Council members serve for year terms; the mayor\, a two year term.
URL:https://mountainlakemn.com/event/city-council-meeting/2024-08-05/
LOCATION:City Hall Council Chambers\, 930 Third Avenue\, Mountain Lake\, MN\, 56159
CATEGORIES:Meeting
END:VEVENT
BEGIN:VEVENT
DTSTART;TZID=America/Chicago:20240717T190000
DTEND;TZID=America/Chicago:20240717T200000
DTSTAMP:20260421T003435
CREATED:20220202T191111Z
LAST-MODIFIED:20220202T191111Z
UID:3765-1721242800-1721246400@mountainlakemn.com
SUMMARY:Active Living Meeting
DESCRIPTION:
URL:https://mountainlakemn.com/event/active-living-meeting/2024-07-17/
LOCATION:City Hall Conference Room\, 930 Third Avenue\, Mountain Lake\, MN\, 56159
CATEGORIES:Meeting
END:VEVENT
BEGIN:VEVENT
DTSTART;TZID=America/Chicago:20240715T174500
DTEND;TZID=America/Chicago:20240715T210000
DTSTAMP:20260421T003435
CREATED:20220202T004521Z
LAST-MODIFIED:20231226T151608Z
UID:3586-1721065500-1721077200@mountainlakemn.com
SUMMARY:City Council Meeting
DESCRIPTION:Composed of a mayor and four council members. Council members serve for year terms; the mayor\, a two year term.
URL:https://mountainlakemn.com/event/city-council-meeting/2024-07-15/
LOCATION:City Hall Council Chambers\, 930 Third Avenue\, Mountain Lake\, MN\, 56159
CATEGORIES:Meeting
END:VEVENT
BEGIN:VEVENT
DTSTART;TZID=America/Chicago:20240715T120000
DTEND;TZID=America/Chicago:20240715T130000
DTSTAMP:20260421T003435
CREATED:20220202T205527Z
LAST-MODIFIED:20231226T155705Z
UID:3718-1721044800-1721048400@mountainlakemn.com
SUMMARY:EDA Board Meeting
DESCRIPTION:The seven member authority carries out economic\, housing and industrial development and redevelopment within the City of Mountain Lake.
URL:https://mountainlakemn.com/event/eda-board-meeting/2024-07-15/
LOCATION:City Hall Council Chambers\, 930 Third Avenue\, Mountain Lake\, MN\, 56159
CATEGORIES:Meeting
END:VEVENT
BEGIN:VEVENT
DTSTART;TZID=America/Chicago:20240708T193000
DTEND;TZID=America/Chicago:20240708T203000
DTSTAMP:20260421T003435
CREATED:20220202T192031Z
LAST-MODIFIED:20220202T192031Z
UID:3786-1720467000-1720470600@mountainlakemn.com
SUMMARY:Tree Commission Meeting
DESCRIPTION:The five member commission works to diversify the species\, ages and sizes of trees planted on city boulevards\, parks and other public property\, and assists the Mt. Lake Electric Department in the removal and replacement of trees that due to their location are a hazard to the department’s distribution system.
URL:https://mountainlakemn.com/event/tree-commission-meeting/2024-07-08/
LOCATION:City Hall Conference Room\, 930 Third Avenue\, Mountain Lake\, MN\, 56159
CATEGORIES:Meeting
END:VEVENT
END:VCALENDAR