BEGIN:VCALENDAR
VERSION:2.0
PRODID:-//City of Mountain Lake - ECPv5.14.0.1//NONSGML v1.0//EN
CALSCALE:GREGORIAN
METHOD:PUBLISH
X-WR-CALNAME:City of Mountain Lake
X-ORIGINAL-URL:https://mountainlakemn.com
X-WR-CALDESC:Events for City of Mountain Lake
REFRESH-INTERVAL;VALUE=DURATION:PT1H
X-Robots-Tag:noindex
X-PUBLISHED-TTL:PT1H
BEGIN:VTIMEZONE
TZID:America/Chicago
BEGIN:DAYLIGHT
TZOFFSETFROM:-0600
TZOFFSETTO:-0500
TZNAME:CDT
DTSTART:20260308T080000
END:DAYLIGHT
BEGIN:STANDARD
TZOFFSETFROM:-0500
TZOFFSETTO:-0600
TZNAME:CST
DTSTART:20261101T070000
END:STANDARD
END:VTIMEZONE
BEGIN:VEVENT
DTSTART;TZID=America/Chicago:20260713T183000
DTEND;TZID=America/Chicago:20260713T193000
DTSTAMP:20260420T202613
CREATED:20220202T193747Z
LAST-MODIFIED:20220202T193747Z
UID:4538-1783967400-1783971000@mountainlakemn.com
SUMMARY:Lake Commission Meeting
DESCRIPTION:The seven member commission works to stabilize\, improve\, maintenance and preserve the lake.
URL:https://mountainlakemn.com/event/lake-commission-meeting-2025-12-08/2026-07-13/
LOCATION:City Hall Conference Room\, 930 Third Avenue\, Mountain Lake\, MN\, 56159
CATEGORIES:Meeting
END:VEVENT
BEGIN:VEVENT
DTSTART;TZID=America/Chicago:20260714T163000
DTEND;TZID=America/Chicago:20260714T173000
DTSTAMP:20260420T202613
CREATED:20220202T191612Z
LAST-MODIFIED:20220202T191612Z
UID:4560-1784046600-1784050200@mountainlakemn.com
SUMMARY:Library Board Meeting
DESCRIPTION:The five member library board oversees library operations.
URL:https://mountainlakemn.com/event/library-board-meeting/2026-07-14/
LOCATION:Mountain Lake Public Library\, 1054 4th Ave\, Mountain Lake\, MN\, 56159
CATEGORIES:Meeting
END:VEVENT
BEGIN:VEVENT
DTSTART;TZID=America/Chicago:20260714T163000
DTEND;TZID=America/Chicago:20260714T173000
DTSTAMP:20260420T202613
CREATED:20220202T191612Z
LAST-MODIFIED:20220202T191612Z
UID:4868-1784046600-1784050200@mountainlakemn.com
SUMMARY:Library Board Meeting
DESCRIPTION:The five member library board oversees library operations.
URL:https://mountainlakemn.com/event/library-board-meeting/2026-07-14/
LOCATION:Mountain Lake Public Library\, 1054 4th Ave\, Mountain Lake\, MN\, 56159
CATEGORIES:Meeting
END:VEVENT
BEGIN:VEVENT
DTSTART;TZID=America/Chicago:20260715T190000
DTEND;TZID=America/Chicago:20260715T200000
DTSTAMP:20260420T202613
CREATED:20220202T191111Z
LAST-MODIFIED:20220202T191111Z
UID:4912-1784142000-1784145600@mountainlakemn.com
SUMMARY:Active Living Meeting
DESCRIPTION:
URL:https://mountainlakemn.com/event/active-living-meeting-2025-12-17/2026-07-15/
LOCATION:City Hall Conference Room\, 930 Third Avenue\, Mountain Lake\, MN\, 56159
CATEGORIES:Meeting
END:VEVENT
BEGIN:VEVENT
DTSTART;TZID=America/Chicago:20260715T190000
DTEND;TZID=America/Chicago:20260715T200000
DTSTAMP:20260420T202613
CREATED:20220202T191111Z
LAST-MODIFIED:20260127T171613Z
UID:4602-1784142000-1784145600@mountainlakemn.com
SUMMARY:Active Living Meeting
DESCRIPTION:
URL:https://mountainlakemn.com/event/active-living-meeting-2025-12-17/2026-07-15/
LOCATION:City Hall Conference Room\, 930 Third Avenue\, Mountain Lake\, MN\, 56159
CATEGORIES:Meeting
END:VEVENT
BEGIN:VEVENT
DTSTART;TZID=America/Chicago:20260720T120000
DTEND;TZID=America/Chicago:20260720T130000
DTSTAMP:20260420T202613
CREATED:20220202T205527Z
LAST-MODIFIED:20220202T205527Z
UID:4791-1784548800-1784552400@mountainlakemn.com
SUMMARY:EDA Board Meeting
DESCRIPTION:The seven member authority carries out economic\, housing and industrial development and redevelopment within the City of Mountain Lake.
URL:https://mountainlakemn.com/event/eda-board-meeting-2025-12-15-2026-03-16/2026-07-20/
LOCATION:City Hall Council Chambers\, 930 Third Avenue\, Mountain Lake\, MN\, 56159
CATEGORIES:Meeting
END:VEVENT
BEGIN:VEVENT
DTSTART;TZID=America/Chicago:20260720T120000
DTEND;TZID=America/Chicago:20260720T130000
DTSTAMP:20260420T202613
CREATED:20220202T205527Z
LAST-MODIFIED:20260127T174204Z
UID:4577-1784548800-1784552400@mountainlakemn.com
SUMMARY:EDA Board Meeting
DESCRIPTION:The seven member authority carries out economic\, housing and industrial development and redevelopment within the City of Mountain Lake.
URL:https://mountainlakemn.com/event/eda-board-meeting-2025-12-15-2026-03-16/2026-07-20/
LOCATION:City Hall Council Chambers\, 930 Third Avenue\, Mountain Lake\, MN\, 56159
CATEGORIES:Meeting
END:VEVENT
BEGIN:VEVENT
DTSTART;TZID=America/Chicago:20260720T174500
DTEND;TZID=America/Chicago:20260720T210000
DTSTAMP:20260420T202613
CREATED:20220202T004521Z
LAST-MODIFIED:20260127T174019Z
UID:4647-1784569500-1784581200@mountainlakemn.com
SUMMARY:City Council Meeting
DESCRIPTION:Composed of a mayor and four council members. Council members serve for year terms; the mayor\, a two year term.
URL:https://mountainlakemn.com/event/city-council-meeting-2025-12-01/2026-07-20/
LOCATION:City Hall Council Chambers\, 930 Third Avenue\, Mountain Lake\, MN\, 56159
CATEGORIES:Meeting
END:VEVENT
BEGIN:VEVENT
DTSTART;TZID=America/Chicago:20260720T174500
DTEND;TZID=America/Chicago:20260720T210000
DTSTAMP:20260420T202613
CREATED:20220202T004521Z
LAST-MODIFIED:20220202T004521Z
UID:4845-1784569500-1784581200@mountainlakemn.com
SUMMARY:City Council Meeting
DESCRIPTION:Composed of a mayor and four council members. Council members serve for year terms; the mayor\, a two year term.
URL:https://mountainlakemn.com/event/city-council-meeting-2025-12-01/2026-07-20/
LOCATION:City Hall Council Chambers\, 930 Third Avenue\, Mountain Lake\, MN\, 56159
CATEGORIES:Meeting
END:VEVENT
BEGIN:VEVENT
DTSTART;TZID=America/Chicago:20260723T070000
DTEND;TZID=America/Chicago:20260723T080000
DTSTAMP:20260420T202613
CREATED:20220202T204046Z
LAST-MODIFIED:20220202T204046Z
UID:4696-1784790000-1784793600@mountainlakemn.com
SUMMARY:Utilities Commission Meeting
DESCRIPTION:The five member commission has charge of the administration\, maintenance and control of the water\, sewer and electrical utilities.
URL:https://mountainlakemn.com/event/utilities-commission-meeting/2026-07-23/
LOCATION:City Hall Council Chambers\, 930 Third Avenue\, Mountain Lake\, MN\, 56159
CATEGORIES:Meeting
END:VEVENT
BEGIN:VEVENT
DTSTART;TZID=America/Chicago:20260727T190000
DTEND;TZID=America/Chicago:20260727T200000
DTSTAMP:20260420T202613
CREATED:20220202T204519Z
LAST-MODIFIED:20220202T204519Z
UID:4775-1785178800-1785182400@mountainlakemn.com
SUMMARY:Police Commission Meeting
DESCRIPTION:The five member commission monitors\, reviews. and makes recommendations to the City Council regarding police department operations and functions.
URL:https://mountainlakemn.com/event/police-commission-meeting/2026-07-27/
LOCATION:City Hall Conference Room\, 930 Third Avenue\, Mountain Lake\, MN\, 56159
CATEGORIES:Meeting
END:VEVENT
BEGIN:VEVENT
DTSTART;TZID=America/Chicago:20260727T190000
DTEND;TZID=America/Chicago:20260727T200000
DTSTAMP:20260420T202613
CREATED:20220202T204519Z
LAST-MODIFIED:20220202T204519Z
UID:4811-1785178800-1785182400@mountainlakemn.com
SUMMARY:Police Commission Meeting
DESCRIPTION:The five member commission monitors\, reviews. and makes recommendations to the City Council regarding police department operations and functions.
URL:https://mountainlakemn.com/event/police-commission-meeting/2026-07-27/
LOCATION:City Hall Conference Room\, 930 Third Avenue\, Mountain Lake\, MN\, 56159
CATEGORIES:Meeting
END:VEVENT
BEGIN:VEVENT
DTSTART;TZID=America/Chicago:20260803T174500
DTEND;TZID=America/Chicago:20260803T210000
DTSTAMP:20260420T202613
CREATED:20220202T004521Z
LAST-MODIFIED:20220202T004521Z
UID:4825-1785779100-1785790800@mountainlakemn.com
SUMMARY:City Council Meeting
DESCRIPTION:Composed of a mayor and four council members. Council members serve for year terms; the mayor\, a two year term.
URL:https://mountainlakemn.com/event/city-council-meeting-2025-12-01/2026-08-03/
LOCATION:City Hall Council Chambers\, 930 Third Avenue\, Mountain Lake\, MN\, 56159
CATEGORIES:Meeting
END:VEVENT
BEGIN:VEVENT
DTSTART;TZID=America/Chicago:20260803T174500
DTEND;TZID=America/Chicago:20260803T210000
DTSTAMP:20260420T202613
CREATED:20220202T004521Z
LAST-MODIFIED:20260127T174019Z
UID:4516-1785779100-1785790800@mountainlakemn.com
SUMMARY:City Council Meeting
DESCRIPTION:Composed of a mayor and four council members. Council members serve for year terms; the mayor\, a two year term.
URL:https://mountainlakemn.com/event/city-council-meeting-2025-12-01/2026-08-03/
LOCATION:City Hall Council Chambers\, 930 Third Avenue\, Mountain Lake\, MN\, 56159
CATEGORIES:Meeting
END:VEVENT
BEGIN:VEVENT
DTSTART;TZID=America/Chicago:20260810T183000
DTEND;TZID=America/Chicago:20260810T193000
DTSTAMP:20260420T202613
CREATED:20220202T193747Z
LAST-MODIFIED:20220202T193747Z
UID:4891-1786386600-1786390200@mountainlakemn.com
SUMMARY:Lake Commission Meeting
DESCRIPTION:The seven member commission works to stabilize\, improve\, maintenance and preserve the lake.
URL:https://mountainlakemn.com/event/lake-commission-meeting-2025-12-08/2026-08-10/
LOCATION:City Hall Conference Room\, 930 Third Avenue\, Mountain Lake\, MN\, 56159
CATEGORIES:Meeting
END:VEVENT
BEGIN:VEVENT
DTSTART;TZID=America/Chicago:20260810T183000
DTEND;TZID=America/Chicago:20260810T193000
DTSTAMP:20260420T202613
CREATED:20220202T193747Z
LAST-MODIFIED:20220202T193747Z
UID:4539-1786386600-1786390200@mountainlakemn.com
SUMMARY:Lake Commission Meeting
DESCRIPTION:The seven member commission works to stabilize\, improve\, maintenance and preserve the lake.
URL:https://mountainlakemn.com/event/lake-commission-meeting-2025-12-08/2026-08-10/
LOCATION:City Hall Conference Room\, 930 Third Avenue\, Mountain Lake\, MN\, 56159
CATEGORIES:Meeting
END:VEVENT
BEGIN:VEVENT
DTSTART;TZID=America/Chicago:20260811T163000
DTEND;TZID=America/Chicago:20260811T173000
DTSTAMP:20260420T202613
CREATED:20220202T191612Z
LAST-MODIFIED:20220202T191612Z
UID:4561-1786465800-1786469400@mountainlakemn.com
SUMMARY:Library Board Meeting
DESCRIPTION:The five member library board oversees library operations.
URL:https://mountainlakemn.com/event/library-board-meeting/2026-08-11/
LOCATION:Mountain Lake Public Library\, 1054 4th Ave\, Mountain Lake\, MN\, 56159
CATEGORIES:Meeting
END:VEVENT
BEGIN:VEVENT
DTSTART;TZID=America/Chicago:20260811T163000
DTEND;TZID=America/Chicago:20260811T173000
DTSTAMP:20260420T202613
CREATED:20220202T191612Z
LAST-MODIFIED:20220202T191612Z
UID:4869-1786465800-1786469400@mountainlakemn.com
SUMMARY:Library Board Meeting
DESCRIPTION:The five member library board oversees library operations.
URL:https://mountainlakemn.com/event/library-board-meeting/2026-08-11/
LOCATION:Mountain Lake Public Library\, 1054 4th Ave\, Mountain Lake\, MN\, 56159
CATEGORIES:Meeting
END:VEVENT
BEGIN:VEVENT
DTSTART;TZID=America/Chicago:20260813T070000
DTEND;TZID=America/Chicago:20260813T080000
DTSTAMP:20260420T202613
CREATED:20220202T204046Z
LAST-MODIFIED:20220202T204046Z
UID:4697-1786604400-1786608000@mountainlakemn.com
SUMMARY:Utilities Commission Meeting
DESCRIPTION:The five member commission has charge of the administration\, maintenance and control of the water\, sewer and electrical utilities.
URL:https://mountainlakemn.com/event/utilities-commission-meeting/2026-08-13/
LOCATION:City Hall Council Chambers\, 930 Third Avenue\, Mountain Lake\, MN\, 56159
CATEGORIES:Meeting
END:VEVENT
BEGIN:VEVENT
DTSTART;TZID=America/Chicago:20260817T120000
DTEND;TZID=America/Chicago:20260817T130000
DTSTAMP:20260420T202613
CREATED:20220202T205527Z
LAST-MODIFIED:20260127T174204Z
UID:4578-1786968000-1786971600@mountainlakemn.com
SUMMARY:EDA Board Meeting
DESCRIPTION:The seven member authority carries out economic\, housing and industrial development and redevelopment within the City of Mountain Lake.
URL:https://mountainlakemn.com/event/eda-board-meeting-2025-12-15-2026-03-16/2026-08-17/
LOCATION:City Hall Council Chambers\, 930 Third Avenue\, Mountain Lake\, MN\, 56159
CATEGORIES:Meeting
END:VEVENT
BEGIN:VEVENT
DTSTART;TZID=America/Chicago:20260817T120000
DTEND;TZID=America/Chicago:20260817T130000
DTSTAMP:20260420T202613
CREATED:20220202T205527Z
LAST-MODIFIED:20220202T205527Z
UID:4792-1786968000-1786971600@mountainlakemn.com
SUMMARY:EDA Board Meeting
DESCRIPTION:The seven member authority carries out economic\, housing and industrial development and redevelopment within the City of Mountain Lake.
URL:https://mountainlakemn.com/event/eda-board-meeting-2025-12-15-2026-03-16/2026-08-17/
LOCATION:City Hall Council Chambers\, 930 Third Avenue\, Mountain Lake\, MN\, 56159
CATEGORIES:Meeting
END:VEVENT
BEGIN:VEVENT
DTSTART;TZID=America/Chicago:20260817T174500
DTEND;TZID=America/Chicago:20260817T210000
DTSTAMP:20260420T202613
CREATED:20220202T004521Z
LAST-MODIFIED:20220202T004521Z
UID:4846-1786988700-1787000400@mountainlakemn.com
SUMMARY:City Council Meeting
DESCRIPTION:Composed of a mayor and four council members. Council members serve for year terms; the mayor\, a two year term.
URL:https://mountainlakemn.com/event/city-council-meeting-2025-12-01/2026-08-17/
LOCATION:City Hall Council Chambers\, 930 Third Avenue\, Mountain Lake\, MN\, 56159
CATEGORIES:Meeting
END:VEVENT
BEGIN:VEVENT
DTSTART;TZID=America/Chicago:20260817T174500
DTEND;TZID=America/Chicago:20260817T210000
DTSTAMP:20260420T202613
CREATED:20220202T004521Z
LAST-MODIFIED:20260127T174019Z
UID:4648-1786988700-1787000400@mountainlakemn.com
SUMMARY:City Council Meeting
DESCRIPTION:Composed of a mayor and four council members. Council members serve for year terms; the mayor\, a two year term.
URL:https://mountainlakemn.com/event/city-council-meeting-2025-12-01/2026-08-17/
LOCATION:City Hall Council Chambers\, 930 Third Avenue\, Mountain Lake\, MN\, 56159
CATEGORIES:Meeting
END:VEVENT
BEGIN:VEVENT
DTSTART;TZID=America/Chicago:20260819T190000
DTEND;TZID=America/Chicago:20260819T200000
DTSTAMP:20260420T202613
CREATED:20220202T191111Z
LAST-MODIFIED:20220202T191111Z
UID:4913-1787166000-1787169600@mountainlakemn.com
SUMMARY:Active Living Meeting
DESCRIPTION:
URL:https://mountainlakemn.com/event/active-living-meeting-2025-12-17/2026-08-19/
LOCATION:City Hall Conference Room\, 930 Third Avenue\, Mountain Lake\, MN\, 56159
CATEGORIES:Meeting
END:VEVENT
BEGIN:VEVENT
DTSTART;TZID=America/Chicago:20260819T190000
DTEND;TZID=America/Chicago:20260819T200000
DTSTAMP:20260420T202613
CREATED:20220202T191111Z
LAST-MODIFIED:20260127T171613Z
UID:4603-1787166000-1787169600@mountainlakemn.com
SUMMARY:Active Living Meeting
DESCRIPTION:
URL:https://mountainlakemn.com/event/active-living-meeting-2025-12-17/2026-08-19/
LOCATION:City Hall Conference Room\, 930 Third Avenue\, Mountain Lake\, MN\, 56159
CATEGORIES:Meeting
END:VEVENT
BEGIN:VEVENT
DTSTART;TZID=America/Chicago:20260827T070000
DTEND;TZID=America/Chicago:20260827T080000
DTSTAMP:20260420T202613
CREATED:20220202T204046Z
LAST-MODIFIED:20220202T204046Z
UID:4698-1787814000-1787817600@mountainlakemn.com
SUMMARY:Utilities Commission Meeting
DESCRIPTION:The five member commission has charge of the administration\, maintenance and control of the water\, sewer and electrical utilities.
URL:https://mountainlakemn.com/event/utilities-commission-meeting/2026-08-27/
LOCATION:City Hall Council Chambers\, 930 Third Avenue\, Mountain Lake\, MN\, 56159
CATEGORIES:Meeting
END:VEVENT
BEGIN:VEVENT
DTSTART;VALUE=DATE:20260907
DTEND;VALUE=DATE:20260908
DTSTAMP:20260420T202613
CREATED:20220202T185841Z
LAST-MODIFIED:20260127T180748Z
UID:1949-1788739200-1788825599@mountainlakemn.com
SUMMARY:Labor Day - City Hall Closed
DESCRIPTION:
URL:https://mountainlakemn.com/event/labor-day-city-hall-closed/
LOCATION:MN
CATEGORIES:Holiday
END:VEVENT
BEGIN:VEVENT
DTSTART;TZID=America/Chicago:20260908T163000
DTEND;TZID=America/Chicago:20260908T173000
DTSTAMP:20260420T202613
CREATED:20220202T191612Z
LAST-MODIFIED:20220202T191612Z
UID:4870-1788885000-1788888600@mountainlakemn.com
SUMMARY:Library Board Meeting
DESCRIPTION:The five member library board oversees library operations.
URL:https://mountainlakemn.com/event/library-board-meeting/2026-09-08/
LOCATION:Mountain Lake Public Library\, 1054 4th Ave\, Mountain Lake\, MN\, 56159
CATEGORIES:Meeting
END:VEVENT
BEGIN:VEVENT
DTSTART;TZID=America/Chicago:20260908T163000
DTEND;TZID=America/Chicago:20260908T173000
DTSTAMP:20260420T202613
CREATED:20220202T191612Z
LAST-MODIFIED:20220202T191612Z
UID:4562-1788885000-1788888600@mountainlakemn.com
SUMMARY:Library Board Meeting
DESCRIPTION:The five member library board oversees library operations.
URL:https://mountainlakemn.com/event/library-board-meeting/2026-09-08/
LOCATION:Mountain Lake Public Library\, 1054 4th Ave\, Mountain Lake\, MN\, 56159
CATEGORIES:Meeting
END:VEVENT
BEGIN:VEVENT
DTSTART;TZID=America/Chicago:20260908T174500
DTEND;TZID=America/Chicago:20260908T210000
DTSTAMP:20260420T202613
CREATED:20220202T004521Z
LAST-MODIFIED:20220202T004521Z
UID:4863-1788889500-1788901200@mountainlakemn.com
SUMMARY:City Council Meeting
DESCRIPTION:Composed of a mayor and four council members. Council members serve for year terms; the mayor\, a two year term.
URL:https://mountainlakemn.com/event/city-council-meeting-2025-12-01/2026-09-08/
LOCATION:City Hall Council Chambers\, 930 Third Avenue\, Mountain Lake\, MN\, 56159
CATEGORIES:Meeting
END:VEVENT
END:VCALENDAR