BEGIN:VCALENDAR
VERSION:2.0
PRODID:-//City of Mountain Lake - ECPv5.14.0.1//NONSGML v1.0//EN
CALSCALE:GREGORIAN
METHOD:PUBLISH
X-WR-CALNAME:City of Mountain Lake
X-ORIGINAL-URL:https://mountainlakemn.com
X-WR-CALDESC:Events for City of Mountain Lake
REFRESH-INTERVAL;VALUE=DURATION:PT1H
X-Robots-Tag:noindex
X-PUBLISHED-TTL:PT1H
BEGIN:VTIMEZONE
TZID:America/Chicago
BEGIN:DAYLIGHT
TZOFFSETFROM:-0600
TZOFFSETTO:-0500
TZNAME:CDT
DTSTART:20250309T080000
END:DAYLIGHT
BEGIN:STANDARD
TZOFFSETFROM:-0500
TZOFFSETTO:-0600
TZNAME:CST
DTSTART:20251102T070000
END:STANDARD
END:VTIMEZONE
BEGIN:VEVENT
DTSTART;TZID=America/Chicago:20250714T183000
DTEND;TZID=America/Chicago:20250714T193000
DTSTAMP:20260420T202843
CREATED:20220202T193747Z
LAST-MODIFIED:20220202T193747Z
UID:3705-1752517800-1752521400@mountainlakemn.com
SUMMARY:Lake Commission Meeting
DESCRIPTION:The seven member commission works to stabilize\, improve\, maintenance and preserve the lake.
URL:https://mountainlakemn.com/event/lake-commission-meeting/2025-07-14/
LOCATION:City Hall Conference Room\, 930 Third Avenue\, Mountain Lake\, MN\, 56159
CATEGORIES:Meeting
END:VEVENT
BEGIN:VEVENT
DTSTART;TZID=America/Chicago:20250707T174500
DTEND;TZID=America/Chicago:20250707T210000
DTSTAMP:20260420T202843
CREATED:20220202T004521Z
LAST-MODIFIED:20231226T151615Z
UID:3555-1751910300-1751922000@mountainlakemn.com
SUMMARY:City Council Meeting
DESCRIPTION:Composed of a mayor and four council members. Council members serve for year terms; the mayor\, a two year term.
URL:https://mountainlakemn.com/event/city-council-meeting/2025-07-07/
LOCATION:City Hall Council Chambers\, 930 Third Avenue\, Mountain Lake\, MN\, 56159
CATEGORIES:Meeting
END:VEVENT
BEGIN:VEVENT
DTSTART;TZID=America/Chicago:20250618T190000
DTEND;TZID=America/Chicago:20250618T200000
DTSTAMP:20260420T202843
CREATED:20220202T191111Z
LAST-MODIFIED:20220202T191111Z
UID:3776-1750273200-1750276800@mountainlakemn.com
SUMMARY:Active Living Meeting
DESCRIPTION:
URL:https://mountainlakemn.com/event/active-living-meeting/2025-06-18/
LOCATION:City Hall Conference Room\, 930 Third Avenue\, Mountain Lake\, MN\, 56159
CATEGORIES:Meeting
END:VEVENT
BEGIN:VEVENT
DTSTART;TZID=America/Chicago:20250616T174500
DTEND;TZID=America/Chicago:20250616T210000
DTSTAMP:20260420T202843
CREATED:20220202T004521Z
LAST-MODIFIED:20231226T151615Z
UID:3597-1750095900-1750107600@mountainlakemn.com
SUMMARY:City Council Meeting
DESCRIPTION:Composed of a mayor and four council members. Council members serve for year terms; the mayor\, a two year term.
URL:https://mountainlakemn.com/event/city-council-meeting/2025-06-16/
LOCATION:City Hall Council Chambers\, 930 Third Avenue\, Mountain Lake\, MN\, 56159
CATEGORIES:Meeting
END:VEVENT
BEGIN:VEVENT
DTSTART;TZID=America/Chicago:20250616T120000
DTEND;TZID=America/Chicago:20250616T130000
DTSTAMP:20260420T202843
CREATED:20220202T205527Z
LAST-MODIFIED:20231226T155708Z
UID:3729-1750075200-1750078800@mountainlakemn.com
SUMMARY:EDA Board Meeting
DESCRIPTION:The seven member authority carries out economic\, housing and industrial development and redevelopment within the City of Mountain Lake.
URL:https://mountainlakemn.com/event/eda-board-meeting/2025-06-16/
LOCATION:City Hall Council Chambers\, 930 Third Avenue\, Mountain Lake\, MN\, 56159
CATEGORIES:Meeting
END:VEVENT
BEGIN:VEVENT
DTSTART;TZID=America/Chicago:20250609T183000
DTEND;TZID=America/Chicago:20250609T193000
DTSTAMP:20260420T202843
CREATED:20220202T193747Z
LAST-MODIFIED:20220202T193747Z
UID:3704-1749493800-1749497400@mountainlakemn.com
SUMMARY:Lake Commission Meeting
DESCRIPTION:The seven member commission works to stabilize\, improve\, maintenance and preserve the lake.
URL:https://mountainlakemn.com/event/lake-commission-meeting/2025-06-09/
LOCATION:City Hall Conference Room\, 930 Third Avenue\, Mountain Lake\, MN\, 56159
CATEGORIES:Meeting
END:VEVENT
BEGIN:VEVENT
DTSTART;TZID=America/Chicago:20250602T174500
DTEND;TZID=America/Chicago:20250602T210000
DTSTAMP:20260420T202843
CREATED:20220202T004521Z
LAST-MODIFIED:20231226T151615Z
UID:3554-1748886300-1748898000@mountainlakemn.com
SUMMARY:City Council Meeting
DESCRIPTION:Composed of a mayor and four council members. Council members serve for year terms; the mayor\, a two year term.
URL:https://mountainlakemn.com/event/city-council-meeting/2025-06-02/
LOCATION:City Hall Council Chambers\, 930 Third Avenue\, Mountain Lake\, MN\, 56159
CATEGORIES:Meeting
END:VEVENT
BEGIN:VEVENT
DTSTART;TZID=America/Chicago:20250521T190000
DTEND;TZID=America/Chicago:20250521T200000
DTSTAMP:20260420T202843
CREATED:20220202T191111Z
LAST-MODIFIED:20220202T191111Z
UID:3775-1747854000-1747857600@mountainlakemn.com
SUMMARY:Active Living Meeting
DESCRIPTION:
URL:https://mountainlakemn.com/event/active-living-meeting/2025-05-21/
LOCATION:City Hall Conference Room\, 930 Third Avenue\, Mountain Lake\, MN\, 56159
CATEGORIES:Meeting
END:VEVENT
BEGIN:VEVENT
DTSTART;TZID=America/Chicago:20250519T174500
DTEND;TZID=America/Chicago:20250519T210000
DTSTAMP:20260420T202843
CREATED:20220202T004521Z
LAST-MODIFIED:20231226T151614Z
UID:3596-1747676700-1747688400@mountainlakemn.com
SUMMARY:City Council Meeting
DESCRIPTION:Composed of a mayor and four council members. Council members serve for year terms; the mayor\, a two year term.
URL:https://mountainlakemn.com/event/city-council-meeting/2025-05-19/
LOCATION:City Hall Council Chambers\, 930 Third Avenue\, Mountain Lake\, MN\, 56159
CATEGORIES:Meeting
END:VEVENT
BEGIN:VEVENT
DTSTART;TZID=America/Chicago:20250519T120000
DTEND;TZID=America/Chicago:20250519T130000
DTSTAMP:20260420T202843
CREATED:20220202T205527Z
LAST-MODIFIED:20231226T155708Z
UID:3728-1747656000-1747659600@mountainlakemn.com
SUMMARY:EDA Board Meeting
DESCRIPTION:The seven member authority carries out economic\, housing and industrial development and redevelopment within the City of Mountain Lake.
URL:https://mountainlakemn.com/event/eda-board-meeting/2025-05-19/
LOCATION:City Hall Council Chambers\, 930 Third Avenue\, Mountain Lake\, MN\, 56159
CATEGORIES:Meeting
END:VEVENT
BEGIN:VEVENT
DTSTART;TZID=America/Chicago:20250512T183000
DTEND;TZID=America/Chicago:20250512T193000
DTSTAMP:20260420T202843
CREATED:20220202T193747Z
LAST-MODIFIED:20220202T193747Z
UID:3703-1747074600-1747078200@mountainlakemn.com
SUMMARY:Lake Commission Meeting
DESCRIPTION:The seven member commission works to stabilize\, improve\, maintenance and preserve the lake.
URL:https://mountainlakemn.com/event/lake-commission-meeting/2025-05-12/
LOCATION:City Hall Conference Room\, 930 Third Avenue\, Mountain Lake\, MN\, 56159
CATEGORIES:Meeting
END:VEVENT
BEGIN:VEVENT
DTSTART;TZID=America/Chicago:20250505T174500
DTEND;TZID=America/Chicago:20250505T210000
DTSTAMP:20260420T202843
CREATED:20220202T004521Z
LAST-MODIFIED:20231226T151614Z
UID:3553-1746467100-1746478800@mountainlakemn.com
SUMMARY:City Council Meeting
DESCRIPTION:Composed of a mayor and four council members. Council members serve for year terms; the mayor\, a two year term.
URL:https://mountainlakemn.com/event/city-council-meeting/2025-05-05/
LOCATION:City Hall Council Chambers\, 930 Third Avenue\, Mountain Lake\, MN\, 56159
CATEGORIES:Meeting
END:VEVENT
BEGIN:VEVENT
DTSTART;TZID=America/Chicago:20250421T174500
DTEND;TZID=America/Chicago:20250421T210000
DTSTAMP:20260420T202843
CREATED:20220202T004521Z
LAST-MODIFIED:20231226T151614Z
UID:3595-1745257500-1745269200@mountainlakemn.com
SUMMARY:City Council Meeting
DESCRIPTION:Composed of a mayor and four council members. Council members serve for year terms; the mayor\, a two year term.
URL:https://mountainlakemn.com/event/city-council-meeting/2025-04-21/
LOCATION:City Hall Council Chambers\, 930 Third Avenue\, Mountain Lake\, MN\, 56159
CATEGORIES:Meeting
END:VEVENT
BEGIN:VEVENT
DTSTART;TZID=America/Chicago:20250421T120000
DTEND;TZID=America/Chicago:20250421T130000
DTSTAMP:20260420T202843
CREATED:20220202T205527Z
LAST-MODIFIED:20231226T155708Z
UID:3727-1745236800-1745240400@mountainlakemn.com
SUMMARY:EDA Board Meeting
DESCRIPTION:The seven member authority carries out economic\, housing and industrial development and redevelopment within the City of Mountain Lake.
URL:https://mountainlakemn.com/event/eda-board-meeting/2025-04-21/
LOCATION:City Hall Council Chambers\, 930 Third Avenue\, Mountain Lake\, MN\, 56159
CATEGORIES:Meeting
END:VEVENT
BEGIN:VEVENT
DTSTART;TZID=America/Chicago:20250416T190000
DTEND;TZID=America/Chicago:20250416T200000
DTSTAMP:20260420T202843
CREATED:20220202T191111Z
LAST-MODIFIED:20220202T191111Z
UID:3774-1744830000-1744833600@mountainlakemn.com
SUMMARY:Active Living Meeting
DESCRIPTION:
URL:https://mountainlakemn.com/event/active-living-meeting/2025-04-16/
LOCATION:City Hall Conference Room\, 930 Third Avenue\, Mountain Lake\, MN\, 56159
CATEGORIES:Meeting
END:VEVENT
BEGIN:VEVENT
DTSTART;TZID=America/Chicago:20250414T183000
DTEND;TZID=America/Chicago:20250414T193000
DTSTAMP:20260420T202843
CREATED:20220202T193747Z
LAST-MODIFIED:20220202T193747Z
UID:3702-1744655400-1744659000@mountainlakemn.com
SUMMARY:Lake Commission Meeting
DESCRIPTION:The seven member commission works to stabilize\, improve\, maintenance and preserve the lake.
URL:https://mountainlakemn.com/event/lake-commission-meeting/2025-04-14/
LOCATION:City Hall Conference Room\, 930 Third Avenue\, Mountain Lake\, MN\, 56159
CATEGORIES:Meeting
END:VEVENT
BEGIN:VEVENT
DTSTART;TZID=America/Chicago:20250407T174500
DTEND;TZID=America/Chicago:20250407T210000
DTSTAMP:20260420T202843
CREATED:20220202T004521Z
LAST-MODIFIED:20231226T151614Z
UID:3552-1744047900-1744059600@mountainlakemn.com
SUMMARY:City Council Meeting
DESCRIPTION:Composed of a mayor and four council members. Council members serve for year terms; the mayor\, a two year term.
URL:https://mountainlakemn.com/event/city-council-meeting/2025-04-07/
LOCATION:City Hall Council Chambers\, 930 Third Avenue\, Mountain Lake\, MN\, 56159
CATEGORIES:Meeting
END:VEVENT
BEGIN:VEVENT
DTSTART;TZID=America/Chicago:20250319T190000
DTEND;TZID=America/Chicago:20250319T200000
DTSTAMP:20260420T202843
CREATED:20220202T191111Z
LAST-MODIFIED:20220202T191111Z
UID:3773-1742410800-1742414400@mountainlakemn.com
SUMMARY:Active Living Meeting
DESCRIPTION:
URL:https://mountainlakemn.com/event/active-living-meeting/2025-03-19/
LOCATION:City Hall Conference Room\, 930 Third Avenue\, Mountain Lake\, MN\, 56159
CATEGORIES:Meeting
END:VEVENT
BEGIN:VEVENT
DTSTART;TZID=America/Chicago:20250317T174500
DTEND;TZID=America/Chicago:20250317T210000
DTSTAMP:20260420T202843
CREATED:20220202T004521Z
LAST-MODIFIED:20231226T151614Z
UID:3594-1742233500-1742245200@mountainlakemn.com
SUMMARY:City Council Meeting
DESCRIPTION:Composed of a mayor and four council members. Council members serve for year terms; the mayor\, a two year term.
URL:https://mountainlakemn.com/event/city-council-meeting/2025-03-17/
LOCATION:City Hall Council Chambers\, 930 Third Avenue\, Mountain Lake\, MN\, 56159
CATEGORIES:Meeting
END:VEVENT
BEGIN:VEVENT
DTSTART;TZID=America/Chicago:20250317T120000
DTEND;TZID=America/Chicago:20250317T130000
DTSTAMP:20260420T202843
CREATED:20220202T205527Z
LAST-MODIFIED:20231226T155708Z
UID:3726-1742212800-1742216400@mountainlakemn.com
SUMMARY:EDA Board Meeting
DESCRIPTION:The seven member authority carries out economic\, housing and industrial development and redevelopment within the City of Mountain Lake.
URL:https://mountainlakemn.com/event/eda-board-meeting/2025-03-17/
LOCATION:City Hall Council Chambers\, 930 Third Avenue\, Mountain Lake\, MN\, 56159
CATEGORIES:Meeting
END:VEVENT
BEGIN:VEVENT
DTSTART;TZID=America/Chicago:20250310T183000
DTEND;TZID=America/Chicago:20250310T193000
DTSTAMP:20260420T202843
CREATED:20220202T193747Z
LAST-MODIFIED:20220202T193747Z
UID:3701-1741631400-1741635000@mountainlakemn.com
SUMMARY:Lake Commission Meeting
DESCRIPTION:The seven member commission works to stabilize\, improve\, maintenance and preserve the lake.
URL:https://mountainlakemn.com/event/lake-commission-meeting/2025-03-10/
LOCATION:City Hall Conference Room\, 930 Third Avenue\, Mountain Lake\, MN\, 56159
CATEGORIES:Meeting
END:VEVENT
BEGIN:VEVENT
DTSTART;TZID=America/Chicago:20250303T174500
DTEND;TZID=America/Chicago:20250303T210000
DTSTAMP:20260420T202843
CREATED:20220202T004521Z
LAST-MODIFIED:20231226T151614Z
UID:3551-1741023900-1741035600@mountainlakemn.com
SUMMARY:City Council Meeting
DESCRIPTION:Composed of a mayor and four council members. Council members serve for year terms; the mayor\, a two year term.
URL:https://mountainlakemn.com/event/city-council-meeting/2025-03-03/
LOCATION:City Hall Council Chambers\, 930 Third Avenue\, Mountain Lake\, MN\, 56159
CATEGORIES:Meeting
END:VEVENT
BEGIN:VEVENT
DTSTART;TZID=America/Chicago:20250219T190000
DTEND;TZID=America/Chicago:20250219T200000
DTSTAMP:20260420T202843
CREATED:20220202T191111Z
LAST-MODIFIED:20220202T191111Z
UID:3772-1739991600-1739995200@mountainlakemn.com
SUMMARY:Active Living Meeting
DESCRIPTION:
URL:https://mountainlakemn.com/event/active-living-meeting/2025-02-19/
LOCATION:City Hall Conference Room\, 930 Third Avenue\, Mountain Lake\, MN\, 56159
CATEGORIES:Meeting
END:VEVENT
BEGIN:VEVENT
DTSTART;TZID=America/Chicago:20250217T174500
DTEND;TZID=America/Chicago:20250217T210000
DTSTAMP:20260420T202843
CREATED:20220202T004521Z
LAST-MODIFIED:20231226T151614Z
UID:3593-1739814300-1739826000@mountainlakemn.com
SUMMARY:City Council Meeting
DESCRIPTION:Composed of a mayor and four council members. Council members serve for year terms; the mayor\, a two year term.
URL:https://mountainlakemn.com/event/city-council-meeting/2025-02-17/
LOCATION:City Hall Council Chambers\, 930 Third Avenue\, Mountain Lake\, MN\, 56159
CATEGORIES:Meeting
END:VEVENT
BEGIN:VEVENT
DTSTART;TZID=America/Chicago:20250217T120000
DTEND;TZID=America/Chicago:20250217T130000
DTSTAMP:20260420T202843
CREATED:20220202T205527Z
LAST-MODIFIED:20231226T155708Z
UID:3725-1739793600-1739797200@mountainlakemn.com
SUMMARY:EDA Board Meeting
DESCRIPTION:The seven member authority carries out economic\, housing and industrial development and redevelopment within the City of Mountain Lake.
URL:https://mountainlakemn.com/event/eda-board-meeting/2025-02-17/
LOCATION:City Hall Council Chambers\, 930 Third Avenue\, Mountain Lake\, MN\, 56159
CATEGORIES:Meeting
END:VEVENT
BEGIN:VEVENT
DTSTART;TZID=America/Chicago:20250210T183000
DTEND;TZID=America/Chicago:20250210T193000
DTSTAMP:20260420T202843
CREATED:20220202T193747Z
LAST-MODIFIED:20220202T193747Z
UID:3700-1739212200-1739215800@mountainlakemn.com
SUMMARY:Lake Commission Meeting
DESCRIPTION:The seven member commission works to stabilize\, improve\, maintenance and preserve the lake.
URL:https://mountainlakemn.com/event/lake-commission-meeting/2025-02-10/
LOCATION:City Hall Conference Room\, 930 Third Avenue\, Mountain Lake\, MN\, 56159
CATEGORIES:Meeting
END:VEVENT
BEGIN:VEVENT
DTSTART;TZID=America/Chicago:20250203T174500
DTEND;TZID=America/Chicago:20250203T210000
DTSTAMP:20260420T202843
CREATED:20220202T004521Z
LAST-MODIFIED:20231226T151613Z
UID:3550-1738604700-1738616400@mountainlakemn.com
SUMMARY:City Council Meeting
DESCRIPTION:Composed of a mayor and four council members. Council members serve for year terms; the mayor\, a two year term.
URL:https://mountainlakemn.com/event/city-council-meeting/2025-02-03/
LOCATION:City Hall Council Chambers\, 930 Third Avenue\, Mountain Lake\, MN\, 56159
CATEGORIES:Meeting
END:VEVENT
BEGIN:VEVENT
DTSTART;TZID=America/Chicago:20250120T174500
DTEND;TZID=America/Chicago:20250120T210000
DTSTAMP:20260420T202843
CREATED:20220202T004521Z
LAST-MODIFIED:20231226T151613Z
UID:3592-1737395100-1737406800@mountainlakemn.com
SUMMARY:City Council Meeting
DESCRIPTION:Composed of a mayor and four council members. Council members serve for year terms; the mayor\, a two year term.
URL:https://mountainlakemn.com/event/city-council-meeting/2025-01-20/
LOCATION:City Hall Council Chambers\, 930 Third Avenue\, Mountain Lake\, MN\, 56159
CATEGORIES:Meeting
END:VEVENT
BEGIN:VEVENT
DTSTART;TZID=America/Chicago:20250120T120000
DTEND;TZID=America/Chicago:20250120T130000
DTSTAMP:20260420T202843
CREATED:20220202T205527Z
LAST-MODIFIED:20231226T155708Z
UID:3724-1737374400-1737378000@mountainlakemn.com
SUMMARY:EDA Board Meeting
DESCRIPTION:The seven member authority carries out economic\, housing and industrial development and redevelopment within the City of Mountain Lake.
URL:https://mountainlakemn.com/event/eda-board-meeting/2025-01-20/
LOCATION:City Hall Council Chambers\, 930 Third Avenue\, Mountain Lake\, MN\, 56159
CATEGORIES:Meeting
END:VEVENT
BEGIN:VEVENT
DTSTART;TZID=America/Chicago:20250115T190000
DTEND;TZID=America/Chicago:20250115T200000
DTSTAMP:20260420T202843
CREATED:20220202T191111Z
LAST-MODIFIED:20220202T191111Z
UID:3771-1736967600-1736971200@mountainlakemn.com
SUMMARY:Active Living Meeting
DESCRIPTION:
URL:https://mountainlakemn.com/event/active-living-meeting/2025-01-15/
LOCATION:City Hall Conference Room\, 930 Third Avenue\, Mountain Lake\, MN\, 56159
CATEGORIES:Meeting
END:VEVENT
END:VCALENDAR