BEGIN:VCALENDAR
VERSION:2.0
PRODID:-//City of Mountain Lake - ECPv5.14.0.1//NONSGML v1.0//EN
CALSCALE:GREGORIAN
METHOD:PUBLISH
X-WR-CALNAME:City of Mountain Lake
X-ORIGINAL-URL:https://mountainlakemn.com
X-WR-CALDESC:Events for City of Mountain Lake
REFRESH-INTERVAL;VALUE=DURATION:PT1H
X-Robots-Tag:noindex
X-PUBLISHED-TTL:PT1H
BEGIN:VTIMEZONE
TZID:America/Chicago
BEGIN:DAYLIGHT
TZOFFSETFROM:-0600
TZOFFSETTO:-0500
TZNAME:CDT
DTSTART:20260308T080000
END:DAYLIGHT
BEGIN:STANDARD
TZOFFSETFROM:-0500
TZOFFSETTO:-0600
TZNAME:CST
DTSTART:20261101T070000
END:STANDARD
END:VTIMEZONE
BEGIN:VEVENT
DTSTART;TZID=America/Chicago:20260209T183000
DTEND;TZID=America/Chicago:20260209T193000
DTSTAMP:20260420T132842
CREATED:20220202T193747Z
LAST-MODIFIED:20260127T164321Z
UID:3710-1770661800-1770665400@mountainlakemn.com
SUMMARY:Lake Commission Meeting
DESCRIPTION:The seven member commission works to stabilize\, improve\, maintenance and preserve the lake.
URL:https://mountainlakemn.com/event/lake-commission-meeting-2025-12-08/2026-02-09/
LOCATION:City Hall Conference Room\, 930 Third Avenue\, Mountain Lake\, MN\, 56159
CATEGORIES:Meeting
END:VEVENT
BEGIN:VEVENT
DTSTART;TZID=America/Chicago:20260210T163000
DTEND;TZID=America/Chicago:20260210T173000
DTSTAMP:20260420T132842
CREATED:20220202T191612Z
LAST-MODIFIED:20260127T164433Z
UID:1972-1770741000-1770744600@mountainlakemn.com
SUMMARY:Library Board Meeting
DESCRIPTION:The five member library board oversees library operations.
URL:https://mountainlakemn.com/event/library-board-meeting/2026-02-10/
LOCATION:Mountain Lake Public Library\, 1054 4th Ave\, Mountain Lake\, MN\, 56159
CATEGORIES:Meeting
END:VEVENT
BEGIN:VEVENT
DTSTART;TZID=America/Chicago:20260212T070000
DTEND;TZID=America/Chicago:20260212T080000
DTSTAMP:20260420T132842
CREATED:20220202T204046Z
LAST-MODIFIED:20260127T173116Z
UID:2037-1770879600-1770883200@mountainlakemn.com
SUMMARY:Utilities Commission Meeting
DESCRIPTION:The five member commission has charge of the administration\, maintenance and control of the water\, sewer and electrical utilities.
URL:https://mountainlakemn.com/event/utilities-commission-meeting/2026-02-12/
LOCATION:City Hall Council Chambers\, 930 Third Avenue\, Mountain Lake\, MN\, 56159
CATEGORIES:Meeting
END:VEVENT
BEGIN:VEVENT
DTSTART;VALUE=DATE:20260216
DTEND;VALUE=DATE:20260217
DTSTAMP:20260420T132842
CREATED:20220202T190125Z
LAST-MODIFIED:20260127T175556Z
UID:1956-1771200000-1771286399@mountainlakemn.com
SUMMARY:President's Day- City Hall Closed
DESCRIPTION:
URL:https://mountainlakemn.com/event/presidents-day-city-hall-closed/
CATEGORIES:Holiday
END:VEVENT
BEGIN:VEVENT
DTSTART;TZID=America/Chicago:20260217T120000
DTEND;TZID=America/Chicago:20260217T130000
DTSTAMP:20260420T132842
CREATED:20220202T205527Z
LAST-MODIFIED:20260127T174217Z
UID:3735-1771329600-1771333200@mountainlakemn.com
SUMMARY:EDA Board Meeting
DESCRIPTION:The seven member authority carries out economic\, housing and industrial development and redevelopment within the City of Mountain Lake.
URL:https://mountainlakemn.com/event/eda-board-meeting-2025-12-15/
LOCATION:City Hall Council Chambers\, 930 Third Avenue\, Mountain Lake\, MN\, 56159
CATEGORIES:Meeting
END:VEVENT
BEGIN:VEVENT
DTSTART;TZID=America/Chicago:20260217T174500
DTEND;TZID=America/Chicago:20260217T210000
DTSTAMP:20260420T132842
CREATED:20220202T004521Z
LAST-MODIFIED:20220202T004521Z
UID:4862-1771350300-1771362000@mountainlakemn.com
SUMMARY:City Council Meeting
DESCRIPTION:Composed of a mayor and four council members. Council members serve for year terms; the mayor\, a two year term.
URL:https://mountainlakemn.com/event/city-council-meeting-2025-12-01/2026-02-17/
LOCATION:City Hall Council Chambers\, 930 Third Avenue\, Mountain Lake\, MN\, 56159
CATEGORIES:Meeting
END:VEVENT
BEGIN:VEVENT
DTSTART;TZID=America/Chicago:20260217T174500
DTEND;TZID=America/Chicago:20260217T210000
DTSTAMP:20260420T132842
CREATED:20220202T004521Z
LAST-MODIFIED:20220202T004521Z
UID:4731-1771350300-1771362000@mountainlakemn.com
SUMMARY:City Council Meeting
DESCRIPTION:Composed of a mayor and four council members. Council members serve for year terms; the mayor\, a two year term.
URL:https://mountainlakemn.com/event/city-council-meeting-2025-12-01/2026-02-17/
LOCATION:City Hall Council Chambers\, 930 Third Avenue\, Mountain Lake\, MN\, 56159
CATEGORIES:Meeting
END:VEVENT
BEGIN:VEVENT
DTSTART;TZID=America/Chicago:20260218T190000
DTEND;TZID=America/Chicago:20260218T200000
DTSTAMP:20260420T132842
CREATED:20220202T191111Z
LAST-MODIFIED:20260127T171612Z
UID:3782-1771441200-1771444800@mountainlakemn.com
SUMMARY:Active Living Meeting
DESCRIPTION:
URL:https://mountainlakemn.com/event/active-living-meeting-2025-12-17/2026-02-18/
LOCATION:City Hall Conference Room\, 930 Third Avenue\, Mountain Lake\, MN\, 56159
CATEGORIES:Meeting
END:VEVENT
BEGIN:VEVENT
DTSTART;TZID=America/Chicago:20260226T070000
DTEND;TZID=America/Chicago:20260226T080000
DTSTAMP:20260420T132842
CREATED:20220202T204046Z
LAST-MODIFIED:20220202T204046Z
UID:4686-1772089200-1772092800@mountainlakemn.com
SUMMARY:Utilities Commission Meeting
DESCRIPTION:The five member commission has charge of the administration\, maintenance and control of the water\, sewer and electrical utilities.
URL:https://mountainlakemn.com/event/utilities-commission-meeting/2026-02-26/
LOCATION:City Hall Council Chambers\, 930 Third Avenue\, Mountain Lake\, MN\, 56159
CATEGORIES:Meeting
END:VEVENT
BEGIN:VEVENT
DTSTART;TZID=America/Chicago:20260302T174500
DTEND;TZID=America/Chicago:20260302T210000
DTSTAMP:20260420T132842
CREATED:20220202T004521Z
LAST-MODIFIED:20220202T004521Z
UID:4820-1772473500-1772485200@mountainlakemn.com
SUMMARY:City Council Meeting
DESCRIPTION:Composed of a mayor and four council members. Council members serve for year terms; the mayor\, a two year term.
URL:https://mountainlakemn.com/event/city-council-meeting-2025-12-01/2026-03-02/
LOCATION:City Hall Council Chambers\, 930 Third Avenue\, Mountain Lake\, MN\, 56159
CATEGORIES:Meeting
END:VEVENT
BEGIN:VEVENT
DTSTART;TZID=America/Chicago:20260302T174500
DTEND;TZID=America/Chicago:20260302T210000
DTSTAMP:20260420T132842
CREATED:20220202T004521Z
LAST-MODIFIED:20260127T174015Z
UID:4511-1772473500-1772485200@mountainlakemn.com
SUMMARY:City Council Meeting
DESCRIPTION:Composed of a mayor and four council members. Council members serve for year terms; the mayor\, a two year term.
URL:https://mountainlakemn.com/event/city-council-meeting-2025-12-01/2026-03-02/
LOCATION:City Hall Council Chambers\, 930 Third Avenue\, Mountain Lake\, MN\, 56159
CATEGORIES:Meeting
END:VEVENT
BEGIN:VEVENT
DTSTART;TZID=America/Chicago:20260309T183000
DTEND;TZID=America/Chicago:20260309T193000
DTSTAMP:20260420T132842
CREATED:20220202T193747Z
LAST-MODIFIED:20220202T193747Z
UID:4534-1773081000-1773084600@mountainlakemn.com
SUMMARY:Lake Commission Meeting
DESCRIPTION:The seven member commission works to stabilize\, improve\, maintenance and preserve the lake.
URL:https://mountainlakemn.com/event/lake-commission-meeting-2025-12-08/2026-03-09/
LOCATION:City Hall Conference Room\, 930 Third Avenue\, Mountain Lake\, MN\, 56159
CATEGORIES:Meeting
END:VEVENT
BEGIN:VEVENT
DTSTART;TZID=America/Chicago:20260309T183000
DTEND;TZID=America/Chicago:20260309T193000
DTSTAMP:20260420T132842
CREATED:20220202T193747Z
LAST-MODIFIED:20220202T193747Z
UID:4886-1773081000-1773084600@mountainlakemn.com
SUMMARY:Lake Commission Meeting
DESCRIPTION:The seven member commission works to stabilize\, improve\, maintenance and preserve the lake.
URL:https://mountainlakemn.com/event/lake-commission-meeting-2025-12-08/2026-03-09/
LOCATION:City Hall Conference Room\, 930 Third Avenue\, Mountain Lake\, MN\, 56159
CATEGORIES:Meeting
END:VEVENT
BEGIN:VEVENT
DTSTART;TZID=America/Chicago:20260310T163000
DTEND;TZID=America/Chicago:20260310T173000
DTSTAMP:20260420T132842
CREATED:20220202T191612Z
LAST-MODIFIED:20220202T191612Z
UID:4556-1773160200-1773163800@mountainlakemn.com
SUMMARY:Library Board Meeting
DESCRIPTION:The five member library board oversees library operations.
URL:https://mountainlakemn.com/event/library-board-meeting/2026-03-10/
LOCATION:Mountain Lake Public Library\, 1054 4th Ave\, Mountain Lake\, MN\, 56159
CATEGORIES:Meeting
END:VEVENT
BEGIN:VEVENT
DTSTART;TZID=America/Chicago:20260310T163000
DTEND;TZID=America/Chicago:20260310T173000
DTSTAMP:20260420T132842
CREATED:20220202T191612Z
LAST-MODIFIED:20220202T191612Z
UID:4864-1773160200-1773163800@mountainlakemn.com
SUMMARY:Library Board Meeting
DESCRIPTION:The five member library board oversees library operations.
URL:https://mountainlakemn.com/event/library-board-meeting/2026-03-10/
LOCATION:Mountain Lake Public Library\, 1054 4th Ave\, Mountain Lake\, MN\, 56159
CATEGORIES:Meeting
END:VEVENT
BEGIN:VEVENT
DTSTART;TZID=America/Chicago:20260312T070000
DTEND;TZID=America/Chicago:20260312T080000
DTSTAMP:20260420T132842
CREATED:20220202T204046Z
LAST-MODIFIED:20220202T204046Z
UID:4687-1773298800-1773302400@mountainlakemn.com
SUMMARY:Utilities Commission Meeting
DESCRIPTION:The five member commission has charge of the administration\, maintenance and control of the water\, sewer and electrical utilities.
URL:https://mountainlakemn.com/event/utilities-commission-meeting/2026-03-12/
LOCATION:City Hall Council Chambers\, 930 Third Avenue\, Mountain Lake\, MN\, 56159
CATEGORIES:Meeting
END:VEVENT
BEGIN:VEVENT
DTSTART;TZID=America/Chicago:20260316T120000
DTEND;TZID=America/Chicago:20260316T130000
DTSTAMP:20260420T132842
CREATED:20220202T205527Z
LAST-MODIFIED:20260127T174204Z
UID:4573-1773662400-1773666000@mountainlakemn.com
SUMMARY:EDA Board Meeting
DESCRIPTION:The seven member authority carries out economic\, housing and industrial development and redevelopment within the City of Mountain Lake.
URL:https://mountainlakemn.com/event/eda-board-meeting-2025-12-15-2026-03-16/2026-03-16/
LOCATION:City Hall Council Chambers\, 930 Third Avenue\, Mountain Lake\, MN\, 56159
CATEGORIES:Meeting
END:VEVENT
BEGIN:VEVENT
DTSTART;TZID=America/Chicago:20260316T174500
DTEND;TZID=America/Chicago:20260316T210000
DTSTAMP:20260420T132842
CREATED:20220202T004521Z
LAST-MODIFIED:20260127T174015Z
UID:4643-1773683100-1773694800@mountainlakemn.com
SUMMARY:City Council Meeting
DESCRIPTION:Composed of a mayor and four council members. Council members serve for year terms; the mayor\, a two year term.
URL:https://mountainlakemn.com/event/city-council-meeting-2025-12-01/2026-03-16/
LOCATION:City Hall Council Chambers\, 930 Third Avenue\, Mountain Lake\, MN\, 56159
CATEGORIES:Meeting
END:VEVENT
BEGIN:VEVENT
DTSTART;TZID=America/Chicago:20260316T174500
DTEND;TZID=America/Chicago:20260316T210000
DTSTAMP:20260420T132842
CREATED:20220202T004521Z
LAST-MODIFIED:20220202T004521Z
UID:4841-1773683100-1773694800@mountainlakemn.com
SUMMARY:City Council Meeting
DESCRIPTION:Composed of a mayor and four council members. Council members serve for year terms; the mayor\, a two year term.
URL:https://mountainlakemn.com/event/city-council-meeting-2025-12-01/2026-03-16/
LOCATION:City Hall Council Chambers\, 930 Third Avenue\, Mountain Lake\, MN\, 56159
CATEGORIES:Meeting
END:VEVENT
BEGIN:VEVENT
DTSTART;TZID=America/Chicago:20260318T190000
DTEND;TZID=America/Chicago:20260318T200000
DTSTAMP:20260420T132842
CREATED:20220202T191111Z
LAST-MODIFIED:20220202T191111Z
UID:4908-1773860400-1773864000@mountainlakemn.com
SUMMARY:Active Living Meeting
DESCRIPTION:
URL:https://mountainlakemn.com/event/active-living-meeting-2025-12-17/2026-03-18/
LOCATION:City Hall Conference Room\, 930 Third Avenue\, Mountain Lake\, MN\, 56159
CATEGORIES:Meeting
END:VEVENT
BEGIN:VEVENT
DTSTART;TZID=America/Chicago:20260318T190000
DTEND;TZID=America/Chicago:20260318T200000
DTSTAMP:20260420T132842
CREATED:20220202T191111Z
LAST-MODIFIED:20260127T171612Z
UID:4598-1773860400-1773864000@mountainlakemn.com
SUMMARY:Active Living Meeting
DESCRIPTION:
URL:https://mountainlakemn.com/event/active-living-meeting-2025-12-17/2026-03-18/
LOCATION:City Hall Conference Room\, 930 Third Avenue\, Mountain Lake\, MN\, 56159
CATEGORIES:Meeting
END:VEVENT
BEGIN:VEVENT
DTSTART;TZID=America/Chicago:20260323T190000
DTEND;TZID=America/Chicago:20260323T200000
DTSTAMP:20260420T132842
CREATED:20220202T204519Z
LAST-MODIFIED:20220202T204519Z
UID:4773-1774292400-1774296000@mountainlakemn.com
SUMMARY:Police Commission Meeting
DESCRIPTION:The five member commission monitors\, reviews. and makes recommendations to the City Council regarding police department operations and functions.
URL:https://mountainlakemn.com/event/police-commission-meeting/2026-03-23/
LOCATION:City Hall Conference Room\, 930 Third Avenue\, Mountain Lake\, MN\, 56159
CATEGORIES:Meeting
END:VEVENT
BEGIN:VEVENT
DTSTART;TZID=America/Chicago:20260323T190000
DTEND;TZID=America/Chicago:20260323T200000
DTSTAMP:20260420T132842
CREATED:20220202T204519Z
LAST-MODIFIED:20220202T204519Z
UID:4809-1774292400-1774296000@mountainlakemn.com
SUMMARY:Police Commission Meeting
DESCRIPTION:The five member commission monitors\, reviews. and makes recommendations to the City Council regarding police department operations and functions.
URL:https://mountainlakemn.com/event/police-commission-meeting/2026-03-23/
LOCATION:City Hall Conference Room\, 930 Third Avenue\, Mountain Lake\, MN\, 56159
CATEGORIES:Meeting
END:VEVENT
BEGIN:VEVENT
DTSTART;TZID=America/Chicago:20260326T070000
DTEND;TZID=America/Chicago:20260326T080000
DTSTAMP:20260420T132842
CREATED:20220202T204046Z
LAST-MODIFIED:20220202T204046Z
UID:4688-1774508400-1774512000@mountainlakemn.com
SUMMARY:Utilities Commission Meeting
DESCRIPTION:The five member commission has charge of the administration\, maintenance and control of the water\, sewer and electrical utilities.
URL:https://mountainlakemn.com/event/utilities-commission-meeting/2026-03-26/
LOCATION:City Hall Council Chambers\, 930 Third Avenue\, Mountain Lake\, MN\, 56159
CATEGORIES:Meeting
END:VEVENT
BEGIN:VEVENT
DTSTART;TZID=America/Chicago:20260406T174500
DTEND;TZID=America/Chicago:20260406T210000
DTSTAMP:20260420T132842
CREATED:20220202T004521Z
LAST-MODIFIED:20220202T004521Z
UID:4821-1775497500-1775509200@mountainlakemn.com
SUMMARY:City Council Meeting
DESCRIPTION:Composed of a mayor and four council members. Council members serve for year terms; the mayor\, a two year term.
URL:https://mountainlakemn.com/event/city-council-meeting-2025-12-01/2026-04-06/
LOCATION:City Hall Council Chambers\, 930 Third Avenue\, Mountain Lake\, MN\, 56159
CATEGORIES:Meeting
END:VEVENT
BEGIN:VEVENT
DTSTART;TZID=America/Chicago:20260406T174500
DTEND;TZID=America/Chicago:20260406T210000
DTSTAMP:20260420T132842
CREATED:20220202T004521Z
LAST-MODIFIED:20260127T174015Z
UID:4512-1775497500-1775509200@mountainlakemn.com
SUMMARY:City Council Meeting
DESCRIPTION:Composed of a mayor and four council members. Council members serve for year terms; the mayor\, a two year term.
URL:https://mountainlakemn.com/event/city-council-meeting-2025-12-01/2026-04-06/
LOCATION:City Hall Council Chambers\, 930 Third Avenue\, Mountain Lake\, MN\, 56159
CATEGORIES:Meeting
END:VEVENT
BEGIN:VEVENT
DTSTART;TZID=America/Chicago:20260409T070000
DTEND;TZID=America/Chicago:20260409T080000
DTSTAMP:20260420T132842
CREATED:20220202T204046Z
LAST-MODIFIED:20220202T204046Z
UID:4689-1775718000-1775721600@mountainlakemn.com
SUMMARY:Utilities Commission Meeting
DESCRIPTION:The five member commission has charge of the administration\, maintenance and control of the water\, sewer and electrical utilities.
URL:https://mountainlakemn.com/event/utilities-commission-meeting/2026-04-09/
LOCATION:City Hall Council Chambers\, 930 Third Avenue\, Mountain Lake\, MN\, 56159
CATEGORIES:Meeting
END:VEVENT
BEGIN:VEVENT
DTSTART;TZID=America/Chicago:20260413T183000
DTEND;TZID=America/Chicago:20260413T193000
DTSTAMP:20260420T132842
CREATED:20220202T193747Z
LAST-MODIFIED:20220202T193747Z
UID:4535-1776105000-1776108600@mountainlakemn.com
SUMMARY:Lake Commission Meeting
DESCRIPTION:The seven member commission works to stabilize\, improve\, maintenance and preserve the lake.
URL:https://mountainlakemn.com/event/lake-commission-meeting-2025-12-08/2026-04-13/
LOCATION:City Hall Conference Room\, 930 Third Avenue\, Mountain Lake\, MN\, 56159
CATEGORIES:Meeting
END:VEVENT
BEGIN:VEVENT
DTSTART;TZID=America/Chicago:20260413T183000
DTEND;TZID=America/Chicago:20260413T193000
DTSTAMP:20260420T132842
CREATED:20220202T193747Z
LAST-MODIFIED:20220202T193747Z
UID:4887-1776105000-1776108600@mountainlakemn.com
SUMMARY:Lake Commission Meeting
DESCRIPTION:The seven member commission works to stabilize\, improve\, maintenance and preserve the lake.
URL:https://mountainlakemn.com/event/lake-commission-meeting-2025-12-08/2026-04-13/
LOCATION:City Hall Conference Room\, 930 Third Avenue\, Mountain Lake\, MN\, 56159
CATEGORIES:Meeting
END:VEVENT
BEGIN:VEVENT
DTSTART;TZID=America/Chicago:20260414T163000
DTEND;TZID=America/Chicago:20260414T173000
DTSTAMP:20260420T132842
CREATED:20220202T191612Z
LAST-MODIFIED:20220202T191612Z
UID:4557-1776184200-1776187800@mountainlakemn.com
SUMMARY:Library Board Meeting
DESCRIPTION:The five member library board oversees library operations.
URL:https://mountainlakemn.com/event/library-board-meeting/2026-04-14/
LOCATION:Mountain Lake Public Library\, 1054 4th Ave\, Mountain Lake\, MN\, 56159
CATEGORIES:Meeting
END:VEVENT
END:VCALENDAR