BEGIN:VCALENDAR
VERSION:2.0
PRODID:-//City of Mountain Lake - ECPv5.14.0.1//NONSGML v1.0//EN
CALSCALE:GREGORIAN
METHOD:PUBLISH
X-WR-CALNAME:City of Mountain Lake
X-ORIGINAL-URL:https://mountainlakemn.com
X-WR-CALDESC:Events for City of Mountain Lake
REFRESH-INTERVAL;VALUE=DURATION:PT1H
X-Robots-Tag:noindex
X-PUBLISHED-TTL:PT1H
BEGIN:VTIMEZONE
TZID:America/Chicago
BEGIN:DAYLIGHT
TZOFFSETFROM:-0600
TZOFFSETTO:-0500
TZNAME:CDT
DTSTART:20240310T080000
END:DAYLIGHT
BEGIN:STANDARD
TZOFFSETFROM:-0500
TZOFFSETTO:-0600
TZNAME:CST
DTSTART:20241103T070000
END:STANDARD
END:VTIMEZONE
BEGIN:VEVENT
DTSTART;TZID=America/Chicago:20240708T183000
DTEND;TZID=America/Chicago:20240708T193000
DTSTAMP:20260421T162243
CREATED:20220202T193747Z
LAST-MODIFIED:20220202T193747Z
UID:3693-1720463400-1720467000@mountainlakemn.com
SUMMARY:Lake Commission Meeting
DESCRIPTION:The seven member commission works to stabilize\, improve\, maintenance and preserve the lake.
URL:https://mountainlakemn.com/event/lake-commission-meeting/2024-07-08/
LOCATION:City Hall Conference Room\, 930 Third Avenue\, Mountain Lake\, MN\, 56159
CATEGORIES:Meeting
END:VEVENT
BEGIN:VEVENT
DTSTART;TZID=America/Chicago:20240708T193000
DTEND;TZID=America/Chicago:20240708T203000
DTSTAMP:20260421T162243
CREATED:20220202T192031Z
LAST-MODIFIED:20220202T192031Z
UID:3786-1720467000-1720470600@mountainlakemn.com
SUMMARY:Tree Commission Meeting
DESCRIPTION:The five member commission works to diversify the species\, ages and sizes of trees planted on city boulevards\, parks and other public property\, and assists the Mt. Lake Electric Department in the removal and replacement of trees that due to their location are a hazard to the department’s distribution system.
URL:https://mountainlakemn.com/event/tree-commission-meeting/2024-07-08/
LOCATION:City Hall Conference Room\, 930 Third Avenue\, Mountain Lake\, MN\, 56159
CATEGORIES:Meeting
END:VEVENT
END:VCALENDAR