BEGIN:VCALENDAR
VERSION:2.0
PRODID:-//City of Mountain Lake - ECPv5.14.0.1//NONSGML v1.0//EN
CALSCALE:GREGORIAN
METHOD:PUBLISH
X-WR-CALNAME:City of Mountain Lake
X-ORIGINAL-URL:https://mountainlakemn.com
X-WR-CALDESC:Events for City of Mountain Lake
REFRESH-INTERVAL;VALUE=DURATION:PT1H
X-Robots-Tag:noindex
X-PUBLISHED-TTL:PT1H
BEGIN:VTIMEZONE
TZID:America/Chicago
BEGIN:DAYLIGHT
TZOFFSETFROM:-0600
TZOFFSETTO:-0500
TZNAME:CDT
DTSTART:20230312T080000
END:DAYLIGHT
BEGIN:STANDARD
TZOFFSETFROM:-0500
TZOFFSETTO:-0600
TZNAME:CST
DTSTART:20231105T070000
END:STANDARD
END:VTIMEZONE
BEGIN:VEVENT
DTSTART;TZID=America/Chicago:20230703T183000
DTEND;TZID=America/Chicago:20230703T200000
DTSTAMP:20260422T161542
CREATED:20230630T131833Z
LAST-MODIFIED:20230630T132648Z
UID:3421-1688409000-1688414400@mountainlakemn.com
SUMMARY:CANCELED: CITY COUNCIL MEETING
DESCRIPTION:
URL:https://mountainlakemn.com/event/canceled-city-council-meeting/
LOCATION:City Hall Council Chambers\, 930 Third Avenue\, Mountain Lake\, MN\, 56159
END:VEVENT
END:VCALENDAR