BEGIN:VCALENDAR
VERSION:2.0
PRODID:-//City of Mountain Lake - ECPv5.14.0.1//NONSGML v1.0//EN
CALSCALE:GREGORIAN
METHOD:PUBLISH
X-WR-CALNAME:City of Mountain Lake
X-ORIGINAL-URL:https://mountainlakemn.com
X-WR-CALDESC:Events for City of Mountain Lake
REFRESH-INTERVAL;VALUE=DURATION:PT1H
X-Robots-Tag:noindex
X-PUBLISHED-TTL:PT1H
BEGIN:VTIMEZONE
TZID:America/Chicago
BEGIN:DAYLIGHT
TZOFFSETFROM:-0600
TZOFFSETTO:-0500
TZNAME:CDT
DTSTART:20270314T080000
END:DAYLIGHT
BEGIN:STANDARD
TZOFFSETFROM:-0500
TZOFFSETTO:-0600
TZNAME:CST
DTSTART:20271107T070000
END:STANDARD
END:VTIMEZONE
BEGIN:VEVENT
DTSTART;TZID=America/Chicago:20270802T174500
DTEND;TZID=America/Chicago:20270802T210000
DTSTAMP:20260419T110236
CREATED:20220202T004521Z
LAST-MODIFIED:20260127T174026Z
UID:4528-1817228700-1817240400@mountainlakemn.com
SUMMARY:City Council Meeting
DESCRIPTION:Composed of a mayor and four council members. Council members serve for year terms; the mayor\, a two year term.
URL:https://mountainlakemn.com/event/city-council-meeting-2025-12-01/2027-08-02/
LOCATION:City Hall Council Chambers\, 930 Third Avenue\, Mountain Lake\, MN\, 56159
CATEGORIES:Meeting
END:VEVENT
BEGIN:VEVENT
DTSTART;TZID=America/Chicago:20270802T174500
DTEND;TZID=America/Chicago:20270802T210000
DTSTAMP:20260419T110236
CREATED:20220202T004521Z
LAST-MODIFIED:20220202T004521Z
UID:4836-1817228700-1817240400@mountainlakemn.com
SUMMARY:City Council Meeting
DESCRIPTION:Composed of a mayor and four council members. Council members serve for year terms; the mayor\, a two year term.
URL:https://mountainlakemn.com/event/city-council-meeting-2025-12-01/2027-08-02/
LOCATION:City Hall Council Chambers\, 930 Third Avenue\, Mountain Lake\, MN\, 56159
CATEGORIES:Meeting
END:VEVENT
BEGIN:VEVENT
DTSTART;TZID=America/Chicago:20270816T174500
DTEND;TZID=America/Chicago:20270816T210000
DTSTAMP:20260419T110236
CREATED:20220202T004521Z
LAST-MODIFIED:20220202T004521Z
UID:4857-1818438300-1818450000@mountainlakemn.com
SUMMARY:City Council Meeting
DESCRIPTION:Composed of a mayor and four council members. Council members serve for year terms; the mayor\, a two year term.
URL:https://mountainlakemn.com/event/city-council-meeting-2025-12-01/2027-08-16/
LOCATION:City Hall Council Chambers\, 930 Third Avenue\, Mountain Lake\, MN\, 56159
CATEGORIES:Meeting
END:VEVENT
BEGIN:VEVENT
DTSTART;TZID=America/Chicago:20270816T174500
DTEND;TZID=America/Chicago:20270816T210000
DTSTAMP:20260419T110236
CREATED:20220202T004521Z
LAST-MODIFIED:20260127T174026Z
UID:4659-1818438300-1818450000@mountainlakemn.com
SUMMARY:City Council Meeting
DESCRIPTION:Composed of a mayor and four council members. Council members serve for year terms; the mayor\, a two year term.
URL:https://mountainlakemn.com/event/city-council-meeting-2025-12-01/2027-08-16/
LOCATION:City Hall Council Chambers\, 930 Third Avenue\, Mountain Lake\, MN\, 56159
CATEGORIES:Meeting
END:VEVENT
BEGIN:VEVENT
DTSTART;TZID=America/Chicago:20270906T174500
DTEND;TZID=America/Chicago:20270906T210000
DTSTAMP:20260419T110236
CREATED:20220202T004521Z
LAST-MODIFIED:20220202T004521Z
UID:4837-1820252700-1820264400@mountainlakemn.com
SUMMARY:City Council Meeting
DESCRIPTION:Composed of a mayor and four council members. Council members serve for year terms; the mayor\, a two year term.
URL:https://mountainlakemn.com/event/city-council-meeting-2025-12-01/2027-09-06/
LOCATION:City Hall Council Chambers\, 930 Third Avenue\, Mountain Lake\, MN\, 56159
CATEGORIES:Meeting
END:VEVENT
BEGIN:VEVENT
DTSTART;TZID=America/Chicago:20270906T174500
DTEND;TZID=America/Chicago:20270906T210000
DTSTAMP:20260419T110236
CREATED:20220202T004521Z
LAST-MODIFIED:20260127T174026Z
UID:4529-1820252700-1820264400@mountainlakemn.com
SUMMARY:City Council Meeting
DESCRIPTION:Composed of a mayor and four council members. Council members serve for year terms; the mayor\, a two year term.
URL:https://mountainlakemn.com/event/city-council-meeting-2025-12-01/2027-09-06/
LOCATION:City Hall Council Chambers\, 930 Third Avenue\, Mountain Lake\, MN\, 56159
CATEGORIES:Meeting
END:VEVENT
BEGIN:VEVENT
DTSTART;TZID=America/Chicago:20270920T174500
DTEND;TZID=America/Chicago:20270920T210000
DTSTAMP:20260419T110236
CREATED:20220202T004521Z
LAST-MODIFIED:20260127T174026Z
UID:4660-1821462300-1821474000@mountainlakemn.com
SUMMARY:City Council Meeting
DESCRIPTION:Composed of a mayor and four council members. Council members serve for year terms; the mayor\, a two year term.
URL:https://mountainlakemn.com/event/city-council-meeting-2025-12-01/2027-09-20/
LOCATION:City Hall Council Chambers\, 930 Third Avenue\, Mountain Lake\, MN\, 56159
CATEGORIES:Meeting
END:VEVENT
BEGIN:VEVENT
DTSTART;TZID=America/Chicago:20270920T174500
DTEND;TZID=America/Chicago:20270920T210000
DTSTAMP:20260419T110236
CREATED:20220202T004521Z
LAST-MODIFIED:20220202T004521Z
UID:4858-1821462300-1821474000@mountainlakemn.com
SUMMARY:City Council Meeting
DESCRIPTION:Composed of a mayor and four council members. Council members serve for year terms; the mayor\, a two year term.
URL:https://mountainlakemn.com/event/city-council-meeting-2025-12-01/2027-09-20/
LOCATION:City Hall Council Chambers\, 930 Third Avenue\, Mountain Lake\, MN\, 56159
CATEGORIES:Meeting
END:VEVENT
BEGIN:VEVENT
DTSTART;TZID=America/Chicago:20271004T174500
DTEND;TZID=America/Chicago:20271004T210000
DTSTAMP:20260419T110236
CREATED:20220202T004521Z
LAST-MODIFIED:20260127T174028Z
UID:4530-1822671900-1822683600@mountainlakemn.com
SUMMARY:City Council Meeting
DESCRIPTION:Composed of a mayor and four council members. Council members serve for year terms; the mayor\, a two year term.
URL:https://mountainlakemn.com/event/city-council-meeting-2025-12-01/2027-10-04/
LOCATION:City Hall Council Chambers\, 930 Third Avenue\, Mountain Lake\, MN\, 56159
CATEGORIES:Meeting
END:VEVENT
BEGIN:VEVENT
DTSTART;TZID=America/Chicago:20271004T174500
DTEND;TZID=America/Chicago:20271004T210000
DTSTAMP:20260419T110236
CREATED:20220202T004521Z
LAST-MODIFIED:20220202T004521Z
UID:4838-1822671900-1822683600@mountainlakemn.com
SUMMARY:City Council Meeting
DESCRIPTION:Composed of a mayor and four council members. Council members serve for year terms; the mayor\, a two year term.
URL:https://mountainlakemn.com/event/city-council-meeting-2025-12-01/2027-10-04/
LOCATION:City Hall Council Chambers\, 930 Third Avenue\, Mountain Lake\, MN\, 56159
CATEGORIES:Meeting
END:VEVENT
BEGIN:VEVENT
DTSTART;TZID=America/Chicago:20271018T174500
DTEND;TZID=America/Chicago:20271018T210000
DTSTAMP:20260419T110236
CREATED:20220202T004521Z
LAST-MODIFIED:20260127T174028Z
UID:4661-1823881500-1823893200@mountainlakemn.com
SUMMARY:City Council Meeting
DESCRIPTION:Composed of a mayor and four council members. Council members serve for year terms; the mayor\, a two year term.
URL:https://mountainlakemn.com/event/city-council-meeting-2025-12-01/2027-10-18/
LOCATION:City Hall Council Chambers\, 930 Third Avenue\, Mountain Lake\, MN\, 56159
CATEGORIES:Meeting
END:VEVENT
BEGIN:VEVENT
DTSTART;TZID=America/Chicago:20271018T174500
DTEND;TZID=America/Chicago:20271018T210000
DTSTAMP:20260419T110236
CREATED:20220202T004521Z
LAST-MODIFIED:20220202T004521Z
UID:4859-1823881500-1823893200@mountainlakemn.com
SUMMARY:City Council Meeting
DESCRIPTION:Composed of a mayor and four council members. Council members serve for year terms; the mayor\, a two year term.
URL:https://mountainlakemn.com/event/city-council-meeting-2025-12-01/2027-10-18/
LOCATION:City Hall Council Chambers\, 930 Third Avenue\, Mountain Lake\, MN\, 56159
CATEGORIES:Meeting
END:VEVENT
BEGIN:VEVENT
DTSTART;TZID=America/Chicago:20271101T174500
DTEND;TZID=America/Chicago:20271101T210000
DTSTAMP:20260419T110236
CREATED:20220202T004521Z
LAST-MODIFIED:20220202T004521Z
UID:4839-1825091100-1825102800@mountainlakemn.com
SUMMARY:City Council Meeting
DESCRIPTION:Composed of a mayor and four council members. Council members serve for year terms; the mayor\, a two year term.
URL:https://mountainlakemn.com/event/city-council-meeting-2025-12-01/2027-11-01/
LOCATION:City Hall Council Chambers\, 930 Third Avenue\, Mountain Lake\, MN\, 56159
CATEGORIES:Meeting
END:VEVENT
BEGIN:VEVENT
DTSTART;TZID=America/Chicago:20271101T174500
DTEND;TZID=America/Chicago:20271101T210000
DTSTAMP:20260419T110236
CREATED:20220202T004521Z
LAST-MODIFIED:20260127T172719Z
UID:4531-1825091100-1825102800@mountainlakemn.com
SUMMARY:City Council Meeting
DESCRIPTION:Composed of a mayor and four council members. Council members serve for year terms; the mayor\, a two year term.
URL:https://mountainlakemn.com/event/city-council-meeting-2025-12-01/2027-11-01/
LOCATION:City Hall Council Chambers\, 930 Third Avenue\, Mountain Lake\, MN\, 56159
CATEGORIES:Meeting
END:VEVENT
BEGIN:VEVENT
DTSTART;TZID=America/Chicago:20271115T174500
DTEND;TZID=America/Chicago:20271115T210000
DTSTAMP:20260419T110236
CREATED:20220202T004521Z
LAST-MODIFIED:20220202T004521Z
UID:4662-1826300700-1826312400@mountainlakemn.com
SUMMARY:City Council Meeting
DESCRIPTION:Composed of a mayor and four council members. Council members serve for year terms; the mayor\, a two year term.
URL:https://mountainlakemn.com/event/city-council-meeting-2025-12-01/2027-11-15/
LOCATION:City Hall Council Chambers\, 930 Third Avenue\, Mountain Lake\, MN\, 56159
CATEGORIES:Meeting
END:VEVENT
BEGIN:VEVENT
DTSTART;TZID=America/Chicago:20271115T174500
DTEND;TZID=America/Chicago:20271115T210000
DTSTAMP:20260419T110236
CREATED:20220202T004521Z
LAST-MODIFIED:20220202T004521Z
UID:4860-1826300700-1826312400@mountainlakemn.com
SUMMARY:City Council Meeting
DESCRIPTION:Composed of a mayor and four council members. Council members serve for year terms; the mayor\, a two year term.
URL:https://mountainlakemn.com/event/city-council-meeting-2025-12-01/2027-11-15/
LOCATION:City Hall Council Chambers\, 930 Third Avenue\, Mountain Lake\, MN\, 56159
CATEGORIES:Meeting
END:VEVENT
BEGIN:VEVENT
DTSTART;TZID=America/Chicago:20271206T174500
DTEND;TZID=America/Chicago:20271206T210000
DTSTAMP:20260419T110236
CREATED:20220202T004521Z
LAST-MODIFIED:20220202T004521Z
UID:4840-1828115100-1828126800@mountainlakemn.com
SUMMARY:City Council Meeting
DESCRIPTION:Composed of a mayor and four council members. Council members serve for year terms; the mayor\, a two year term.
URL:https://mountainlakemn.com/event/city-council-meeting-2025-12-01/2027-12-06/
LOCATION:City Hall Council Chambers\, 930 Third Avenue\, Mountain Lake\, MN\, 56159
CATEGORIES:Meeting
END:VEVENT
BEGIN:VEVENT
DTSTART;TZID=America/Chicago:20271206T174500
DTEND;TZID=America/Chicago:20271206T210000
DTSTAMP:20260419T110236
CREATED:20220202T004521Z
LAST-MODIFIED:20260127T172720Z
UID:4532-1828115100-1828126800@mountainlakemn.com
SUMMARY:City Council Meeting
DESCRIPTION:Composed of a mayor and four council members. Council members serve for year terms; the mayor\, a two year term.
URL:https://mountainlakemn.com/event/city-council-meeting-2025-12-01/2027-12-06/
LOCATION:City Hall Council Chambers\, 930 Third Avenue\, Mountain Lake\, MN\, 56159
CATEGORIES:Meeting
END:VEVENT
BEGIN:VEVENT
DTSTART;TZID=America/Chicago:20271220T174500
DTEND;TZID=America/Chicago:20271220T210000
DTSTAMP:20260419T110236
CREATED:20220202T004521Z
LAST-MODIFIED:20220202T004521Z
UID:4663-1829324700-1829336400@mountainlakemn.com
SUMMARY:City Council Meeting
DESCRIPTION:Composed of a mayor and four council members. Council members serve for year terms; the mayor\, a two year term.
URL:https://mountainlakemn.com/event/city-council-meeting-2025-12-01/2027-12-20/
LOCATION:City Hall Council Chambers\, 930 Third Avenue\, Mountain Lake\, MN\, 56159
CATEGORIES:Meeting
END:VEVENT
BEGIN:VEVENT
DTSTART;TZID=America/Chicago:20271220T174500
DTEND;TZID=America/Chicago:20271220T210000
DTSTAMP:20260419T110236
CREATED:20220202T004521Z
LAST-MODIFIED:20220202T004521Z
UID:4861-1829324700-1829336400@mountainlakemn.com
SUMMARY:City Council Meeting
DESCRIPTION:Composed of a mayor and four council members. Council members serve for year terms; the mayor\, a two year term.
URL:https://mountainlakemn.com/event/city-council-meeting-2025-12-01/2027-12-20/
LOCATION:City Hall Council Chambers\, 930 Third Avenue\, Mountain Lake\, MN\, 56159
CATEGORIES:Meeting
END:VEVENT
END:VCALENDAR